BEGIN:VCALENDAR
VERSION:2.0
PRODID:-//Hardloopevenementen - ECPv6.15.14//NONSGML v1.0//EN
CALSCALE:GREGORIAN
METHOD:PUBLISH
X-WR-CALNAME:Hardloopevenementen
X-ORIGINAL-URL:https://hardloopevenementen.com
X-WR-CALDESC:Evenementen voor Hardloopevenementen
REFRESH-INTERVAL;VALUE=DURATION:PT1H
X-Robots-Tag:noindex
X-PUBLISHED-TTL:PT1H
BEGIN:VTIMEZONE
TZID:UTC
BEGIN:STANDARD
TZOFFSETFROM:+0000
TZOFFSETTO:+0000
TZNAME:UTC
DTSTART:20120101T000000
END:STANDARD
END:VTIMEZONE
BEGIN:VEVENT
DTSTART;VALUE=DATE:20150705
DTEND;VALUE=DATE:20150706
DTSTAMP:20260425T185300
CREATED:20060917T190120Z
LAST-MODIFIED:20190423T111044Z
UID:10112-1436054400-1436054400@hardloopevenementen.com
SUMMARY:De 50 van Assen Assen (DR)
DESCRIPTION:Doe mee met het hardloopevenement De 50 van Assen te Assen (DR) op zo 05 jul 2015. De volgende afstanden staan op het programma: 0\,1 km – 5 km – 10 km hardlopen. Wilt u inschrijven voor dit loopevenement?  Raadpleeg hiervoor dan de website van de organisatie\nDe uitslagen van deze hardloopwedstrijd zijn te raadplegen via dezelfde website of via de bekende websites zoals uitslagen.nl\, runtimer en mylaps. Doet u mee met dit evenement\, zorg dan dat u goed voorbereid aan de start staat! Met een goed trainingsschema komt u een heel eind. Train bijvoorbeeld met start to run van Evy Gruyaert. Download de start to run mp3 bestanden en zet ze op uw telefoon. Oortjes in\, hit the play button en en rennen maar! \n\n\n\n\nMeer informatie over De 50 van Assen op Hardloopkalender.nl  \nHet loopevenement De 50 van Assen te Assen vindt plaats op zondag 05 juli 2015. \n  \n  \n 
URL:https://hardloopevenementen.com/loopagenda/de-50-van-assen-assen-dr/
END:VEVENT
BEGIN:VEVENT
DTSTART;VALUE=DATE:20140706
DTEND;VALUE=DATE:20140707
DTSTAMP:20260425T185300
CREATED:20070418T203709Z
LAST-MODIFIED:20190423T105321Z
UID:33643-1404604800-1404604800@hardloopevenementen.com
SUMMARY:De 50 van Assen Assen (DR)
DESCRIPTION:Doe mee met het hardloopevenement De 50 van Assen te Assen (DR) op zo 06 jul 2014. De volgende afstanden staan op het programma: 0\,1 km – 5 km hardlopen. Wilt u inschrijven voor dit loopevenement?  Raadpleeg hiervoor dan de website van de organisatie\nDe uitslagen van deze hardloopwedstrijd zijn te raadplegen via dezelfde website of via de bekende websites zoals uitslagen.nl\, runtimer en mylaps. Doet u mee met dit evenement\, zorg dan dat u goed voorbereid aan de start staat! Met een goed trainingsschema komt u een heel eind. Train bijvoorbeeld met start to run van Evy Gruyaert. Download de start to run mp3 bestanden en zet ze op uw telefoon. Oortjes in\, hit the play button en en rennen maar! \n\n\n\n\nMeer informatie over De 50 van Assen op Hardloopkalender.nl  \nHet loopevenement De 50 van Assen te Assen vindt plaats op zondag 06 juli 2014. De loop wordt georganisseerd door AAC `61. Klik hier voor het adres van de start (Google Maps).Bijzonderheden: 50 km ook voor estafette teams. \n  \n  \n 
URL:https://hardloopevenementen.com/loopagenda/de-50-van-assen-assen-dr-4/
END:VEVENT
BEGIN:VEVENT
DTSTART;VALUE=DATE:20130707
DTEND;VALUE=DATE:20130708
DTSTAMP:20260425T185300
CREATED:20071201T062002Z
LAST-MODIFIED:20190423T104125Z
UID:31431-1373155200-1373155200@hardloopevenementen.com
SUMMARY:De 50 van Assen Assen (DR)
DESCRIPTION:Doe mee met het hardloopevenement De 50 van Assen te Assen (DR) op zo 07 jul 2013. De volgende afstanden staan op het programma: 0\,1 km – 5 km hardlopen. Wilt u inschrijven voor dit loopevenement?  Raadpleeg hiervoor dan de website van de organisatie\nDe uitslagen van deze hardloopwedstrijd zijn te raadplegen via dezelfde website of via de bekende websites zoals uitslagen.nl\, runtimer en mylaps. Doet u mee met dit evenement\, zorg dan dat u goed voorbereid aan de start staat! Met een goed trainingsschema komt u een heel eind. Train bijvoorbeeld met start to run van Evy Gruyaert. Download de start to run mp3 bestanden en zet ze op uw telefoon. Oortjes in\, hit the play button en en rennen maar! \n\n\n\n\nMeer informatie over De 50 van Assen op Hardloopkalender.nl  \nHet loopevenement De 50 van Assen te Assen vindt plaats op zondag 07 juli 2013. De loop wordt georganisseerd door AAC `61. Inschrijven is mogelijk vanaf 01 januari 2013. Klik hier voor het adres van de start (Google Maps).Er is verkleedaccomodatie met douchemogelijkheid aanwezig. Er is EHBO aanwezig. Bijzonderheden: 50 km ook voor estafette teams.Voor meer informatie:AAC '61mail@de50vanassen.nl0592313340http:  www.de50vanassen.nl \n  \n  \n 
URL:https://hardloopevenementen.com/loopagenda/de-50-van-assen-assen-dr-3/
END:VEVENT
END:VCALENDAR