BEGIN:VCALENDAR
VERSION:2.0
PRODID:-//Hardloopevenementen - ECPv6.15.14//NONSGML v1.0//EN
CALSCALE:GREGORIAN
METHOD:PUBLISH
X-ORIGINAL-URL:https://hardloopevenementen.com
X-WR-CALDESC:Evenementen voor Hardloopevenementen
REFRESH-INTERVAL;VALUE=DURATION:PT1H
X-Robots-Tag:noindex
X-PUBLISHED-TTL:PT1H
BEGIN:VTIMEZONE
TZID:UTC
BEGIN:STANDARD
TZOFFSETFROM:+0000
TZOFFSETTO:+0000
TZNAME:UTC
DTSTART:20120101T000000
END:STANDARD
END:VTIMEZONE
BEGIN:VEVENT
DTSTART;VALUE=DATE:20141004
DTEND;VALUE=DATE:20141005
DTSTAMP:20260423T062519
CREATED:20110320T001727Z
LAST-MODIFIED:20190423T105055Z
UID:9015-1412380800-1412380800@hardloopevenementen.com
SUMMARY:Rondje Dronten Dronten (FL)
DESCRIPTION:Doe mee met het hardloopevenement Rondje Dronten te Dronten (FL) op za 04 okt 2014. De volgende afstanden staan op het programma: 0\,1 km hardlopen. Wilt u inschrijven voor dit loopevenement?  Raadpleeg hiervoor dan de website van de organisatie\nDe uitslagen van deze hardloopwedstrijd zijn te raadplegen via dezelfde website of via de bekende websites zoals uitslagen.nl\, runtimer en mylaps. Doet u mee met dit evenement\, zorg dan dat u goed voorbereid aan de start staat! Met een goed trainingsschema komt u een heel eind. Train bijvoorbeeld met start to run van Evy Gruyaert. Download de start to run mp3 bestanden en zet ze op uw telefoon. Oortjes in\, hit the play button en en rennen maar! \n\n\n\n\nMeer informatie over Rondje Dronten op Hardloopkalender.nl  \nHet loopevenement Rondje Dronten te Dronten vindt plaats op zaterdag 04 oktober 2014. De loop wordt georganisseerd door AV Flevo Delta. Klik hier voor het adres van de start (Google Maps).Bijzonderheden: Teamestafette;bijzonderheden op onze website. \n  \n  \n 
URL:https://hardloopevenementen.com/loopagenda/rondje-dronten-dronten-fl-2/
END:VEVENT
BEGIN:VEVENT
DTSTART;VALUE=DATE:20131012
DTEND;VALUE=DATE:20131013
DTSTAMP:20260423T062519
CREATED:20160410T152448Z
LAST-MODIFIED:20190423T103918Z
UID:8312-1381536000-1381536000@hardloopevenementen.com
SUMMARY:Rondje Dronten Dronten (FL)
DESCRIPTION:Doe mee met het hardloopevenement Rondje Dronten te Dronten (FL) op za 12 okt 2013. De volgende afstanden staan op het programma: 0\,1 km hardlopen. Wilt u inschrijven voor dit loopevenement?  Raadpleeg hiervoor dan de website van de organisatie\nDe uitslagen van deze hardloopwedstrijd zijn te raadplegen via dezelfde website of via de bekende websites zoals uitslagen.nl\, runtimer en mylaps. Doet u mee met dit evenement\, zorg dan dat u goed voorbereid aan de start staat! Met een goed trainingsschema komt u een heel eind. Train bijvoorbeeld met start to run van Evy Gruyaert. Download de start to run mp3 bestanden en zet ze op uw telefoon. Oortjes in\, hit the play button en en rennen maar! \n\n\n\n\nMeer informatie over Rondje Dronten op Hardloopkalender.nl  \nHet loopevenement Rondje Dronten te Dronten vindt plaats op zaterdag 12 oktober 2013. De loop wordt georganisseerd door AV Flevo Delta. Inschrijven is mogelijk vanaf 01 september 2013. Klik hier voor het adres van de start (Google Maps).Er is verkleedaccomodatie met douchemogelijkheid aanwezig. Er is EHBO aanwezig. Bijzonderheden: Teamestafette;bijzonderheden op onze website.Voor meer informatie:M. Schadeewoc@avflevodelta.nl0321317483http:  www.avflevodelta.nl \n  \n  \n 
URL:https://hardloopevenementen.com/loopagenda/rondje-dronten-dronten-fl/
END:VEVENT
END:VCALENDAR