BEGIN:VCALENDAR
VERSION:2.0
PRODID:-//Hardloopevenementen - ECPv6.15.14//NONSGML v1.0//EN
CALSCALE:GREGORIAN
METHOD:PUBLISH
X-WR-CALNAME:Hardloopevenementen
X-ORIGINAL-URL:https://hardloopevenementen.com
X-WR-CALDESC:Evenementen voor Hardloopevenementen
REFRESH-INTERVAL;VALUE=DURATION:PT1H
X-Robots-Tag:noindex
X-PUBLISHED-TTL:PT1H
BEGIN:VTIMEZONE
TZID:UTC
BEGIN:STANDARD
TZOFFSETFROM:+0000
TZOFFSETTO:+0000
TZNAME:UTC
DTSTART:20120101T000000
END:STANDARD
END:VTIMEZONE
BEGIN:VEVENT
DTSTART;VALUE=DATE:20130414
DTEND;VALUE=DATE:20130415
DTSTAMP:20260421T080219
CREATED:20070418T172334Z
LAST-MODIFIED:20190423T104331Z
UID:31903-1365897600-1365897600@hardloopevenementen.com
SUMMARY:ABN AMRO Marathon Rotterdam Rotterdam (ZH)
DESCRIPTION:Doe mee met het hardloopevenement ABN AMRO Marathon Rotterdam te Rotterdam (ZH) op zo 14 apr 2013. De volgende afstanden staan op het programma: 0\,1 km – 5 km – 10 km – marathon hardlopen. Wilt u inschrijven voor dit loopevenement?  Raadpleeg hiervoor dan de website van de organisatie\nDe uitslagen van deze hardloopwedstrijd zijn te raadplegen via dezelfde website of via de bekende websites zoals uitslagen.nl\, runtimer en mylaps. Doet u mee met dit evenement\, zorg dan dat u goed voorbereid aan de start staat! Met een goed trainingsschema komt u een heel eind. Train bijvoorbeeld met start to run van Evy Gruyaert. Download de start to run mp3 bestanden en zet ze op uw telefoon. Oortjes in\, hit the play button en en rennen maar! \n\n\n\n\nMeer informatie over ABN AMRO Marathon Rotterdam op Hardloopkalender.nl  \nHet loopevenement ABN AMRO Marathon Rotterdam te Rotterdam vindt plaats op zondag 14 april 2013. De loop wordt georganisseerd door Rotterdam Marathon B.V.. Inschrijven is mogelijk vanaf 20 september 2012. Klik hier voor het adres van de start (Google Maps).Er is verkleedaccomodatie met douchemogelijkheid aanwezig. Er is EHBO aanwezig. Bijzonderheden: Snelste ter wereld o.b.v. de 10 tijden. Grootste eendaagse sportevenement van NL.Voor meer informatie:Info ABN AMRO Marathon Rotterdaminfo@marathonrotterdam.nl0100000000http:  www.marathonrotterdam.nl \n  \n  \n 
URL:https://hardloopevenementen.com/loopagenda/abn-amro-marathon-rotterdam-rotterdam-zh-3/
END:VEVENT
END:VCALENDAR