BEGIN:VCALENDAR
VERSION:2.0
PRODID:-//Hardloopevenementen - ECPv6.15.14//NONSGML v1.0//EN
CALSCALE:GREGORIAN
METHOD:PUBLISH
X-ORIGINAL-URL:https://hardloopevenementen.com
X-WR-CALDESC:Evenementen voor Hardloopevenementen
REFRESH-INTERVAL;VALUE=DURATION:PT1H
X-Robots-Tag:noindex
X-PUBLISHED-TTL:PT1H
BEGIN:VTIMEZONE
TZID:UTC
BEGIN:STANDARD
TZOFFSETFROM:+0000
TZOFFSETTO:+0000
TZNAME:UTC
DTSTART:20120101T000000
END:STANDARD
END:VTIMEZONE
BEGIN:VEVENT
DTSTART;VALUE=DATE:20150214
DTEND;VALUE=DATE:20150215
DTSTAMP:20260426T005758
CREATED:20161230T141838Z
LAST-MODIFIED:20190423T111429Z
UID:11051-1423872000-1423872000@hardloopevenementen.com
SUMMARY:3e TexelTrail Texel (NH)
DESCRIPTION:Doe mee met het hardloopevenement 3e TexelTrail te Texel (NH) op za 14 feb 2015. De volgende afstanden staan op het programma: 0\,1 km – 14\,5 km – 25 km – 39\,5 km hardlopen. Wilt u inschrijven voor dit loopevenement?  Raadpleeg hiervoor dan de website van de organisatie\nDe uitslagen van deze hardloopwedstrijd zijn te raadplegen via dezelfde website of via de bekende websites zoals uitslagen.nl\, runtimer en mylaps. Doet u mee met dit evenement\, zorg dan dat u goed voorbereid aan de start staat! Met een goed trainingsschema komt u een heel eind. Train bijvoorbeeld met start to run van Evy Gruyaert. Download de start to run mp3 bestanden en zet ze op uw telefoon. Oortjes in\, hit the play button en en rennen maar! \n\n\n\n\nMeer informatie over 3e TexelTrail op Hardloopkalender.nl  \nHet loopevenement 3e TexelTrail te Texel vindt plaats op zaterdag 14 februari 2015. \n  \n  \n 
URL:https://hardloopevenementen.com/loopagenda/3e-texeltrail-texel-nh/
END:VEVENT
BEGIN:VEVENT
DTSTART;VALUE=DATE:20130401
DTEND;VALUE=DATE:20130402
DTSTAMP:20260426T005758
CREATED:20100824T001238Z
LAST-MODIFIED:20190423T104353Z
UID:31981-1364774400-1364774400@hardloopevenementen.com
SUMMARY:12e De Zestig van Texel Texel (NH)
DESCRIPTION:Doe mee met het hardloopevenement 12e De Zestig van Texel te Texel (NH) op ma 01 apr 2013. De volgende afstanden staan op het programma: 0\,1 km – 5 km hardlopen. Wilt u inschrijven voor dit loopevenement?  Raadpleeg hiervoor dan de website van de organisatie\nDe uitslagen van deze hardloopwedstrijd zijn te raadplegen via dezelfde website of via de bekende websites zoals uitslagen.nl\, runtimer en mylaps. Doet u mee met dit evenement\, zorg dan dat u goed voorbereid aan de start staat! Met een goed trainingsschema komt u een heel eind. Train bijvoorbeeld met start to run van Evy Gruyaert. Download de start to run mp3 bestanden en zet ze op uw telefoon. Oortjes in\, hit the play button en en rennen maar! \n\n\n\n\nMeer informatie over 12e De Zestig van Texel op Hardloopkalender.nl  \nHet loopevenement 12e De Zestig van Texel te Texel vindt plaats op maandag 01 april 2013. De loop wordt georganisseerd door AV Texel. Inschrijven is mogelijk vanaf 01 september 2012. Klik hier voor het adres van de start (Google Maps).Er is verkleedaccomodatie met douchemogelijkheid aanwezig. Er is EHBO aanwezig. Bijzonderheden: Tweejaarlijks: op Tweede Paasdag in de oneven jaren. Limiet: 7 uur..Voor meer informatie:Piet Bakelaarinfo@dezestigvantexel.nl0222313843http:  www.dezestigvantexel.nl \n  \n  \n 
URL:https://hardloopevenementen.com/loopagenda/12e-de-zestig-van-texel-texel-nh/
END:VEVENT
END:VCALENDAR