BEGIN:VCALENDAR
VERSION:2.0
PRODID:-//Hardloopevenementen - ECPv6.15.14//NONSGML v1.0//EN
CALSCALE:GREGORIAN
METHOD:PUBLISH
X-ORIGINAL-URL:https://hardloopevenementen.com
X-WR-CALDESC:Evenementen voor Hardloopevenementen
REFRESH-INTERVAL;VALUE=DURATION:PT1H
X-Robots-Tag:noindex
X-PUBLISHED-TTL:PT1H
BEGIN:VTIMEZONE
TZID:UTC
BEGIN:STANDARD
TZOFFSETFROM:+0000
TZOFFSETTO:+0000
TZNAME:UTC
DTSTART:20080101T000000
END:STANDARD
END:VTIMEZONE
BEGIN:VEVENT
DTSTART;VALUE=DATE:20091003
DTEND;VALUE=DATE:20091004
DTSTAMP:20260426T030814
CREATED:20100510T165002Z
LAST-MODIFIED:20190423T095825Z
UID:1703-1254528000-1254528000@hardloopevenementen.com
SUMMARY:Rabobankloop Alblasserdam (ZH)
DESCRIPTION:Doe mee met het hardloopevenement Rabobankloop te Alblasserdam (ZH) op za 03 okt 2009. De volgende afstanden staan op het programma: 0\,3 km – 1 km – 2 km – 3 km – 6 km – 8 km – 10 km – halve marathon hardlopen. Wilt u inschrijven voor dit loopevenement?  Raadpleeg hiervoor dan de website van de organisatie\nDe uitslagen van deze hardloopwedstrijd zijn te raadplegen via dezelfde website of via de bekende websites zoals uitslagen.nl\, runtimer en mylaps. Doet u mee met dit evenement\, zorg dan dat u goed voorbereid aan de start staat! Met een goed trainingsschema komt u een heel eind. Train bijvoorbeeld met start to run van Evy Gruyaert. Download de start to run mp3 bestanden en zet ze op uw telefoon. Oortjes in\, hit the play button en en rennen maar! \n\n\n\n\nMeer informatie over Rabobankloop op Hardloopkalender.nl  \n0\,3 km 11:40 uur\, 1 km 11:55 uur\, 2 km 12:10 uur\, 3 km 12:30 uur\, 10-21\,1 km 13:00 uur \n  \n  \n 
URL:https://hardloopevenementen.com/loopagenda/rabobankloop-alblasserdam-zh/
END:VEVENT
END:VCALENDAR