BEGIN:VCALENDAR
VERSION:2.0
PRODID:-//Hardloopevenementen - ECPv6.15.14//NONSGML v1.0//EN
CALSCALE:GREGORIAN
METHOD:PUBLISH
X-ORIGINAL-URL:https://hardloopevenementen.com
X-WR-CALDESC:Evenementen voor Hardloopevenementen
REFRESH-INTERVAL;VALUE=DURATION:PT1H
X-Robots-Tag:noindex
X-PUBLISHED-TTL:PT1H
BEGIN:VTIMEZONE
TZID:UTC
BEGIN:STANDARD
TZOFFSETFROM:+0000
TZOFFSETTO:+0000
TZNAME:UTC
DTSTART:20140101T000000
END:STANDARD
END:VTIMEZONE
BEGIN:VEVENT
DTSTART;VALUE=DATE:20150623
DTEND;VALUE=DATE:20150624
DTSTAMP:20260422T050720
CREATED:20120225T005110Z
LAST-MODIFIED:20190423T111105Z
UID:10198-1435017600-1435017600@hardloopevenementen.com
SUMMARY:Jeroen Bosch Loop Den Bosch\, gemeente 's-Hertogenbosch (NB)
DESCRIPTION:Doe mee met het hardloopevenement Jeroen Bosch Loop te Den Bosch\, gemeente ‘s-Hertogenbosch (NB) op di 23 jun 2015. De volgende afstanden staan op het programma: 0\,4 km – 0\,8 km – 5 km – 10 km hardlopen. Wilt u inschrijven voor dit loopevenement?  Raadpleeg hiervoor dan de website van de organisatie\nDe uitslagen van deze hardloopwedstrijd zijn te raadplegen via dezelfde website of via de bekende websites zoals uitslagen.nl\, runtimer en mylaps. Doet u mee met dit evenement\, zorg dan dat u goed voorbereid aan de start staat! Met een goed trainingsschema komt u een heel eind. Train bijvoorbeeld met start to run van Evy Gruyaert. Download de start to run mp3 bestanden en zet ze op uw telefoon. Oortjes in\, hit the play button en en rennen maar! \n\n\n\n\nMeer informatie over Jeroen Bosch Loop op Hardloopkalender.nl  \nHet loopevenement Jeroen Bosch Loop te Pettelaarse Schans ‘S-Hertogenbosch vindt plaats op dinsdag 23 juni 2015. \n  \n  \n 
URL:https://hardloopevenementen.com/loopagenda/jeroen-bosch-loop-den-bosch-gemeente-s-hertogenbosch-nb/
END:VEVENT
END:VCALENDAR