BEGIN:VCALENDAR
VERSION:2.0
PRODID:-//Hardloopevenementen - ECPv6.15.14//NONSGML v1.0//EN
CALSCALE:GREGORIAN
METHOD:PUBLISH
X-ORIGINAL-URL:https://hardloopevenementen.com
X-WR-CALDESC:Evenementen voor Hardloopevenementen
REFRESH-INTERVAL;VALUE=DURATION:PT1H
X-Robots-Tag:noindex
X-PUBLISHED-TTL:PT1H
BEGIN:VTIMEZONE
TZID:UTC
BEGIN:STANDARD
TZOFFSETFROM:+0000
TZOFFSETTO:+0000
TZNAME:UTC
DTSTART:20140101T000000
END:STANDARD
END:VTIMEZONE
BEGIN:VEVENT
DTSTART;VALUE=DATE:20150828
DTEND;VALUE=DATE:20150829
DTSTAMP:20260424T194335
CREATED:20141020T164717Z
LAST-MODIFIED:20190423T110950Z
UID:9922-1440720000-1440720000@hardloopevenementen.com
SUMMARY:Streetrun Oldebroek Oldebroek (GE)
DESCRIPTION:Doe mee met het hardloopevenement Streetrun Oldebroek te Oldebroek (GE) op vr 28 aug 2015. De volgende afstanden staan op het programma: 0\,6 km – 2 km – 4 km – 8 km hardlopen. Wilt u inschrijven voor dit loopevenement?  Raadpleeg hiervoor dan de website van de organisatie\nDe uitslagen van deze hardloopwedstrijd zijn te raadplegen via dezelfde website of via de bekende websites zoals uitslagen.nl\, runtimer en mylaps. Doet u mee met dit evenement\, zorg dan dat u goed voorbereid aan de start staat! Met een goed trainingsschema komt u een heel eind. Train bijvoorbeeld met start to run van Evy Gruyaert. Download de start to run mp3 bestanden en zet ze op uw telefoon. Oortjes in\, hit the play button en en rennen maar! \n\n\n\n\nMeer informatie over Streetrun Oldebroek op Hardloopkalender.nl  \nHet loopevenement Streetrun Oldebroek te Oldebroek vindt plaats op vrijdag 28 augustus 2015.     de afstanden en starttijden zijn als volgt    1   km jeugd      18.30  2   km jeugd      19.00  5   km                 19.45  10 km                 19.45    het parcour leent zich goed als voorbereiding op een veldloop en een mud master.    alle afstanden 1ste\,2de en 3de prijs zowel voor de dames als heren en er zijn ook nog aantrekkelijke waardebonnen te verdienen \n  \n  \n 
URL:https://hardloopevenementen.com/loopagenda/streetrun-oldebroek-oldebroek-ge/
END:VEVENT
BEGIN:VEVENT
DTSTART;VALUE=DATE:20150704
DTEND;VALUE=DATE:20150705
DTSTAMP:20260424T194335
CREATED:20150501T053449Z
LAST-MODIFIED:20190423T111047Z
UID:10120-1435968000-1435968000@hardloopevenementen.com
SUMMARY:3e editie Run for Joyce Oldebroek (GE)
DESCRIPTION:Doe mee met het hardloopevenement 3e editie Run for Joyce te Oldebroek (GE) op za 04 jul 2015. De volgende afstanden staan op het programma: 0\,6 km – 1\,3 km – 3\,2 km – 6\,4 km – 9\,7 km hardlopen. Wilt u inschrijven voor dit loopevenement?  Raadpleeg hiervoor dan de website van de organisatie\nDe uitslagen van deze hardloopwedstrijd zijn te raadplegen via dezelfde website of via de bekende websites zoals uitslagen.nl\, runtimer en mylaps. Doet u mee met dit evenement\, zorg dan dat u goed voorbereid aan de start staat! Met een goed trainingsschema komt u een heel eind. Train bijvoorbeeld met start to run van Evy Gruyaert. Download de start to run mp3 bestanden en zet ze op uw telefoon. Oortjes in\, hit the play button en en rennen maar! \n\n\n\n\nMeer informatie over 3e editie Run for Joyce op Hardloopkalender.nl  \nRun for Joyce is een uniek hardloopevenement op een boomkwekerij. De lopers gaan over verharde paden en een stukje door de kas. Voor zowel de beginnende loper als de getrainde wedstrijdatleet een prachtig evenement om aan deel te nemen. Daarnaast zijn er 2 afstanden voor de kids. In 2015 is de 3e editie\, zorg dat je erbij bent! \n  \n  \n 
URL:https://hardloopevenementen.com/loopagenda/3e-editie-run-for-joyce-oldebroek-ge/
END:VEVENT
END:VCALENDAR