BEGIN:VCALENDAR
VERSION:2.0
PRODID:-//Hardloopevenementen - ECPv6.15.14//NONSGML v1.0//EN
CALSCALE:GREGORIAN
METHOD:PUBLISH
X-WR-CALNAME:Hardloopevenementen
X-ORIGINAL-URL:https://hardloopevenementen.com
X-WR-CALDESC:Evenementen voor Hardloopevenementen
REFRESH-INTERVAL;VALUE=DURATION:PT1H
X-Robots-Tag:noindex
X-PUBLISHED-TTL:PT1H
BEGIN:VTIMEZONE
TZID:UTC
BEGIN:STANDARD
TZOFFSETFROM:+0000
TZOFFSETTO:+0000
TZNAME:UTC
DTSTART:20080101T000000
END:STANDARD
END:VTIMEZONE
BEGIN:VEVENT
DTSTART;VALUE=DATE:20090125
DTEND;VALUE=DATE:20090126
DTSTAMP:20260424T004031
CREATED:20160214T193247Z
LAST-MODIFIED:20190423T100340Z
UID:2852-1232841600-1232841600@hardloopevenementen.com
SUMMARY:Opkikkerloop Almere (FL)
DESCRIPTION:Doe mee met het hardloopevenement Opkikkerloop te Almere (FL) op zo 25 jan 2009. De volgende afstanden staan op het programma: 0\,7 km – 1\,5 km – 5 km – 10 km hardlopen. Wilt u inschrijven voor dit loopevenement?  Raadpleeg hiervoor dan de website van de organisatie\nDe uitslagen van deze hardloopwedstrijd zijn te raadplegen via dezelfde website of via de bekende websites zoals uitslagen.nl\, runtimer en mylaps. Doet u mee met dit evenement\, zorg dan dat u goed voorbereid aan de start staat! Met een goed trainingsschema komt u een heel eind. Train bijvoorbeeld met start to run van Evy Gruyaert. Download de start to run mp3 bestanden en zet ze op uw telefoon. Oortjes in\, hit the play button en en rennen maar! \n\n\n\n\nMeer informatie over Opkikkerloop op Hardloopkalender.nl  \nDeelnemers schrijven zich in via http:  www.opkikkerloop.nl of tijdens de na-inschrijving op 25 januari 2009. 50% van het inschrijfgeld zal direct naar stichting de Opkikker gaan. De andere 50% wordt gebruikt om dit evenement te kunnen organiseren\, niet alleen op 25 januari 2009 maar ook een jaar later tijdens de tweede editie van de Opkikkerloop in 2010! \n  \n  \n 
URL:https://hardloopevenementen.com/loopagenda/opkikkerloop-almere-fl/
END:VEVENT
END:VCALENDAR