BEGIN:VCALENDAR
VERSION:2.0
PRODID:-//Hardloopevenementen - ECPv6.15.14//NONSGML v1.0//EN
CALSCALE:GREGORIAN
METHOD:PUBLISH
X-WR-CALNAME:Hardloopevenementen
X-ORIGINAL-URL:https://hardloopevenementen.com
X-WR-CALDESC:Evenementen voor Hardloopevenementen
REFRESH-INTERVAL;VALUE=DURATION:PT1H
X-Robots-Tag:noindex
X-PUBLISHED-TTL:PT1H
BEGIN:VTIMEZONE
TZID:UTC
BEGIN:STANDARD
TZOFFSETFROM:+0000
TZOFFSETTO:+0000
TZNAME:UTC
DTSTART:20090101T000000
END:STANDARD
END:VTIMEZONE
BEGIN:VEVENT
DTSTART;VALUE=DATE:20100124
DTEND;VALUE=DATE:20100125
DTSTAMP:20260421T044124
CREATED:20130604T105054Z
LAST-MODIFIED:20190423T101434Z
UID:24085-1264291200-1264291200@hardloopevenementen.com
SUMMARY:Opkikkerloop Almere-Buiten\, gemeente Almere (FL)
DESCRIPTION:Doe mee met het hardloopevenement Opkikkerloop te Almere-Buiten\, gemeente Almere (FL) op zo 24 jan 2010. De volgende afstanden staan op het programma: 0\,7 km – 1\,5 km – 5 km – 10 km hardlopen. Wilt u inschrijven voor dit loopevenement?  Raadpleeg hiervoor dan de website van de organisatie\nDe uitslagen van deze hardloopwedstrijd zijn te raadplegen via dezelfde website of via de bekende websites zoals uitslagen.nl\, runtimer en mylaps. Doet u mee met dit evenement\, zorg dan dat u goed voorbereid aan de start staat! Met een goed trainingsschema komt u een heel eind. Train bijvoorbeeld met start to run van Evy Gruyaert. Download de start to run mp3 bestanden en zet ze op uw telefoon. Oortjes in\, hit the play button en en rennen maar! \n\n\n\n\nMeer informatie over Opkikkerloop op Hardloopkalender.nl  \nDe tweede editie van de Opkikkerloop zal plaatsvinden op 24 januari 2010. Wederom zal de helft van alle inkomsten uit inschrijfgeld en sponsoring naar stichting de Opkikker gaan. Naast de reguliere afstanden is er dit jaar een G-loop binnen de 750m kidsrun toegevoegd en zal er een bedrijvenloop klassement zijn binnen de 5- en 10 kilometer. \n  \n  \n 
URL:https://hardloopevenementen.com/loopagenda/opkikkerloop-almere-buiten-gemeente-almere-fl/
END:VEVENT
END:VCALENDAR