BEGIN:VCALENDAR
VERSION:2.0
PRODID:-//Hardloopevenementen - ECPv6.15.14//NONSGML v1.0//EN
CALSCALE:GREGORIAN
METHOD:PUBLISH
X-WR-CALNAME:Hardloopevenementen
X-ORIGINAL-URL:https://hardloopevenementen.com
X-WR-CALDESC:Evenementen voor Hardloopevenementen
REFRESH-INTERVAL;VALUE=DURATION:PT1H
X-Robots-Tag:noindex
X-PUBLISHED-TTL:PT1H
BEGIN:VTIMEZONE
TZID:UTC
BEGIN:STANDARD
TZOFFSETFROM:+0000
TZOFFSETTO:+0000
TZNAME:UTC
DTSTART:20090101T000000
END:STANDARD
END:VTIMEZONE
BEGIN:VEVENT
DTSTART;VALUE=DATE:20191006
DTEND;VALUE=DATE:20191007
DTSTAMP:20260425T133334
CREATED:20170222T062917Z
LAST-MODIFIED:20191114T112428Z
UID:142585-1570320000-1570320000@hardloopevenementen.com
SUMMARY:Bannerun Amsterdam-Noord\, gemeente Amsterdam (NH)
DESCRIPTION:Doe mee met het hardloopevenement Bannerun te Amsterdam-Noord\, gemeente Amsterdam (NH) op zo 06 okt 2019. De volgende afstanden staan op het programma: 0\,7 km – 3 km – 5 km hardlopen. Wilt u inschrijven voor dit loopevenement?  Raadpleeg hiervoor dan de website van de organisatie\nDe uitslagen van deze hardloopwedstrijd zijn te raadplegen via dezelfde website of via de bekende websites zoals uitslagen.nl\, runtimer en mylaps. Doet u mee met dit evenement\, zorg dan dat u goed voorbereid aan de start staat! Met een goed trainingsschema komt u een heel eind. Train bijvoorbeeld met start to run van Evy Gruyaert. Download de start to run mp3 bestanden en zet ze op uw telefoon. Oortjes in\, hit the play button en en rennen maar! \n\n\n\n\nMeer informatie over Bannerun op Hardloopkalender.nl  \nDoe jij mee met de Bannerun 2019? Op zondag 6 oktober vind de eerste editie plaats. Een hardloopwedstrijd over 3 en 5 km over fietspaden door het groen en langs het water. De loopwedstrijd start bij op het Bezaanjachtplein bij winkelcentrum De Banne in Amsterdam Noord. Voor de kinderen tot 12 jaar is er een speciale Kidsrun van 650 meter. \n  \n  \n 
URL:https://hardloopevenementen.com/loopagenda/bannerun-amsterdam-noord-gemeente-amsterdam-nh/
END:VEVENT
BEGIN:VEVENT
DTSTART;VALUE=DATE:20100502
DTEND;VALUE=DATE:20100503
DTSTAMP:20260425T133334
CREATED:20171015T224104Z
LAST-MODIFIED:20190423T101212Z
UID:23538-1272758400-1272758400@hardloopevenementen.com
SUMMARY:Canicross Amsterdam - Hardlopen met je hond Amsterdam-Zuidoost\, gemeente Amsterdam (NH)
DESCRIPTION:Doe mee met het hardloopevenement Canicross Amsterdam – Hardlopen met je hond te Amsterdam-Zuidoost\, gemeente Amsterdam (NH) op zo 02 mei 2010. De volgende afstanden staan op het programma: 0\,7 km – 2\,3 km – 5 km hardlopen. Wilt u inschrijven voor dit loopevenement?  Raadpleeg hiervoor dan de website van de organisatie\nDe uitslagen van deze hardloopwedstrijd zijn te raadplegen via dezelfde website of via de bekende websites zoals uitslagen.nl\, runtimer en mylaps. Doet u mee met dit evenement\, zorg dan dat u goed voorbereid aan de start staat! Met een goed trainingsschema komt u een heel eind. Train bijvoorbeeld met start to run van Evy Gruyaert. Download de start to run mp3 bestanden en zet ze op uw telefoon. Oortjes in\, hit the play button en en rennen maar! \n\n\n\n\nMeer informatie over Canicross Amsterdam – Hardlopen met je hond op Hardloopkalender.nl  \nCanicross is een loopwedstrijd met de hond\, waarbij baas en hond samen een team vormen en (hard)lopend een parcours afleggen. De hond is daarbij aangelijnd. Iedereen\, van elk niveau kan mee doen\, leeftijd van de baas en ras van hond zijn niet belangrijk.    Op 2 Mei 2010 Canicross Amsterdam\, diversen afstanden rondom de Gaasperplas. Start en Finish Prins Willem Alexander manege    Indien je eerst wilt kennismaken met Canicross is er iedere zondag groepstraining\, kijk voor meer informatie op www.canicrossnederland.nl \n  \n  \n 
URL:https://hardloopevenementen.com/loopagenda/canicross-amsterdam-hardlopen-met-je-hond-amsterdam-zuidoost-gemeente-amsterdam-nh/
END:VEVENT
END:VCALENDAR