BEGIN:VCALENDAR
VERSION:2.0
PRODID:-//Hardloopevenementen - ECPv6.15.14//NONSGML v1.0//EN
CALSCALE:GREGORIAN
METHOD:PUBLISH
X-WR-CALNAME:Hardloopevenementen
X-ORIGINAL-URL:https://hardloopevenementen.com
X-WR-CALDESC:Evenementen voor Hardloopevenementen
REFRESH-INTERVAL;VALUE=DURATION:PT1H
X-Robots-Tag:noindex
X-PUBLISHED-TTL:PT1H
BEGIN:VTIMEZONE
TZID:UTC
BEGIN:STANDARD
TZOFFSETFROM:+0000
TZOFFSETTO:+0000
TZNAME:UTC
DTSTART:20090101T000000
END:STANDARD
END:VTIMEZONE
BEGIN:VEVENT
DTSTART;VALUE=DATE:20100430
DTEND;VALUE=DATE:20100501
DTSTAMP:20260425T034849
CREATED:20150922T091250Z
LAST-MODIFIED:20190423T101217Z
UID:23560-1272585600-1272585600@hardloopevenementen.com
SUMMARY:Oranje Parkloop Meppel (DR)
DESCRIPTION:Doe mee met het hardloopevenement Oranje Parkloop te Meppel (DR) op vr 30 apr 2010. De volgende afstanden staan op het programma: 0\,8 km – 1\,5 km – 8 km hardlopen. Wilt u inschrijven voor dit loopevenement?  Raadpleeg hiervoor dan de website van de organisatie\nDe uitslagen van deze hardloopwedstrijd zijn te raadplegen via dezelfde website of via de bekende websites zoals uitslagen.nl\, runtimer en mylaps. Doet u mee met dit evenement\, zorg dan dat u goed voorbereid aan de start staat! Met een goed trainingsschema komt u een heel eind. Train bijvoorbeeld met start to run van Evy Gruyaert. Download de start to run mp3 bestanden en zet ze op uw telefoon. Oortjes in\, hit the play button en en rennen maar! \n\n\n\n\nMeer informatie over Oranje Parkloop op Hardloopkalender.nl  \nDit loopevenement wordt georganiseerd door McDonald’s AV de Sprinter.De eerste afstand (of onderdeel) start om 11:00.Het adres van de start is M.Otterlaan 1 Het adres van de finish is M.Otterlaan1Categorie(ën): mannen\, vrouwen\, jeugdVooraf inschrijven is mogelijk vanaf 30 april 2010 tot niet van toepassing.Inschrijven op de dag van de loop is mogelijk (vanaf 10.00 uur) op dit adres: Meppel’s Inn.Meer informatie:Contactpersoon: B.HartsuikerTel.: 0522251241Email: bj.hartsuiker05@versatel.nlEr is geen kleedaccomodatie aanwezig.Het parcours is verhard.Overige bijzonderheden:  Loop door het fraaie Wilhelminapark in Meppel \n  \n  \n 
URL:https://hardloopevenementen.com/loopagenda/oranje-parkloop-meppel-dr/
END:VEVENT
END:VCALENDAR