BEGIN:VCALENDAR
VERSION:2.0
PRODID:-//Hardloopevenementen - ECPv6.15.14//NONSGML v1.0//EN
CALSCALE:GREGORIAN
METHOD:PUBLISH
X-WR-CALNAME:Hardloopevenementen
X-ORIGINAL-URL:https://hardloopevenementen.com
X-WR-CALDESC:Evenementen voor Hardloopevenementen
REFRESH-INTERVAL;VALUE=DURATION:PT1H
X-Robots-Tag:noindex
X-PUBLISHED-TTL:PT1H
BEGIN:VTIMEZONE
TZID:UTC
BEGIN:STANDARD
TZOFFSETFROM:+0000
TZOFFSETTO:+0000
TZNAME:UTC
DTSTART:20070101T000000
END:STANDARD
END:VTIMEZONE
BEGIN:VEVENT
DTSTART;VALUE=DATE:20080425
DTEND;VALUE=DATE:20080426
DTSTAMP:20260422T001758
CREATED:20130327T181748Z
LAST-MODIFIED:20190423T094750Z
UID:19822-1209081600-1209081600@hardloopevenementen.com
SUMMARY:Vier Windenloop Spierdijk
DESCRIPTION:Doe mee met het hardloopevenement Vier Windenloop te Spierdijk op vr 25 apr 2008. De volgende afstanden staan op het programma: 0\,8 km – 3\,6 km – 10 km hardlopen. Wilt u inschrijven voor dit loopevenement?  Raadpleeg hiervoor dan de website van de organisatie\nDe uitslagen van deze hardloopwedstrijd zijn te raadplegen via dezelfde website of via de bekende websites zoals uitslagen.nl\, runtimer en mylaps. Doet u mee met dit evenement\, zorg dan dat u goed voorbereid aan de start staat! Met een goed trainingsschema komt u een heel eind. Train bijvoorbeeld met start to run van Evy Gruyaert. Download de start to run mp3 bestanden en zet ze op uw telefoon. Oortjes in\, hit the play button en en rennen maar! \n\n\n\n\nMeer informatie over Vier Windenloop op Hardloopkalender.nl  \nStart  0\,8 km 18:30 uur  3\,6 km 19:20 uur  10 km 19:30 uur \n  \n  \n 
URL:https://hardloopevenementen.com/loopagenda/vier-windenloop-spierdijk/
END:VEVENT
END:VCALENDAR