BEGIN:VCALENDAR
VERSION:2.0
PRODID:-//Hardloopevenementen - ECPv6.15.14//NONSGML v1.0//EN
CALSCALE:GREGORIAN
METHOD:PUBLISH
X-WR-CALNAME:Hardloopevenementen
X-ORIGINAL-URL:https://hardloopevenementen.com
X-WR-CALDESC:Evenementen voor Hardloopevenementen
REFRESH-INTERVAL;VALUE=DURATION:PT1H
X-Robots-Tag:noindex
X-PUBLISHED-TTL:PT1H
BEGIN:VTIMEZONE
TZID:UTC
BEGIN:STANDARD
TZOFFSETFROM:+0000
TZOFFSETTO:+0000
TZNAME:UTC
DTSTART:20080101T000000
END:STANDARD
END:VTIMEZONE
BEGIN:VEVENT
DTSTART;VALUE=DATE:20170618
DTEND;VALUE=DATE:20170619
DTSTAMP:20260422T003755
CREATED:20070724T020018Z
LAST-MODIFIED:20190423T114535Z
UID:14520-1497744000-1497744000@hardloopevenementen.com
SUMMARY:De 10 kilometer van Nederland Almelo (OV)
DESCRIPTION:Doe mee met het hardloopevenement De 10 kilometer van Nederland te Almelo (OV) op zo 18 jun 2017. De volgende afstanden staan op het programma: 1 km – 5 km – 10 km hardlopen. Wilt u inschrijven voor dit loopevenement?  Raadpleeg hiervoor dan de website van de organisatie\nDe uitslagen van deze hardloopwedstrijd zijn te raadplegen via dezelfde website of via de bekende websites zoals uitslagen.nl\, runtimer en mylaps. Doet u mee met dit evenement\, zorg dan dat u goed voorbereid aan de start staat! Met een goed trainingsschema komt u een heel eind. Train bijvoorbeeld met start to run van Evy Gruyaert. Download de start to run mp3 bestanden en zet ze op uw telefoon. Oortjes in\, hit the play button en en rennen maar! \n\n\n\n\nMeer informatie over De 10 kilometer van Nederland op Hardloopkalender.nl  \nOp 18 juni 2017 wordt er in verschillende Nederlandse steden gelijktijdig gelopen. Jij loopt toch ook mee? Meer info op www.10km.eu ned \n  \n  \n 
URL:https://hardloopevenementen.com/loopagenda/de-10-kilometer-van-nederland-almelo-ov/
END:VEVENT
BEGIN:VEVENT
DTSTART;VALUE=DATE:20151231
DTEND;VALUE=DATE:20160101
DTSTAMP:20260422T003755
CREATED:20071016T075601Z
LAST-MODIFIED:20190423T110615Z
UID:9127-1451520000-1451520000@hardloopevenementen.com
SUMMARY:40ste Oudejaarscross Almelo (OV)
DESCRIPTION:Doe mee met het hardloopevenement 40ste Oudejaarscross te Almelo (OV) op do 31 dec 2015. De volgende afstanden staan op het programma: 1 km – 2\,5 km – 5 km – 10 km hardlopen. Wilt u inschrijven voor dit loopevenement?  Raadpleeg hiervoor dan de website van de organisatie\nDe uitslagen van deze hardloopwedstrijd zijn te raadplegen via dezelfde website of via de bekende websites zoals uitslagen.nl\, runtimer en mylaps. Doet u mee met dit evenement\, zorg dan dat u goed voorbereid aan de start staat! Met een goed trainingsschema komt u een heel eind. Train bijvoorbeeld met start to run van Evy Gruyaert. Download de start to run mp3 bestanden en zet ze op uw telefoon. Oortjes in\, hit the play button en en rennen maar! \n\n\n\n\nMeer informatie over 40ste Oudejaarscross op Hardloopkalender.nl  \nHet loopevenement 40ste Oudejaarscross te Almelo vindt plaats op donderdag 31 december 2015. \n  \n  \n 
URL:https://hardloopevenementen.com/loopagenda/40ste-oudejaarscross-almelo-ov/
END:VEVENT
BEGIN:VEVENT
DTSTART;VALUE=DATE:20150920
DTEND;VALUE=DATE:20150921
DTSTAMP:20260422T003755
CREATED:20150506T122852Z
LAST-MODIFIED:20190423T110903Z
UID:9743-1442707200-1442707200@hardloopevenementen.com
SUMMARY:Almelo allee Almelo (OV)
DESCRIPTION:Doe mee met het hardloopevenement Almelo allee te Almelo (OV) op zo 20 sep 2015. De volgende afstanden staan op het programma: 1 km – 2 km – 5 km – 10 km – halve marathon – 80 km hardlopen. Wilt u inschrijven voor dit loopevenement?  Raadpleeg hiervoor dan de website van de organisatie\nDe uitslagen van deze hardloopwedstrijd zijn te raadplegen via dezelfde website of via de bekende websites zoals uitslagen.nl\, runtimer en mylaps. Doet u mee met dit evenement\, zorg dan dat u goed voorbereid aan de start staat! Met een goed trainingsschema komt u een heel eind. Train bijvoorbeeld met start to run van Evy Gruyaert. Download de start to run mp3 bestanden en zet ze op uw telefoon. Oortjes in\, hit the play button en en rennen maar! \n\n\n\n\nMeer informatie over Almelo allee op Hardloopkalender.nl  \nEen prachtige hardloopevenement in de groene omgeving van de Gravenallee te Almelo. Bij het afhalen van uw startnummer ontvangt u een chip voor de tijdsregistratie. voor meer informatie: www.almeloallee.nl of volg ons op twitter: www.twitter.com almeloallee \n  \n  \n 
URL:https://hardloopevenementen.com/loopagenda/almelo-allee-almelo-ov/
END:VEVENT
BEGIN:VEVENT
DTSTART;VALUE=DATE:20091231
DTEND;VALUE=DATE:20100101
DTSTAMP:20260422T003755
CREATED:20070724T092036Z
LAST-MODIFIED:20190423T095602Z
UID:1221-1262217600-1262217600@hardloopevenementen.com
SUMMARY:35e Oudejaarscross Almelo (OV)
DESCRIPTION:Doe mee met het hardloopevenement 35e Oudejaarscross te Almelo (OV) op do 31 dec 2009. De volgende afstanden staan op het programma: 1 km – 2\,5 km – 5 km – 5\,5 km – 10 km – 15 km hardlopen. Wilt u inschrijven voor dit loopevenement?  Raadpleeg hiervoor dan de website van de organisatie\nDe uitslagen van deze hardloopwedstrijd zijn te raadplegen via dezelfde website of via de bekende websites zoals uitslagen.nl\, runtimer en mylaps. Doet u mee met dit evenement\, zorg dan dat u goed voorbereid aan de start staat! Met een goed trainingsschema komt u een heel eind. Train bijvoorbeeld met start to run van Evy Gruyaert. Download de start to run mp3 bestanden en zet ze op uw telefoon. Oortjes in\, hit the play button en en rennen maar! \n\n\n\n\nMeer informatie over 35e Oudejaarscross op Hardloopkalender.nl  \n  \n  \n 
URL:https://hardloopevenementen.com/loopagenda/35e-oudejaarscross-almelo-ov/
END:VEVENT
END:VCALENDAR