BEGIN:VCALENDAR
VERSION:2.0
PRODID:-//Hardloopevenementen - ECPv6.15.14//NONSGML v1.0//EN
CALSCALE:GREGORIAN
METHOD:PUBLISH
X-WR-CALNAME:Hardloopevenementen
X-ORIGINAL-URL:https://hardloopevenementen.com
X-WR-CALDESC:Evenementen voor Hardloopevenementen
REFRESH-INTERVAL;VALUE=DURATION:PT1H
X-Robots-Tag:noindex
X-PUBLISHED-TTL:PT1H
BEGIN:VTIMEZONE
TZID:UTC
BEGIN:STANDARD
TZOFFSETFROM:+0000
TZOFFSETTO:+0000
TZNAME:UTC
DTSTART:20170101T000000
END:STANDARD
END:VTIMEZONE
BEGIN:VEVENT
DTSTART;VALUE=DATE:20180519
DTEND;VALUE=DATE:20180520
DTSTAMP:20260425T132537
CREATED:20180811T155929Z
LAST-MODIFIED:20190423T120500Z
UID:16587-1526688000-1526688000@hardloopevenementen.com
SUMMARY:Doesburg City Run Doesburg (GE)
DESCRIPTION:Doe mee met het hardloopevenement Doesburg City Run te Doesburg (GE) op za 19 mei 2018. De volgende afstanden staan op het programma: 0\,5 km – 1 km – 2\,5 km – 5 km – 10 km hardlopen. Wilt u inschrijven voor dit loopevenement?  Raadpleeg hiervoor dan de website van de organisatie\nDe uitslagen van deze hardloopwedstrijd zijn te raadplegen via dezelfde website of via de bekende websites zoals uitslagen.nl\, runtimer en mylaps. Doet u mee met dit evenement\, zorg dan dat u goed voorbereid aan de start staat! Met een goed trainingsschema komt u een heel eind. Train bijvoorbeeld met start to run van Evy Gruyaert. Download de start to run mp3 bestanden en zet ze op uw telefoon. Oortjes in\, hit the play button en en rennen maar! \n\n\n\n\nMeer informatie over Doesburg City Run op Hardloopkalender.nl  \nDoesburg city run op 19 mei 2018 wordt een super leuke sportieve dag met kids run om de grote Martini kerk en afstanden voor volwassen door de historische binnenstad van Doesburg\, voor iedereen die meedoet is er aan het eind van de loop een mooie grote medaille en er zij ook prijzen te winnen  het is de bedoeling om zo veel mogelijk geld op te halen voor Kika en de nierstichting dus daar gaat het inschrijfgeld naar toe. Na de loop is er feest op het plein met dj henri\, gratis sportlessen waar je aan mee kan doen\, springkussen voor de kleintjes en nog veel meer….ook handig als je wilt oefenen voor de marikenloop die de week erna is..schrijf je snel in\, voorverkoop tot 19 april daarna worden de kaartjes 2\,- duurder dus wees er snel bij\, we zien je daar…groetjes heidi van vliet en tony ashek \n  \n  \n 
URL:https://hardloopevenementen.com/loopagenda/doesburg-city-run-doesburg-ge-2/
END:VEVENT
BEGIN:VEVENT
DTSTART;VALUE=DATE:20180519
DTEND;VALUE=DATE:20180520
DTSTAMP:20260425T132537
CREATED:20170627T051857Z
LAST-MODIFIED:20190423T120458Z
UID:16583-1526688000-1526688000@hardloopevenementen.com
SUMMARY:Doesburg city run Doesburg (GE)
DESCRIPTION:Doe mee met het hardloopevenement Doesburg city run te Doesburg (GE) op za 19 mei 2018. De volgende afstanden staan op het programma: 0\,5 km – 1 km – 2 km – 5 km – 10 km hardlopen. Wilt u inschrijven voor dit loopevenement?  Raadpleeg hiervoor dan de website van de organisatie\nDe uitslagen van deze hardloopwedstrijd zijn te raadplegen via dezelfde website of via de bekende websites zoals uitslagen.nl\, runtimer en mylaps. Doet u mee met dit evenement\, zorg dan dat u goed voorbereid aan de start staat! Met een goed trainingsschema komt u een heel eind. Train bijvoorbeeld met start to run van Evy Gruyaert. Download de start to run mp3 bestanden en zet ze op uw telefoon. Oortjes in\, hit the play button en en rennen maar! \n\n\n\n\nMeer informatie over Doesburg city run op Hardloopkalender.nl  \nDoesburg city Run . 2.5 km \, 5 km \, 10 km\, kids run 500 m en 1000 m.  Op Zaterdag 19 mei word er een CityRun georganiseerd bij de Martinikerk in Doesburg.    De route die de deelnemers moeten afleggen\, zal hen het mooiste van de historische binnenstad van Doesburg laten zien.    We starten bij de Martinikerk\, langs Het Stadhuis\, Stadsbierhuys De Waag\, Doesburgse Mosterd-en Azijnfabriek\, het park en nog veel meer!    Doel van deze dag is om jong en oud aan het sporten te krijgen en hen te laten inzien dat sporten ook heel leuk kan zijn.    Een onderdeel van de CityRun is de Family Run.2.5 km Voor alle ouders\, opas en omas\, en kinds run en overige familieleden is er de mogelijkheid om mee te doen aan de Family Run.  Je mag het parcours helemaal uitlopen\, en de snelste familie mag laten zien dat zelfs twee keer het parcours lopen een makkie is!    Het gaat om samen lekker hardlopen met je (klein)kinderen\, maar het belangrijkste is de fun om met elkaar iets samen te doen. \n  \n  \n 
URL:https://hardloopevenementen.com/loopagenda/doesburg-city-run-doesburg-ge/
END:VEVENT
END:VCALENDAR