BEGIN:VCALENDAR
VERSION:2.0
PRODID:-//Hardloopevenementen - ECPv6.15.14//NONSGML v1.0//EN
CALSCALE:GREGORIAN
METHOD:PUBLISH
X-WR-CALNAME:Hardloopevenementen
X-ORIGINAL-URL:https://hardloopevenementen.com
X-WR-CALDESC:Evenementen voor Hardloopevenementen
REFRESH-INTERVAL;VALUE=DURATION:PT1H
X-Robots-Tag:noindex
X-PUBLISHED-TTL:PT1H
BEGIN:VTIMEZONE
TZID:UTC
BEGIN:STANDARD
TZOFFSETFROM:+0000
TZOFFSETTO:+0000
TZNAME:UTC
DTSTART:20090101T000000
END:STANDARD
END:VTIMEZONE
BEGIN:VEVENT
DTSTART;VALUE=DATE:20100220
DTEND;VALUE=DATE:20100221
DTSTAMP:20260424T074050
CREATED:20160516T212601Z
LAST-MODIFIED:20190423T101402Z
UID:23967-1266624000-1266624000@hardloopevenementen.com
SUMMARY:JUTBERGLOOP Laag-Soeren\, gemeente Rheden (GE)
DESCRIPTION:Doe mee met het hardloopevenement JUTBERGLOOP te Laag-Soeren\, gemeente Rheden (GE) op za 20 feb 2010. De volgende afstanden staan op het programma: 1 km – 2 km – 5 km – 10 km – 15 km hardlopen. Wilt u inschrijven voor dit loopevenement?  Raadpleeg hiervoor dan de website van de organisatie\nDe uitslagen van deze hardloopwedstrijd zijn te raadplegen via dezelfde website of via de bekende websites zoals uitslagen.nl\, runtimer en mylaps. Doet u mee met dit evenement\, zorg dan dat u goed voorbereid aan de start staat! Met een goed trainingsschema komt u een heel eind. Train bijvoorbeeld met start to run van Evy Gruyaert. Download de start to run mp3 bestanden en zet ze op uw telefoon. Oortjes in\, hit the play button en en rennen maar! \n\n\n\n\nMeer informatie over JUTBERGLOOP op Hardloopkalender.nl  \nDit loopevenement wordt georganiseerd door CAV Gelder.De eerste afstand (of onderdeel) start om 09:30.Het adres van de start is Jutberg 78 Het adres van de finish is Jutberg78Categorie(ën): mannen\, vrouwen\, jeugdVooraf inschrijven is mogelijk vanaf 01 december 2009 tot 17 februari 2010.Inschrijven op de dag van de loop is mogelijk (vanaf 08.30) op dit adres: Restaurant Camping De Jutberg\, Jutberg 78\,  6957 DP\, Laag Soeren..Meer informatie:Contactpersoon: Ben GrijsenTel.: 0313415928Email: b.grijsen@planet.nlEr is een kleedaccomodatie aanwezig. Douchen is niet mogelijk.Het parcours is deels onverhard.Vorig jaar deden er 200 lopers mee aan dit evenement.Overige bijzonderheden:  Na afloop gratis warme chocolademelk\, erwtensoep en herinnering. \n  \n  \n 
URL:https://hardloopevenementen.com/loopagenda/jutbergloop-laag-soeren-gemeente-rheden-ge/
END:VEVENT
END:VCALENDAR