BEGIN:VCALENDAR
VERSION:2.0
PRODID:-//Hardloopevenementen - ECPv6.15.14//NONSGML v1.0//EN
CALSCALE:GREGORIAN
METHOD:PUBLISH
X-ORIGINAL-URL:https://hardloopevenementen.com
X-WR-CALDESC:Evenementen voor Hardloopevenementen
REFRESH-INTERVAL;VALUE=DURATION:PT1H
X-Robots-Tag:noindex
X-PUBLISHED-TTL:PT1H
BEGIN:VTIMEZONE
TZID:UTC
BEGIN:STANDARD
TZOFFSETFROM:+0000
TZOFFSETTO:+0000
TZNAME:UTC
DTSTART:20060101T000000
END:STANDARD
END:VTIMEZONE
BEGIN:VEVENT
DTSTART;VALUE=DATE:20070304
DTEND;VALUE=DATE:20070305
DTSTAMP:20260420T184526
CREATED:20160802T210031Z
LAST-MODIFIED:20190423T094036Z
UID:700-1172966400-1172966400@hardloopevenementen.com
SUMMARY:Rusheuvel cross Oss
DESCRIPTION:Doe mee met het hardloopevenement Rusheuvel cross te Oss op zo 04 mrt 2007. De volgende afstanden staan op het programma: 1 km – 3 km – 4\,2 km – 9\,4 km hardlopen. Wilt u inschrijven voor dit loopevenement?  Raadpleeg hiervoor dan de website van de organisatie\nDe uitslagen van deze hardloopwedstrijd zijn te raadplegen via dezelfde website of via de bekende websites zoals uitslagen.nl\, runtimer en mylaps. Doet u mee met dit evenement\, zorg dan dat u goed voorbereid aan de start staat! Met een goed trainingsschema komt u een heel eind. Train bijvoorbeeld met start to run van Evy Gruyaert. Download de start to run mp3 bestanden en zet ze op uw telefoon. Oortjes in\, hit the play button en en rennen maar! \n\n\n\n\nMeer informatie over Rusheuvel cross op Hardloopkalender.nl  \n  \n  \n 
URL:https://hardloopevenementen.com/loopagenda/rusheuvel-cross-oss/
END:VEVENT
BEGIN:VEVENT
DTSTART;VALUE=DATE:20070128
DTEND;VALUE=DATE:20070129
DTSTAMP:20260420T184526
CREATED:20170205T103008Z
LAST-MODIFIED:20190423T094052Z
UID:766-1169942400-1169942400@hardloopevenementen.com
SUMMARY:Witte Ruysheuvelcross Oss
DESCRIPTION:Doe mee met het hardloopevenement Witte Ruysheuvelcross te Oss op zo 28 jan 2007. De volgende afstanden staan op het programma: 1 km – 4\,5 km – 6 km – 10 km hardlopen. Wilt u inschrijven voor dit loopevenement?  Raadpleeg hiervoor dan de website van de organisatie\nDe uitslagen van deze hardloopwedstrijd zijn te raadplegen via dezelfde website of via de bekende websites zoals uitslagen.nl\, runtimer en mylaps. Doet u mee met dit evenement\, zorg dan dat u goed voorbereid aan de start staat! Met een goed trainingsschema komt u een heel eind. Train bijvoorbeeld met start to run van Evy Gruyaert. Download de start to run mp3 bestanden en zet ze op uw telefoon. Oortjes in\, hit the play button en en rennen maar! \n\n\n\n\nMeer informatie over Witte Ruysheuvelcross op Hardloopkalender.nl  \n  \n  \n 
URL:https://hardloopevenementen.com/loopagenda/witte-ruysheuvelcross-oss/
END:VEVENT
END:VCALENDAR