BEGIN:VCALENDAR
VERSION:2.0
PRODID:-//Hardloopevenementen - ECPv6.15.14//NONSGML v1.0//EN
CALSCALE:GREGORIAN
METHOD:PUBLISH
X-ORIGINAL-URL:https://hardloopevenementen.com
X-WR-CALDESC:Evenementen voor Hardloopevenementen
REFRESH-INTERVAL;VALUE=DURATION:PT1H
X-Robots-Tag:noindex
X-PUBLISHED-TTL:PT1H
BEGIN:VTIMEZONE
TZID:UTC
BEGIN:STANDARD
TZOFFSETFROM:+0000
TZOFFSETTO:+0000
TZNAME:UTC
DTSTART:20080101T000000
END:STANDARD
END:VTIMEZONE
BEGIN:VEVENT
DTSTART;VALUE=DATE:20090104
DTEND;VALUE=DATE:20090105
DTSTAMP:20260422T052345
CREATED:20170122T032931Z
LAST-MODIFIED:20190423T100415Z
UID:2972-1231027200-1231027200@hardloopevenementen.com
SUMMARY:35e Nieuwjaarsloop Trimclub NS Nijmegen (GE)
DESCRIPTION:Doe mee met het hardloopevenement 35e Nieuwjaarsloop Trimclub NS te Nijmegen (GE) op zo 04 jan 2009. De volgende afstanden staan op het programma: 3 km – 5 km – 10 km – 10 Engelse mijl hardlopen. Wilt u inschrijven voor dit loopevenement?  Raadpleeg hiervoor dan de website van de organisatie\nDe uitslagen van deze hardloopwedstrijd zijn te raadplegen via dezelfde website of via de bekende websites zoals uitslagen.nl\, runtimer en mylaps. Doet u mee met dit evenement\, zorg dan dat u goed voorbereid aan de start staat! Met een goed trainingsschema komt u een heel eind. Train bijvoorbeeld met start to run van Evy Gruyaert. Download de start to run mp3 bestanden en zet ze op uw telefoon. Oortjes in\, hit the play button en en rennen maar! \n\n\n\n\nMeer informatie over 35e Nieuwjaarsloop Trimclub NS op Hardloopkalender.nl  \n3 km 11:00 uur\, 5 km 11:30 uur\, 10-16\,1 km 12:15 uur \n  \n  \n 
URL:https://hardloopevenementen.com/loopagenda/35e-nieuwjaarsloop-trimclub-ns-nijmegen-ge/
END:VEVENT
END:VCALENDAR