BEGIN:VCALENDAR
VERSION:2.0
PRODID:-//Hardloopevenementen - ECPv6.15.14//NONSGML v1.0//EN
CALSCALE:GREGORIAN
METHOD:PUBLISH
X-ORIGINAL-URL:https://hardloopevenementen.com
X-WR-CALDESC:Evenementen voor Hardloopevenementen
REFRESH-INTERVAL;VALUE=DURATION:PT1H
X-Robots-Tag:noindex
X-PUBLISHED-TTL:PT1H
BEGIN:VTIMEZONE
TZID:UTC
BEGIN:STANDARD
TZOFFSETFROM:+0000
TZOFFSETTO:+0000
TZNAME:UTC
DTSTART:20070101T000000
END:STANDARD
END:VTIMEZONE
BEGIN:VEVENT
DTSTART;VALUE=DATE:20080921
DTEND;VALUE=DATE:20080922
DTSTAMP:20260422T075844
CREATED:20110701T173939Z
LAST-MODIFIED:20190423T094516Z
UID:19144-1221955200-1221955200@hardloopevenementen.com
SUMMARY:Najaars Bosloop Beek
DESCRIPTION:Doe mee met het hardloopevenement Najaars Bosloop te Beek op zo 21 sep 2008. De volgende afstanden staan op het programma: 1 km – 2 km – 5 km – 10 km hardlopen. Wilt u inschrijven voor dit loopevenement?  Raadpleeg hiervoor dan de website van de organisatie\nDe uitslagen van deze hardloopwedstrijd zijn te raadplegen via dezelfde website of via de bekende websites zoals uitslagen.nl\, runtimer en mylaps. Doet u mee met dit evenement\, zorg dan dat u goed voorbereid aan de start staat! Met een goed trainingsschema komt u een heel eind. Train bijvoorbeeld met start to run van Evy Gruyaert. Download de start to run mp3 bestanden en zet ze op uw telefoon. Oortjes in\, hit the play button en en rennen maar! \n\n\n\n\nMeer informatie over Najaars Bosloop op Hardloopkalender.nl  \nOp zondag 14 en 21 september 2008 is er de najaarsbosloop .                                                                                                                                                                                                                                                                      De start zal zijn bij Uitspanning t Peeske\, Peeskesweg 12  7037 CH in Beek (Montferland in Gelderland)    Het parcours zal evenals afgelopen jaren in en langs het Bergherbos lopen. Het parcours is onverhard en heuvelachtig. Deze fraaie loop is zeer geliefd bij de atleten.    E.H.B.O en omkleedruimte is aanwezig.    De volgende afstanden kunnen worden gelopen:     09.00  uur    1 km   Pupillen meisjes jongens t m 10 jaar.    09.15  uur    2 km   Junioren meisjes jongens 11 t m 14 jaar.    09.45  uur    5 km   Dames\,heren\,senioren\,veteranen 1\,veteranen 2\, veteranen 3.    10.15  uur   10 km  Dames\,heren\,senioren\,veteranen 1\,veteranen 2\, veteranen 3. \n  \n  \n 
URL:https://hardloopevenementen.com/loopagenda/najaars-bosloop-beek/
END:VEVENT
BEGIN:VEVENT
DTSTART;VALUE=DATE:20080914
DTEND;VALUE=DATE:20080915
DTSTAMP:20260422T075844
CREATED:20130116T132649Z
LAST-MODIFIED:20190423T094526Z
UID:19186-1221350400-1221350400@hardloopevenementen.com
SUMMARY:Najaars Bosloop Beek
DESCRIPTION:Doe mee met het hardloopevenement Najaars Bosloop te Beek op zo 14 sep 2008. De volgende afstanden staan op het programma: 1 km – 2 km – 5 km – 10 km hardlopen. Wilt u inschrijven voor dit loopevenement?  Raadpleeg hiervoor dan de website van de organisatie\nDe uitslagen van deze hardloopwedstrijd zijn te raadplegen via dezelfde website of via de bekende websites zoals uitslagen.nl\, runtimer en mylaps. Doet u mee met dit evenement\, zorg dan dat u goed voorbereid aan de start staat! Met een goed trainingsschema komt u een heel eind. Train bijvoorbeeld met start to run van Evy Gruyaert. Download de start to run mp3 bestanden en zet ze op uw telefoon. Oortjes in\, hit the play button en en rennen maar! \n\n\n\n\nMeer informatie over Najaars Bosloop op Hardloopkalender.nl  \nOp zondag 14 en 21 september 2008 is er de najaarsbosloop .                                                                                                                                                                                         De start zal zijn bij Uitspanning t Peeske\, Peeskesweg 12  7037 CH in Beek (Montferland in Gelderland)    Het parcours zal evenals afgelopen jaren in en langs het Bergherbos lopen. Het parcours is onverhard en heuvelachtig. Deze fraaie loop is zeer geliefd bij de atleten.    E.H.B.O en omkleedruimte is aanwezig.      De volgende afstanden kunnen worden gelopen:     09.00  uur    1 km   Pupillen meisjes jongens t m 10 jaar.    09.15  uur    2 km   Junioren meisjes jongens 11 t m 14 jaar.    09.45  uur    5 km   Dames\,heren\,senioren\,veteranen 1\,veteranen 2\, veteranen 3.    10.15  uur   10 km  Dames\,heren\,senioren\,veteranen 1\,veteranen 2\, veteranen 3. \n  \n  \n 
URL:https://hardloopevenementen.com/loopagenda/najaars-bosloop-beek-2/
END:VEVENT
END:VCALENDAR