BEGIN:VCALENDAR
VERSION:2.0
PRODID:-//Hardloopevenementen - ECPv6.15.14//NONSGML v1.0//EN
CALSCALE:GREGORIAN
METHOD:PUBLISH
X-WR-CALNAME:Hardloopevenementen
X-ORIGINAL-URL:https://hardloopevenementen.com
X-WR-CALDESC:Evenementen voor Hardloopevenementen
REFRESH-INTERVAL;VALUE=DURATION:PT1H
X-Robots-Tag:noindex
X-PUBLISHED-TTL:PT1H
BEGIN:VTIMEZONE
TZID:UTC
BEGIN:STANDARD
TZOFFSETFROM:+0000
TZOFFSETTO:+0000
TZNAME:UTC
DTSTART:20070101T000000
END:STANDARD
END:VTIMEZONE
BEGIN:VEVENT
DTSTART;VALUE=DATE:20080525
DTEND;VALUE=DATE:20080526
DTSTAMP:20260424T225029
CREATED:20071026T211315Z
LAST-MODIFIED:20190423T094715Z
UID:19666-1211673600-1211673600@hardloopevenementen.com
SUMMARY:Vestingloop s-Hertogenbosch Den Bosch
DESCRIPTION:Doe mee met het hardloopevenement Vestingloop s-Hertogenbosch te Den Bosch op zo 25 mei 2008. De volgende afstanden staan op het programma: 5 km – 10 km – 15 km hardlopen. Wilt u inschrijven voor dit loopevenement?  Raadpleeg hiervoor dan de website van de organisatie\nDe uitslagen van deze hardloopwedstrijd zijn te raadplegen via dezelfde website of via de bekende websites zoals uitslagen.nl\, runtimer en mylaps. Doet u mee met dit evenement\, zorg dan dat u goed voorbereid aan de start staat! Met een goed trainingsschema komt u een heel eind. Train bijvoorbeeld met start to run van Evy Gruyaert. Download de start to run mp3 bestanden en zet ze op uw telefoon. Oortjes in\, hit the play button en en rennen maar! \n\n\n\n\nMeer informatie over Vestingloop s-Hertogenbosch op Hardloopkalender.nl  \nVestingloop s-Hertogenbosch: dé loop door stad en natuur    s-Hertogenbosch. Die prachtige stad waar cultuur en natuur zo dicht bij elkaar liggen. Nog geen 400 meter afstand overbrug je vanaf de Parade\, waar de Sint-Janskathedraal het straatbeeld siert\, naar natuurgebied het Bossche Broek\, waar zeldzame vogels hun nest uitbroeden. In deze omgeving biedt de Vestingloop afstanden van 5\, 10 of 15 km.     De inschrijving is inmiddels geopend en de eerste aanmeldingen zijn al binnen! Op www.vestingloop.nl vindt u meer informatie over de Vestingloop\, het parcours en de inschrijfmogelijkheden. \n  \n  \n 
URL:https://hardloopevenementen.com/loopagenda/vestingloop-s-hertogenbosch-den-bosch/
END:VEVENT
END:VCALENDAR