BEGIN:VCALENDAR
VERSION:2.0
PRODID:-//Hardloopevenementen - ECPv6.15.14//NONSGML v1.0//EN
CALSCALE:GREGORIAN
METHOD:PUBLISH
X-ORIGINAL-URL:https://hardloopevenementen.com
X-WR-CALDESC:Evenementen voor Hardloopevenementen
REFRESH-INTERVAL;VALUE=DURATION:PT1H
X-Robots-Tag:noindex
X-PUBLISHED-TTL:PT1H
BEGIN:VTIMEZONE
TZID:UTC
BEGIN:STANDARD
TZOFFSETFROM:+0000
TZOFFSETTO:+0000
TZNAME:UTC
DTSTART:20060101T000000
END:STANDARD
END:VTIMEZONE
BEGIN:VEVENT
DTSTART;VALUE=DATE:20080524
DTEND;VALUE=DATE:20080525
DTSTAMP:20260425T214242
CREATED:20110313T084039Z
LAST-MODIFIED:20190423T094716Z
UID:19669-1211587200-1211587200@hardloopevenementen.com
SUMMARY:Dwars door Dongen Dongen
DESCRIPTION:Doe mee met het hardloopevenement Dwars door Dongen te Dongen op za 24 mei 2008. De volgende afstanden staan op het programma: 5 km – 10 km hardlopen. Wilt u inschrijven voor dit loopevenement?  Raadpleeg hiervoor dan de website van de organisatie\nDe uitslagen van deze hardloopwedstrijd zijn te raadplegen via dezelfde website of via de bekende websites zoals uitslagen.nl\, runtimer en mylaps. Doet u mee met dit evenement\, zorg dan dat u goed voorbereid aan de start staat! Met een goed trainingsschema komt u een heel eind. Train bijvoorbeeld met start to run van Evy Gruyaert. Download de start to run mp3 bestanden en zet ze op uw telefoon. Oortjes in\, hit the play button en en rennen maar! \n\n\n\n\nMeer informatie over Dwars door Dongen op Hardloopkalender.nl  \n5 km 18:00 uur\, 10 km 19:00 uur \n  \n  \n 
URL:https://hardloopevenementen.com/loopagenda/dwars-door-dongen-dongen-2/
END:VEVENT
BEGIN:VEVENT
DTSTART;VALUE=DATE:20070526
DTEND;VALUE=DATE:20070527
DTSTAMP:20260425T214242
CREATED:20100106T021110Z
LAST-MODIFIED:20190423T093954Z
UID:518-1180137600-1180137600@hardloopevenementen.com
SUMMARY:Dwars Door Dongen Dongen
DESCRIPTION:Doe mee met het hardloopevenement Dwars Door Dongen te Dongen op za 26 mei 2007. De volgende afstanden staan op het programma: 5 km – 10 km hardlopen. Wilt u inschrijven voor dit loopevenement?  Raadpleeg hiervoor dan de website van de organisatie\nDe uitslagen van deze hardloopwedstrijd zijn te raadplegen via dezelfde website of via de bekende websites zoals uitslagen.nl\, runtimer en mylaps. Doet u mee met dit evenement\, zorg dan dat u goed voorbereid aan de start staat! Met een goed trainingsschema komt u een heel eind. Train bijvoorbeeld met start to run van Evy Gruyaert. Download de start to run mp3 bestanden en zet ze op uw telefoon. Oortjes in\, hit the play button en en rennen maar! \n\n\n\n\nMeer informatie over Dwars Door Dongen op Hardloopkalender.nl  \n  \n  \n 
URL:https://hardloopevenementen.com/loopagenda/dwars-door-dongen-dongen/
END:VEVENT
END:VCALENDAR