BEGIN:VCALENDAR
VERSION:2.0
PRODID:-//Hardloopevenementen - ECPv6.15.14//NONSGML v1.0//EN
CALSCALE:GREGORIAN
METHOD:PUBLISH
X-WR-CALNAME:Hardloopevenementen
X-ORIGINAL-URL:https://hardloopevenementen.com
X-WR-CALDESC:Evenementen voor Hardloopevenementen
REFRESH-INTERVAL;VALUE=DURATION:PT1H
X-Robots-Tag:noindex
X-PUBLISHED-TTL:PT1H
BEGIN:VTIMEZONE
TZID:UTC
BEGIN:STANDARD
TZOFFSETFROM:+0000
TZOFFSETTO:+0000
TZNAME:UTC
DTSTART:20070101T000000
END:STANDARD
END:VTIMEZONE
BEGIN:VEVENT
DTSTART;VALUE=DATE:20080927
DTEND;VALUE=DATE:20080928
DTSTAMP:20260422T003839
CREATED:20130729T040618Z
LAST-MODIFIED:20190423T094509Z
UID:19116-1222473600-1222473600@hardloopevenementen.com
SUMMARY:26e Joustermerkeloop Joure
DESCRIPTION:Doe mee met het hardloopevenement 26e Joustermerkeloop te Joure op za 27 sep 2008. De volgende afstanden staan op het programma: 7 km – 10 km – 11 km – 10 Engelse mijl – halve marathon hardlopen. Wilt u inschrijven voor dit loopevenement?  Raadpleeg hiervoor dan de website van de organisatie\nDe uitslagen van deze hardloopwedstrijd zijn te raadplegen via dezelfde website of via de bekende websites zoals uitslagen.nl\, runtimer en mylaps. Doet u mee met dit evenement\, zorg dan dat u goed voorbereid aan de start staat! Met een goed trainingsschema komt u een heel eind. Train bijvoorbeeld met start to run van Evy Gruyaert. Download de start to run mp3 bestanden en zet ze op uw telefoon. Oortjes in\, hit the play button en en rennen maar! \n\n\n\n\nMeer informatie over 26e Joustermerkeloop op Hardloopkalender.nl  \nstart  16\,1-21\,1 km 11:00 uur  7-7-11 km 11:15 uur  10 km 15:30 uur \n  \n  \n 
URL:https://hardloopevenementen.com/loopagenda/26e-joustermerkeloop-joure/
END:VEVENT
END:VCALENDAR