BEGIN:VCALENDAR
VERSION:2.0
PRODID:-//Hardloopevenementen - ECPv6.15.14//NONSGML v1.0//EN
CALSCALE:GREGORIAN
METHOD:PUBLISH
X-ORIGINAL-URL:https://hardloopevenementen.com
X-WR-CALDESC:Evenementen voor Hardloopevenementen
REFRESH-INTERVAL;VALUE=DURATION:PT1H
X-Robots-Tag:noindex
X-PUBLISHED-TTL:PT1H
BEGIN:VTIMEZONE
TZID:UTC
BEGIN:STANDARD
TZOFFSETFROM:+0000
TZOFFSETTO:+0000
TZNAME:UTC
DTSTART:20060101T000000
END:STANDARD
END:VTIMEZONE
BEGIN:VEVENT
DTSTART;VALUE=DATE:20080119
DTEND;VALUE=DATE:20080120
DTSTAMP:20260426T031240
CREATED:20061021T070113Z
LAST-MODIFIED:20190423T094942Z
UID:20313-1200700800-1200700800@hardloopevenementen.com
SUMMARY:Udikloop Klijndijk
DESCRIPTION:Doe mee met het hardloopevenement Udikloop te Klijndijk op za 19 jan 2008. De volgende afstanden staan op het programma: 6\,5 km – 10 km hardlopen. Wilt u inschrijven voor dit loopevenement?  Raadpleeg hiervoor dan de website van de organisatie\nDe uitslagen van deze hardloopwedstrijd zijn te raadplegen via dezelfde website of via de bekende websites zoals uitslagen.nl\, runtimer en mylaps. Doet u mee met dit evenement\, zorg dan dat u goed voorbereid aan de start staat! Met een goed trainingsschema komt u een heel eind. Train bijvoorbeeld met start to run van Evy Gruyaert. Download de start to run mp3 bestanden en zet ze op uw telefoon. Oortjes in\, hit the play button en en rennen maar! \n\n\n\n\nMeer informatie over Udikloop op Hardloopkalender.nl  \n6\,5-10 km 14:00 uur  ORGANISATIE   EAC De Sperwers         TELEFOONNUMMER   0591-514931 \n  \n  \n 
URL:https://hardloopevenementen.com/loopagenda/udikloop-klijndijk-2/
END:VEVENT
BEGIN:VEVENT
DTSTART;VALUE=DATE:20070120
DTEND;VALUE=DATE:20070121
DTSTAMP:20260426T031240
CREATED:20150405T204530Z
LAST-MODIFIED:20190423T094058Z
UID:787-1169251200-1169251200@hardloopevenementen.com
SUMMARY:Udikloop Klijndijk
DESCRIPTION:Doe mee met het hardloopevenement Udikloop te Klijndijk op za 20 jan 2007. De volgende afstanden staan op het programma: 10 km hardlopen. Wilt u inschrijven voor dit loopevenement?  Raadpleeg hiervoor dan de website van de organisatie\nDe uitslagen van deze hardloopwedstrijd zijn te raadplegen via dezelfde website of via de bekende websites zoals uitslagen.nl\, runtimer en mylaps. Doet u mee met dit evenement\, zorg dan dat u goed voorbereid aan de start staat! Met een goed trainingsschema komt u een heel eind. Train bijvoorbeeld met start to run van Evy Gruyaert. Download de start to run mp3 bestanden en zet ze op uw telefoon. Oortjes in\, hit the play button en en rennen maar! \n\n\n\n\nMeer informatie over Udikloop op Hardloopkalender.nl  \n  \n  \n 
URL:https://hardloopevenementen.com/loopagenda/udikloop-klijndijk/
END:VEVENT
END:VCALENDAR