BEGIN:VCALENDAR
VERSION:2.0
PRODID:-//Hardloopevenementen - ECPv6.15.14//NONSGML v1.0//EN
CALSCALE:GREGORIAN
METHOD:PUBLISH
X-ORIGINAL-URL:https://hardloopevenementen.com
X-WR-CALDESC:Evenementen voor Hardloopevenementen
REFRESH-INTERVAL;VALUE=DURATION:PT1H
X-Robots-Tag:noindex
X-PUBLISHED-TTL:PT1H
BEGIN:VTIMEZONE
TZID:UTC
BEGIN:STANDARD
TZOFFSETFROM:+0000
TZOFFSETTO:+0000
TZNAME:UTC
DTSTART:20090101T000000
END:STANDARD
END:VTIMEZONE
BEGIN:VEVENT
DTSTART;VALUE=DATE:20180427
DTEND;VALUE=DATE:20180428
DTSTAMP:20260424T190504
CREATED:20150313T125813Z
LAST-MODIFIED:20190423T120523Z
UID:16690-1524787200-1524787200@hardloopevenementen.com
SUMMARY:Bavaria Kings en Queens Run Lieshout\, gemeente Laarbeek (NB)
DESCRIPTION:Doe mee met het hardloopevenement Bavaria Kings en Queens Run te Lieshout\, gemeente Laarbeek (NB) op vr 27 apr 2018. De volgende afstanden staan op het programma: 2\,5 km – 5 km – 7\,5 km – 10 km hardlopen. Wilt u inschrijven voor dit loopevenement?  Raadpleeg hiervoor dan de website van de organisatie\nDe uitslagen van deze hardloopwedstrijd zijn te raadplegen via dezelfde website of via de bekende websites zoals uitslagen.nl\, runtimer en mylaps. Doet u mee met dit evenement\, zorg dan dat u goed voorbereid aan de start staat! Met een goed trainingsschema komt u een heel eind. Train bijvoorbeeld met start to run van Evy Gruyaert. Download de start to run mp3 bestanden en zet ze op uw telefoon. Oortjes in\, hit the play button en en rennen maar! \n\n\n\n\nMeer informatie over Bavaria Kings en Queens Run op Hardloopkalender.nl  \nKroon jezelf tot King of Queen op jouw favoriete afstand. De Run bestaat uit vier dorpsronden van 2\,5 km\, en je kunt zelf je favoriete afstand kiezen. Voor de kinderen is er de Prinsen & Prinsessen Run. Er is een muzikale warming up\, en als speciale gasten: “Maxima en Wim-Lex” …   Super gezellig dus! \n  \n  \n 
URL:https://hardloopevenementen.com/loopagenda/bavaria-kings-en-queens-run-lieshout-gemeente-laarbeek-nb/
END:VEVENT
BEGIN:VEVENT
DTSTART;VALUE=DATE:20170423
DTEND;VALUE=DATE:20170424
DTSTAMP:20260424T190504
CREATED:20130915T173528Z
LAST-MODIFIED:20190423T114657Z
UID:14895-1492905600-1492905600@hardloopevenementen.com
SUMMARY:Oranjeloop Lieshout Lieshout\, gemeente Laarbeek (NB)
DESCRIPTION:Doe mee met het hardloopevenement Oranjeloop Lieshout te Lieshout\, gemeente Laarbeek (NB) op zo 23 apr 2017. De volgende afstanden staan op het programma: 5 km – 10 km – 15 km – halve marathon hardlopen. Wilt u inschrijven voor dit loopevenement?  Raadpleeg hiervoor dan de website van de organisatie\nDe uitslagen van deze hardloopwedstrijd zijn te raadplegen via dezelfde website of via de bekende websites zoals uitslagen.nl\, runtimer en mylaps. Doet u mee met dit evenement\, zorg dan dat u goed voorbereid aan de start staat! Met een goed trainingsschema komt u een heel eind. Train bijvoorbeeld met start to run van Evy Gruyaert. Download de start to run mp3 bestanden en zet ze op uw telefoon. Oortjes in\, hit the play button en en rennen maar! \n\n\n\n\nMeer informatie over Oranjeloop Lieshout op Hardloopkalender.nl  \nHet parcours van 5 km gaat over verharde wegen deels door de straten van Lieshout en deels door het mooie buitengebied.  Tijdwaarneming met behulp van chips  en geldprijzen.  Omkleden en inschrijven in Sporthal de Klumper\, Papenhoef 2\, 5737BS Lieshout.  Inschrijven via inschrijven.nl tot en met 19 april\, kosten 7 euro. Na- inschrijven op de dag zelf van 8.30 – 10.15 kosten 9 euro. \n  \n  \n 
URL:https://hardloopevenementen.com/loopagenda/oranjeloop-lieshout-lieshout-gemeente-laarbeek-nb/
END:VEVENT
BEGIN:VEVENT
DTSTART;VALUE=DATE:20160424
DTEND;VALUE=DATE:20160425
DTSTAMP:20260424T190504
CREATED:20141108T201829Z
LAST-MODIFIED:20190423T112549Z
UID:12901-1461456000-1461456000@hardloopevenementen.com
SUMMARY:Oranjeloop Lieshout\, gemeente Laarbeek (NB)
DESCRIPTION:Doe mee met het hardloopevenement Oranjeloop te Lieshout\, gemeente Laarbeek (NB) op zo 24 apr 2016. De volgende afstanden staan op het programma: 5 km – 10 km – 15 km – halve marathon hardlopen. Wilt u inschrijven voor dit loopevenement?  Raadpleeg hiervoor dan de website van de organisatie\nDe uitslagen van deze hardloopwedstrijd zijn te raadplegen via dezelfde website of via de bekende websites zoals uitslagen.nl\, runtimer en mylaps. Doet u mee met dit evenement\, zorg dan dat u goed voorbereid aan de start staat! Met een goed trainingsschema komt u een heel eind. Train bijvoorbeeld met start to run van Evy Gruyaert. Download de start to run mp3 bestanden en zet ze op uw telefoon. Oortjes in\, hit the play button en en rennen maar! \n\n\n\n\nMeer informatie over Oranjeloop op Hardloopkalender.nl  \nStarttijd is 11.00 uur en voorafgaand is er een ouder kind loop en een loop voor scholieren.  Inschrijven kan via inschrijven.nl \n  \n  \n 
URL:https://hardloopevenementen.com/loopagenda/oranjeloop-lieshout-gemeente-laarbeek-nb-4/
END:VEVENT
BEGIN:VEVENT
DTSTART;VALUE=DATE:20150426
DTEND;VALUE=DATE:20150427
DTSTAMP:20260424T190504
CREATED:20130120T124715Z
LAST-MODIFIED:20190423T111248Z
UID:10600-1430006400-1430006400@hardloopevenementen.com
SUMMARY:Oranjeloop Lieshout\, gemeente Laarbeek (NB)
DESCRIPTION:Doe mee met het hardloopevenement Oranjeloop te Lieshout\, gemeente Laarbeek (NB) op zo 26 apr 2015. De volgende afstanden staan op het programma: 5 km – 10 km – halve marathon hardlopen. Wilt u inschrijven voor dit loopevenement?  Raadpleeg hiervoor dan de website van de organisatie\nDe uitslagen van deze hardloopwedstrijd zijn te raadplegen via dezelfde website of via de bekende websites zoals uitslagen.nl\, runtimer en mylaps. Doet u mee met dit evenement\, zorg dan dat u goed voorbereid aan de start staat! Met een goed trainingsschema komt u een heel eind. Train bijvoorbeeld met start to run van Evy Gruyaert. Download de start to run mp3 bestanden en zet ze op uw telefoon. Oortjes in\, hit the play button en en rennen maar! \n\n\n\n\nMeer informatie over Oranjeloop op Hardloopkalender.nl  \nHet loopevenement Oranjeloop te Lieshout vindt plaats op zondag 26 april 2015. \n  \n  \n 
URL:https://hardloopevenementen.com/loopagenda/oranjeloop-lieshout-gemeente-laarbeek-nb-3/
END:VEVENT
BEGIN:VEVENT
DTSTART;VALUE=DATE:20140427
DTEND;VALUE=DATE:20140428
DTSTAMP:20260424T190504
CREATED:20090122T042332Z
LAST-MODIFIED:20190423T105555Z
UID:34220-1398556800-1398556800@hardloopevenementen.com
SUMMARY:Oranjeloop Lieshout\, gemeente Laarbeek (NB)
DESCRIPTION:Doe mee met het hardloopevenement Oranjeloop te Lieshout\, gemeente Laarbeek (NB) op zo 27 apr 2014. De volgende afstanden staan op het programma: 5 km – 10 km – halve marathon hardlopen. Wilt u inschrijven voor dit loopevenement?  Raadpleeg hiervoor dan de website van de organisatie\nDe uitslagen van deze hardloopwedstrijd zijn te raadplegen via dezelfde website of via de bekende websites zoals uitslagen.nl\, runtimer en mylaps. Doet u mee met dit evenement\, zorg dan dat u goed voorbereid aan de start staat! Met een goed trainingsschema komt u een heel eind. Train bijvoorbeeld met start to run van Evy Gruyaert. Download de start to run mp3 bestanden en zet ze op uw telefoon. Oortjes in\, hit the play button en en rennen maar! \n\n\n\n\nMeer informatie over Oranjeloop op Hardloopkalender.nl  \nHet loopevenement Oranjeloop te Lieshout vindt plaats op zondag 27 april 2014. De loop wordt georganisseerd door Runnersclub Lieshout. Klik hier voor het adres van de start (Google Maps). \n  \n  \n 
URL:https://hardloopevenementen.com/loopagenda/oranjeloop-lieshout-gemeente-laarbeek-nb-8/
END:VEVENT
BEGIN:VEVENT
DTSTART;VALUE=DATE:20130428
DTEND;VALUE=DATE:20130429
DTSTAMP:20260424T190504
CREATED:20160220T114917Z
LAST-MODIFIED:20190423T104308Z
UID:31821-1367107200-1367107200@hardloopevenementen.com
SUMMARY:Oranjeloop Lieshout\, gemeente Laarbeek (NB)
DESCRIPTION:Doe mee met het hardloopevenement Oranjeloop te Lieshout\, gemeente Laarbeek (NB) op zo 28 apr 2013. De volgende afstanden staan op het programma: 0\,5 km – 1 km – 2\,5 km – 5 km – 7 km – 10 km – 14 km – 10 Engelse mijl – halve marathon hardlopen. Wilt u inschrijven voor dit loopevenement?  Raadpleeg hiervoor dan de website van de organisatie\nDe uitslagen van deze hardloopwedstrijd zijn te raadplegen via dezelfde website of via de bekende websites zoals uitslagen.nl\, runtimer en mylaps. Doet u mee met dit evenement\, zorg dan dat u goed voorbereid aan de start staat! Met een goed trainingsschema komt u een heel eind. Train bijvoorbeeld met start to run van Evy Gruyaert. Download de start to run mp3 bestanden en zet ze op uw telefoon. Oortjes in\, hit the play button en en rennen maar! \n\n\n\n\nMeer informatie over Oranjeloop op Hardloopkalender.nl  \nHet loopevenement Oranjeloop te Lieshout vindt plaats op zondag 28 april 2013. De loop wordt georganisseerd door Runnersclub Lieshout. Inschrijven is mogelijk vanaf 13 oktober 2012. Klik hier voor het adres van de start (Google Maps).Er is verkleedaccomodatie met douchemogelijkheid aanwezig. Er is EHBO aanwezig. Voor meer informatie:Loes Janssenoranjeloop@runnersclublieshout.nl0492384827http:  www.runnersclublieshout.nl \n  \n  \n 
URL:https://hardloopevenementen.com/loopagenda/oranjeloop-lieshout-gemeente-laarbeek-nb-7/
END:VEVENT
BEGIN:VEVENT
DTSTART;VALUE=DATE:20110501
DTEND;VALUE=DATE:20110502
DTSTAMP:20260424T190504
CREATED:20120703T063432Z
LAST-MODIFIED:20190423T102155Z
UID:7051-1304208000-1304208000@hardloopevenementen.com
SUMMARY:Oranjeloop Lieshout\, gemeente Laarbeek (NB)
DESCRIPTION:Doe mee met het hardloopevenement Oranjeloop te Lieshout\, gemeente Laarbeek (NB) op zo 01 mei 2011. De volgende afstanden staan op het programma: 5 km – 10 km – 15 km – halve marathon hardlopen. Wilt u inschrijven voor dit loopevenement?  Raadpleeg hiervoor dan de website van de organisatie\nDe uitslagen van deze hardloopwedstrijd zijn te raadplegen via dezelfde website of via de bekende websites zoals uitslagen.nl\, runtimer en mylaps. Doet u mee met dit evenement\, zorg dan dat u goed voorbereid aan de start staat! Met een goed trainingsschema komt u een heel eind. Train bijvoorbeeld met start to run van Evy Gruyaert. Download de start to run mp3 bestanden en zet ze op uw telefoon. Oortjes in\, hit the play button en en rennen maar! \n\n\n\n\nMeer informatie over Oranjeloop op Hardloopkalender.nl  \n  \n  \n 
URL:https://hardloopevenementen.com/loopagenda/oranjeloop-lieshout-gemeente-laarbeek-nb-2/
END:VEVENT
BEGIN:VEVENT
DTSTART;VALUE=DATE:20110501
DTEND;VALUE=DATE:20110502
DTSTAMP:20260424T190504
CREATED:20091108T211552Z
LAST-MODIFIED:20190423T102157Z
UID:7060-1304208000-1304208000@hardloopevenementen.com
SUMMARY:Extran Oranjeloop Lieshout\, gemeente Laarbeek (NB)
DESCRIPTION:Doe mee met het hardloopevenement Extran Oranjeloop te Lieshout\, gemeente Laarbeek (NB) op zo 01 mei 2011. De volgende afstanden staan op het programma: 5 km – 10 km – 15 km – halve marathon hardlopen. Wilt u inschrijven voor dit loopevenement?  Raadpleeg hiervoor dan de website van de organisatie\nDe uitslagen van deze hardloopwedstrijd zijn te raadplegen via dezelfde website of via de bekende websites zoals uitslagen.nl\, runtimer en mylaps. Doet u mee met dit evenement\, zorg dan dat u goed voorbereid aan de start staat! Met een goed trainingsschema komt u een heel eind. Train bijvoorbeeld met start to run van Evy Gruyaert. Download de start to run mp3 bestanden en zet ze op uw telefoon. Oortjes in\, hit the play button en en rennen maar! \n\n\n\n\nMeer informatie over Extran Oranjeloop op Hardloopkalender.nl  \nInschrijven vanaf 09.30 uur Sporthal De Klumper te Lieshout. \n  \n  \n 
URL:https://hardloopevenementen.com/loopagenda/extran-oranjeloop-lieshout-gemeente-laarbeek-nb/
END:VEVENT
BEGIN:VEVENT
DTSTART;VALUE=DATE:20100430
DTEND;VALUE=DATE:20100501
DTSTAMP:20260424T190504
CREATED:20120305T233402Z
LAST-MODIFIED:20190423T101218Z
UID:23567-1272585600-1272585600@hardloopevenementen.com
SUMMARY:Oranjeloop Lieshout\, gemeente Laarbeek (NB)
DESCRIPTION:Doe mee met het hardloopevenement Oranjeloop te Lieshout\, gemeente Laarbeek (NB) op vr 30 apr 2010. De volgende afstanden staan op het programma: 5 km – 10 km – 15 km – halve marathon hardlopen. Wilt u inschrijven voor dit loopevenement?  Raadpleeg hiervoor dan de website van de organisatie\nDe uitslagen van deze hardloopwedstrijd zijn te raadplegen via dezelfde website of via de bekende websites zoals uitslagen.nl\, runtimer en mylaps. Doet u mee met dit evenement\, zorg dan dat u goed voorbereid aan de start staat! Met een goed trainingsschema komt u een heel eind. Train bijvoorbeeld met start to run van Evy Gruyaert. Download de start to run mp3 bestanden en zet ze op uw telefoon. Oortjes in\, hit the play button en en rennen maar! \n\n\n\n\nMeer informatie over Oranjeloop op Hardloopkalender.nl  \nStart 18:00  Inschrijven in de Klumper op de dag zelf vanaf 16:00 uur \n  \n  \n 
URL:https://hardloopevenementen.com/loopagenda/oranjeloop-lieshout-gemeente-laarbeek-nb-5/
END:VEVENT
END:VCALENDAR