BEGIN:VCALENDAR
VERSION:2.0
PRODID:-//Hardloopevenementen - ECPv6.15.14//NONSGML v1.0//EN
CALSCALE:GREGORIAN
METHOD:PUBLISH
X-WR-CALNAME:Hardloopevenementen
X-ORIGINAL-URL:https://hardloopevenementen.com
X-WR-CALDESC:Evenementen voor Hardloopevenementen
REFRESH-INTERVAL;VALUE=DURATION:PT1H
X-Robots-Tag:noindex
X-PUBLISHED-TTL:PT1H
BEGIN:VTIMEZONE
TZID:UTC
BEGIN:STANDARD
TZOFFSETFROM:+0000
TZOFFSETTO:+0000
TZNAME:UTC
DTSTART:20140101T000000
END:STANDARD
END:VTIMEZONE
BEGIN:VEVENT
DTSTART;VALUE=DATE:20150913
DTEND;VALUE=DATE:20150914
DTSTAMP:20260421T033758
CREATED:20141222T041833Z
LAST-MODIFIED:20190423T110919Z
UID:9801-1442102400-1442102400@hardloopevenementen.com
SUMMARY:Noordhoek-run Moerdijk (NB)
DESCRIPTION:Doe mee met het hardloopevenement Noordhoek-run te Moerdijk (NB) op zo 13 sep 2015. De volgende afstanden staan op het programma: 5 km – 10 km hardlopen. Wilt u inschrijven voor dit loopevenement?  Raadpleeg hiervoor dan de website van de organisatie\nDe uitslagen van deze hardloopwedstrijd zijn te raadplegen via dezelfde website of via de bekende websites zoals uitslagen.nl\, runtimer en mylaps. Doet u mee met dit evenement\, zorg dan dat u goed voorbereid aan de start staat! Met een goed trainingsschema komt u een heel eind. Train bijvoorbeeld met start to run van Evy Gruyaert. Download de start to run mp3 bestanden en zet ze op uw telefoon. Oortjes in\, hit the play button en en rennen maar! \n\n\n\n\nMeer informatie over Noordhoek-run op Hardloopkalender.nl  \nNoordhoek-run vindt plaats in dorp Noordhoek in de gemeente Moerdijk (NB).  Programma: 11:00u start 5 en 10 km\, 11:15u stiletto-run\, 12:30u prijsuitreiking 5 en 10 km\, 13:00u kids-run (afstand afhankelijk van leeftijd).  Inschrijven: vooraf via website www.sdn-noordhoek.nl (kosten  4\,-) of op wedstrijddag vanaf 10:00u in d’Oude School te Noordhoek (kosten  5\,-).  Voor meer informatie\, zie website. \n  \n  \n 
URL:https://hardloopevenementen.com/loopagenda/noordhoek-run-moerdijk-nb/
END:VEVENT
END:VCALENDAR