BEGIN:VCALENDAR
VERSION:2.0
PRODID:-//Hardloopevenementen - ECPv6.15.14//NONSGML v1.0//EN
CALSCALE:GREGORIAN
METHOD:PUBLISH
X-ORIGINAL-URL:https://hardloopevenementen.com
X-WR-CALDESC:Evenementen voor Hardloopevenementen
REFRESH-INTERVAL;VALUE=DURATION:PT1H
X-Robots-Tag:noindex
X-PUBLISHED-TTL:PT1H
BEGIN:VTIMEZONE
TZID:UTC
BEGIN:STANDARD
TZOFFSETFROM:+0000
TZOFFSETTO:+0000
TZNAME:UTC
DTSTART:20130101T000000
END:STANDARD
END:VTIMEZONE
BEGIN:VEVENT
DTSTART;VALUE=DATE:20190427
DTEND;VALUE=DATE:20190428
DTSTAMP:20260421T183616
CREATED:20101210T145332Z
LAST-MODIFIED:20191114T112651Z
UID:17697-1556323200-1556323200@hardloopevenementen.com
SUMMARY:Wijboschloop Koningsdag Schijndel Schijndel (NB)
DESCRIPTION:Doe mee met het hardloopevenement Wijboschloop Koningsdag Schijndel te Schijndel (NB) op za 27 apr 2019. De volgende afstanden staan op het programma: 5 km – 10 km hardlopen. Wilt u inschrijven voor dit loopevenement?  Raadpleeg hiervoor dan de website van de organisatie\nDe uitslagen van deze hardloopwedstrijd zijn te raadplegen via dezelfde website of via de bekende websites zoals uitslagen.nl\, runtimer en mylaps. Doet u mee met dit evenement\, zorg dan dat u goed voorbereid aan de start staat! Met een goed trainingsschema komt u een heel eind. Train bijvoorbeeld met start to run van Evy Gruyaert. Download de start to run mp3 bestanden en zet ze op uw telefoon. Oortjes in\, hit the play button en en rennen maar! \n\n\n\n\nMeer informatie over Wijboschloop Koningsdag Schijndel op Hardloopkalender.nl  \nLeuke loop door natuurgebied Wijboschbroek in Schijndel. \n  \n  \n 
URL:https://hardloopevenementen.com/loopagenda/wijboschloop-koningsdag-schijndel-schijndel-nb/
END:VEVENT
BEGIN:VEVENT
DTSTART;VALUE=DATE:20180825
DTEND;VALUE=DATE:20180826
DTSTAMP:20260421T183616
CREATED:20151212T101714Z
LAST-MODIFIED:20190423T120318Z
UID:16132-1535155200-1535155200@hardloopevenementen.com
SUMMARY:De Loop Naar De Pomp Schijndel (NB)
DESCRIPTION:Doe mee met het hardloopevenement De Loop Naar De Pomp te Schijndel (NB) op za 25 aug 2018. De volgende afstanden staan op het programma: 0\,9 km – 1\,8 km – 5 km – 10 km hardlopen. Wilt u inschrijven voor dit loopevenement?  Raadpleeg hiervoor dan de website van de organisatie\nDe uitslagen van deze hardloopwedstrijd zijn te raadplegen via dezelfde website of via de bekende websites zoals uitslagen.nl\, runtimer en mylaps. Doet u mee met dit evenement\, zorg dan dat u goed voorbereid aan de start staat! Met een goed trainingsschema komt u een heel eind. Train bijvoorbeeld met start to run van Evy Gruyaert. Download de start to run mp3 bestanden en zet ze op uw telefoon. Oortjes in\, hit the play button en en rennen maar! \n\n\n\n\nMeer informatie over De Loop Naar De Pomp op Hardloopkalender.nl  \nWedstrijd en Recreantenloop.  Parcours centrum Schijndel\, supersnelle ronde van 5 km.  10km is onderdeel van Loop Circuit Meierijstad.  Inschrijven via www.inschrijven.nl  Jeugdloop 900-1800 m  1\,50  – 5 km  5\,00 – 10 km  10\,00  Starttijden vanaf 18.00  uur jeugdloop 18.30 uur 5 en 10 km. \n  \n  \n 
URL:https://hardloopevenementen.com/loopagenda/de-loop-naar-de-pomp-schijndel-nb-3/
END:VEVENT
BEGIN:VEVENT
DTSTART;VALUE=DATE:20170826
DTEND;VALUE=DATE:20170827
DTSTAMP:20260421T183616
CREATED:20180302T200614Z
LAST-MODIFIED:20190423T114435Z
UID:14255-1503705600-1503705600@hardloopevenementen.com
SUMMARY:De Loop Naar De Pomp Schijndel (NB)
DESCRIPTION:Doe mee met het hardloopevenement De Loop Naar De Pomp te Schijndel (NB) op za 26 aug 2017. De volgende afstanden staan op het programma: 1 km – 5 km – 10 km hardlopen. Wilt u inschrijven voor dit loopevenement?  Raadpleeg hiervoor dan de website van de organisatie\nDe uitslagen van deze hardloopwedstrijd zijn te raadplegen via dezelfde website of via de bekende websites zoals uitslagen.nl\, runtimer en mylaps. Doet u mee met dit evenement\, zorg dan dat u goed voorbereid aan de start staat! Met een goed trainingsschema komt u een heel eind. Train bijvoorbeeld met start to run van Evy Gruyaert. Download de start to run mp3 bestanden en zet ze op uw telefoon. Oortjes in\, hit the play button en en rennen maar! \n\n\n\n\nMeer informatie over De Loop Naar De Pomp op Hardloopkalender.nl  \n  \n  \n 
URL:https://hardloopevenementen.com/loopagenda/de-loop-naar-de-pomp-schijndel-nb-2/
END:VEVENT
BEGIN:VEVENT
DTSTART;VALUE=DATE:20170427
DTEND;VALUE=DATE:20170428
DTSTAMP:20260421T183616
CREATED:20061130T200102Z
LAST-MODIFIED:20190423T114651Z
UID:14864-1493251200-1493251200@hardloopevenementen.com
SUMMARY:Koningsdagloop Schijndel (NB)
DESCRIPTION:Doe mee met het hardloopevenement Koningsdagloop te Schijndel (NB) op do 27 apr 2017. De volgende afstanden staan op het programma: 2\,5 km – 5 km – 10 km hardlopen. Wilt u inschrijven voor dit loopevenement?  Raadpleeg hiervoor dan de website van de organisatie\nDe uitslagen van deze hardloopwedstrijd zijn te raadplegen via dezelfde website of via de bekende websites zoals uitslagen.nl\, runtimer en mylaps. Doet u mee met dit evenement\, zorg dan dat u goed voorbereid aan de start staat! Met een goed trainingsschema komt u een heel eind. Train bijvoorbeeld met start to run van Evy Gruyaert. Download de start to run mp3 bestanden en zet ze op uw telefoon. Oortjes in\, hit the play button en en rennen maar! \n\n\n\n\nMeer informatie over Koningsdagloop op Hardloopkalender.nl  \n  \n  \n 
URL:https://hardloopevenementen.com/loopagenda/koningsdagloop-schijndel-nb/
END:VEVENT
BEGIN:VEVENT
DTSTART;VALUE=DATE:20160827
DTEND;VALUE=DATE:20160828
DTSTAMP:20260421T183616
CREATED:20121105T153207Z
LAST-MODIFIED:20190423T112256Z
UID:12159-1472256000-1472256000@hardloopevenementen.com
SUMMARY:de loop naar de pomp Schijndel (NB)
DESCRIPTION:Doe mee met het hardloopevenement de loop naar de pomp te Schijndel (NB) op za 27 aug 2016. De volgende afstanden staan op het programma: 1 km – 5 km – 10 km hardlopen. Wilt u inschrijven voor dit loopevenement?  Raadpleeg hiervoor dan de website van de organisatie\nDe uitslagen van deze hardloopwedstrijd zijn te raadplegen via dezelfde website of via de bekende websites zoals uitslagen.nl\, runtimer en mylaps. Doet u mee met dit evenement\, zorg dan dat u goed voorbereid aan de start staat! Met een goed trainingsschema komt u een heel eind. Train bijvoorbeeld met start to run van Evy Gruyaert. Download de start to run mp3 bestanden en zet ze op uw telefoon. Oortjes in\, hit the play button en en rennen maar! \n\n\n\n\nMeer informatie over de loop naar de pomp op Hardloopkalender.nl  \nHardloopwedstrijd voor wedstrijdatleten en recreanten + jeugdloop  exact gemeten parcours in het buitengebied over geasvalteerde wegen met start en finish in het centrum van Schijndel. Starttijden jeugd 18.00 uur 5-10 km 18.30 uur inschrijven www.inschrijven.nl of via de link op www.loopsportmeierijstad.nl \n  \n  \n 
URL:https://hardloopevenementen.com/loopagenda/de-loop-naar-de-pomp-schijndel-nb/
END:VEVENT
BEGIN:VEVENT
DTSTART;VALUE=DATE:20140531
DTEND;VALUE=DATE:20140601
DTSTAMP:20260421T183616
CREATED:20120713T000249Z
LAST-MODIFIED:20190423T105451Z
UID:33985-1401494400-1401494400@hardloopevenementen.com
SUMMARY:ALS Spectrumloop Schijndel (NB)
DESCRIPTION:Doe mee met het hardloopevenement ALS Spectrumloop te Schijndel (NB) op za 31 mei 2014. De volgende afstanden staan op het programma: 5 km – 10 km hardlopen. Wilt u inschrijven voor dit loopevenement?  Raadpleeg hiervoor dan de website van de organisatie\nDe uitslagen van deze hardloopwedstrijd zijn te raadplegen via dezelfde website of via de bekende websites zoals uitslagen.nl\, runtimer en mylaps. Doet u mee met dit evenement\, zorg dan dat u goed voorbereid aan de start staat! Met een goed trainingsschema komt u een heel eind. Train bijvoorbeeld met start to run van Evy Gruyaert. Download de start to run mp3 bestanden en zet ze op uw telefoon. Oortjes in\, hit the play button en en rennen maar! \n\n\n\n\nMeer informatie over ALS Spectrumloop op Hardloopkalender.nl  \nTrimloop over 5 of 10 km  Er is ook ween wandel evenement    De gehele opbrengst komt ten goede aan stichting  ALS    Steun Stichting ALS    Er is de mogelijkheid om  op de dag van de loop in te schrijven.  Indien  je voor in wil schijven     zie:  http:  www.fortuna67.nl index.php component rsform form 8-inschrijfformulier-als-spectrumloop-31-mei-2014 \n  \n  \n 
URL:https://hardloopevenementen.com/loopagenda/als-spectrumloop-schijndel-nb/
END:VEVENT
END:VCALENDAR