BEGIN:VCALENDAR
VERSION:2.0
PRODID:-//Hardloopevenementen - ECPv6.15.14//NONSGML v1.0//EN
CALSCALE:GREGORIAN
METHOD:PUBLISH
X-WR-CALNAME:Hardloopevenementen
X-ORIGINAL-URL:https://hardloopevenementen.com
X-WR-CALDESC:Evenementen voor Hardloopevenementen
REFRESH-INTERVAL;VALUE=DURATION:PT1H
X-Robots-Tag:noindex
X-PUBLISHED-TTL:PT1H
BEGIN:VTIMEZONE
TZID:UTC
BEGIN:STANDARD
TZOFFSETFROM:+0000
TZOFFSETTO:+0000
TZNAME:UTC
DTSTART:20160101T000000
END:STANDARD
END:VTIMEZONE
BEGIN:VEVENT
DTSTART;VALUE=DATE:20190901
DTEND;VALUE=DATE:20190902
DTSTAMP:20260423T142754
CREATED:20090726T031338Z
LAST-MODIFIED:20191114T112504Z
UID:141679-1567296000-1567296000@hardloopevenementen.com
SUMMARY:Royal Run Baarn (UT)
DESCRIPTION:Doe mee met het hardloopevenement Royal Run te Baarn (UT) op zo 01 sep 2019. De volgende afstanden staan op het programma: 3\,5 km – 7 km – 10\,5 km hardlopen. Wilt u inschrijven voor dit loopevenement?  Raadpleeg hiervoor dan de website van de organisatie\nDe uitslagen van deze hardloopwedstrijd zijn te raadplegen via dezelfde website of via de bekende websites zoals uitslagen.nl\, runtimer en mylaps. Doet u mee met dit evenement\, zorg dan dat u goed voorbereid aan de start staat! Met een goed trainingsschema komt u een heel eind. Train bijvoorbeeld met start to run van Evy Gruyaert. Download de start to run mp3 bestanden en zet ze op uw telefoon. Oortjes in\, hit the play button en en rennen maar! \n\n\n\n\nMeer informatie over Royal Run op Hardloopkalender.nl  \nUniek hardloopfeest op Paleis Soestdijk. Loop langs het beroemde bordes en daarna door het park en het bos dat normaal gesloten is voor alle bezoekers.  Ook een Kidsrun over 1300m\, met veel muziek\, lakeien en hofdames en na afloop voor alle deelnemers een koninklijk lintje. \n  \n  \n 
URL:https://hardloopevenementen.com/loopagenda/royal-run-baarn-ut-3/
END:VEVENT
BEGIN:VEVENT
DTSTART;VALUE=DATE:20180826
DTEND;VALUE=DATE:20180827
DTSTAMP:20260423T142754
CREATED:20120115T135500Z
LAST-MODIFIED:20190423T120318Z
UID:16131-1535241600-1535241600@hardloopevenementen.com
SUMMARY:Royal Run Baarn (UT)
DESCRIPTION:Doe mee met het hardloopevenement Royal Run te Baarn (UT) op zo 26 aug 2018. De volgende afstanden staan op het programma: 3\,5 km – 7 km – 10\,5 km hardlopen. Wilt u inschrijven voor dit loopevenement?  Raadpleeg hiervoor dan de website van de organisatie\nDe uitslagen van deze hardloopwedstrijd zijn te raadplegen via dezelfde website of via de bekende websites zoals uitslagen.nl\, runtimer en mylaps. Doet u mee met dit evenement\, zorg dan dat u goed voorbereid aan de start staat! Met een goed trainingsschema komt u een heel eind. Train bijvoorbeeld met start to run van Evy Gruyaert. Download de start to run mp3 bestanden en zet ze op uw telefoon. Oortjes in\, hit the play button en en rennen maar! \n\n\n\n\nMeer informatie over Royal Run op Hardloopkalender.nl  \nUniek hardloopfeest op het terrein van Paleis Soestdijk. Ook een Kidsrun over 1300 m. met voor een ieder bij de finish een Koninklijke medaille. met hofdames\, lakeien en veel muziek. Je loopt o.a. langs het bekende bordes van het paleis. \n  \n  \n 
URL:https://hardloopevenementen.com/loopagenda/royal-run-baarn-ut-2/
END:VEVENT
BEGIN:VEVENT
DTSTART;VALUE=DATE:20170827
DTEND;VALUE=DATE:20170828
DTSTAMP:20260423T142754
CREATED:20140907T221337Z
LAST-MODIFIED:20190423T114430Z
UID:14235-1503792000-1503792000@hardloopevenementen.com
SUMMARY:Royal Run Baarn (UT)
DESCRIPTION:Doe mee met het hardloopevenement Royal Run te Baarn (UT) op zo 27 aug 2017. De volgende afstanden staan op het programma: 1\,3 km – 3\,5 km – 7 km – 10\,5 km hardlopen. Wilt u inschrijven voor dit loopevenement?  Raadpleeg hiervoor dan de website van de organisatie\nDe uitslagen van deze hardloopwedstrijd zijn te raadplegen via dezelfde website of via de bekende websites zoals uitslagen.nl\, runtimer en mylaps. Doet u mee met dit evenement\, zorg dan dat u goed voorbereid aan de start staat! Met een goed trainingsschema komt u een heel eind. Train bijvoorbeeld met start to run van Evy Gruyaert. Download de start to run mp3 bestanden en zet ze op uw telefoon. Oortjes in\, hit the play button en en rennen maar! \n\n\n\n\nMeer informatie over Royal Run op Hardloopkalender.nl  \nUniek hardloopevenement in het park en het bos van Paleis Soestdijk. Je loopt  o.a. langs het bijzondere bordes van het paleis als een hardlopend defilé  en daarna via het park het koninklijke bos in\, dat normaal gesloten is voor alle bezoekers.  De afstand van 1300 meter is een Kidsrun. \n  \n  \n 
URL:https://hardloopevenementen.com/loopagenda/royal-run-baarn-ut/
END:VEVENT
END:VCALENDAR