BEGIN:VCALENDAR
VERSION:2.0
PRODID:-//Hardloopevenementen - ECPv6.15.14//NONSGML v1.0//EN
CALSCALE:GREGORIAN
METHOD:PUBLISH
X-WR-CALNAME:Hardloopevenementen
X-ORIGINAL-URL:https://hardloopevenementen.com
X-WR-CALDESC:Evenementen voor Hardloopevenementen
REFRESH-INTERVAL;VALUE=DURATION:PT1H
X-Robots-Tag:noindex
X-PUBLISHED-TTL:PT1H
BEGIN:VTIMEZONE
TZID:UTC
BEGIN:STANDARD
TZOFFSETFROM:+0000
TZOFFSETTO:+0000
TZNAME:UTC
DTSTART:20080101T000000
END:STANDARD
END:VTIMEZONE
BEGIN:VEVENT
DTSTART;VALUE=DATE:20090516
DTEND;VALUE=DATE:20090517
DTSTAMP:20260425T022853
CREATED:20110321T032442Z
LAST-MODIFIED:20190423T100125Z
UID:2327-1242432000-1242432000@hardloopevenementen.com
SUMMARY:Marathon Zeeuws-Vlaanderen Terneuzen (ZE)
DESCRIPTION:Doe mee met het hardloopevenement Marathon Zeeuws-Vlaanderen te Terneuzen (ZE) op za 16 mei 2009. De volgende afstanden staan op het programma: 1 km – 5\,2 km – 10\,5 km – marathon hardlopen. Wilt u inschrijven voor dit loopevenement?  Raadpleeg hiervoor dan de website van de organisatie\nDe uitslagen van deze hardloopwedstrijd zijn te raadplegen via dezelfde website of via de bekende websites zoals uitslagen.nl\, runtimer en mylaps. Doet u mee met dit evenement\, zorg dan dat u goed voorbereid aan de start staat! Met een goed trainingsschema komt u een heel eind. Train bijvoorbeeld met start to run van Evy Gruyaert. Download de start to run mp3 bestanden en zet ze op uw telefoon. Oortjes in\, hit the play button en en rennen maar! \n\n\n\n\nMeer informatie over Marathon Zeeuws-Vlaanderen op Hardloopkalender.nl  \nPrachtige natuurmarathon.   Startende in vestingsstad Hulst via Clingse en Steense bossen naar Axel.   Vervolgens naar Terneuzen.   14km onverharde maar vlakke goed beloopbare paden. Overige parcours hoofdzakelijk fietspaden.    GRENSVERLEGGEND EN AFWISSELEND    Internationaal deelnemersveld    Pendeldienst voorafgaande aan de start van Terneuzen naar Hulst    Ook de mogelijkheid tot het lopen van de marathon in estafettevorm (maximaal 4 personen) \n  \n  \n 
URL:https://hardloopevenementen.com/loopagenda/marathon-zeeuws-vlaanderen-terneuzen-ze/
END:VEVENT
END:VCALENDAR