BEGIN:VCALENDAR
VERSION:2.0
PRODID:-//Hardloopevenementen - ECPv6.15.14//NONSGML v1.0//EN
CALSCALE:GREGORIAN
METHOD:PUBLISH
X-WR-CALNAME:Hardloopevenementen
X-ORIGINAL-URL:https://hardloopevenementen.com
X-WR-CALDESC:Evenementen voor Hardloopevenementen
REFRESH-INTERVAL;VALUE=DURATION:PT1H
X-Robots-Tag:noindex
X-PUBLISHED-TTL:PT1H
BEGIN:VTIMEZONE
TZID:UTC
BEGIN:STANDARD
TZOFFSETFROM:+0000
TZOFFSETTO:+0000
TZNAME:UTC
DTSTART:20180101T000000
END:STANDARD
END:VTIMEZONE
BEGIN:VEVENT
DTSTART;VALUE=DATE:20190621
DTEND;VALUE=DATE:20190622
DTSTAMP:20260425T214226
CREATED:20150531T085416Z
LAST-MODIFIED:20191114T112554Z
UID:141710-1561075200-1561075200@hardloopevenementen.com
SUMMARY:MidZomerNacht Halve Marathon Zaltbommel (GE)
DESCRIPTION:Doe mee met het hardloopevenement MidZomerNacht Halve Marathon te Zaltbommel (GE) op vr 21 jun 2019. De volgende afstanden staan op het programma: 10\,5 km – halve marathon hardlopen. Wilt u inschrijven voor dit loopevenement?  Raadpleeg hiervoor dan de website van de organisatie\nDe uitslagen van deze hardloopwedstrijd zijn te raadplegen via dezelfde website of via de bekende websites zoals uitslagen.nl\, runtimer en mylaps. Doet u mee met dit evenement\, zorg dan dat u goed voorbereid aan de start staat! Met een goed trainingsschema komt u een heel eind. Train bijvoorbeeld met start to run van Evy Gruyaert. Download de start to run mp3 bestanden en zet ze op uw telefoon. Oortjes in\, hit the play button en en rennen maar! \n\n\n\n\nMeer informatie over MidZomerNacht Halve Marathon op Hardloopkalender.nl  \nOp vrijdag  21 juni vieren we de langste dag om 21:00 uur met de inmiddels traditionele #midzomernachthalvemarathon. Een ontspannen run over 21 kilometer (en 100meter).  Start en finish zijn op de Waalkade bij Grand Café  Brasserie  Restaurant De Verdraagzaamheid. Via de dijk lopen we naar het keerpunt bij Bistro In Petto in Rossum én vervolgens weer terug richting Zaltbommel voor een sfeervolle finish in de schemering.  Met gezellige borrel na afloop. Uiteraard!    Ook duo-deelname mogelijk (ieder 10\,5 kilometer). Deelname EUR 10\,- per persoon\, inclusief verfrissing halverwege en één consumptie  na afloop.    vragen?.. midzomernachthalvemarathon@gmail.com \n  \n  \n 
URL:https://hardloopevenementen.com/loopagenda/midzomernacht-halve-marathon-zaltbommel-ge-2/
END:VEVENT
END:VCALENDAR