BEGIN:VCALENDAR
VERSION:2.0
PRODID:-//Hardloopevenementen - ECPv6.15.14//NONSGML v1.0//EN
CALSCALE:GREGORIAN
METHOD:PUBLISH
X-ORIGINAL-URL:https://hardloopevenementen.com
X-WR-CALDESC:Evenementen voor Hardloopevenementen
REFRESH-INTERVAL;VALUE=DURATION:PT1H
X-Robots-Tag:noindex
X-PUBLISHED-TTL:PT1H
BEGIN:VTIMEZONE
TZID:UTC
BEGIN:STANDARD
TZOFFSETFROM:+0000
TZOFFSETTO:+0000
TZNAME:UTC
DTSTART:20070101T000000
END:STANDARD
END:VTIMEZONE
BEGIN:VEVENT
DTSTART;VALUE=DATE:20080113
DTEND;VALUE=DATE:20080114
DTSTAMP:20260423T024649
CREATED:20170525T221402Z
LAST-MODIFIED:20190423T094946Z
UID:20326-1200182400-1200182400@hardloopevenementen.com
SUMMARY:105e Roadrunnersloop Leiden
DESCRIPTION:Doe mee met het hardloopevenement 105e Roadrunnersloop te Leiden op zo 13 jan 2008. De volgende afstanden staan op het programma: 5 km – 10 km – 10 Engelse mijl – halve marathon hardlopen. Wilt u inschrijven voor dit loopevenement?  Raadpleeg hiervoor dan de website van de organisatie\nDe uitslagen van deze hardloopwedstrijd zijn te raadplegen via dezelfde website of via de bekende websites zoals uitslagen.nl\, runtimer en mylaps. Doet u mee met dit evenement\, zorg dan dat u goed voorbereid aan de start staat! Met een goed trainingsschema komt u een heel eind. Train bijvoorbeeld met start to run van Evy Gruyaert. Download de start to run mp3 bestanden en zet ze op uw telefoon. Oortjes in\, hit the play button en en rennen maar! \n\n\n\n\nMeer informatie over 105e Roadrunnersloop op Hardloopkalender.nl  \n5-10-16\,1-21\,1 km 10:30 uur  Sportcomplex De Vliet\, Voorschoterw  071-5802361 \n  \n  \n 
URL:https://hardloopevenementen.com/loopagenda/105e-roadrunnersloop-leiden/
END:VEVENT
END:VCALENDAR