BEGIN:VCALENDAR
VERSION:2.0
PRODID:-//Hardloopevenementen - ECPv6.15.14//NONSGML v1.0//EN
CALSCALE:GREGORIAN
METHOD:PUBLISH
X-WR-CALNAME:Hardloopevenementen
X-ORIGINAL-URL:https://hardloopevenementen.com
X-WR-CALDESC:Evenementen voor Hardloopevenementen
REFRESH-INTERVAL;VALUE=DURATION:PT1H
X-Robots-Tag:noindex
X-PUBLISHED-TTL:PT1H
BEGIN:VTIMEZONE
TZID:UTC
BEGIN:STANDARD
TZOFFSETFROM:+0000
TZOFFSETTO:+0000
TZNAME:UTC
DTSTART:20060101T000000
END:STANDARD
END:VTIMEZONE
BEGIN:VEVENT
DTSTART;VALUE=DATE:20080910
DTEND;VALUE=DATE:20080911
DTSTAMP:20260422T033412
CREATED:20091117T131659Z
LAST-MODIFIED:20190423T094533Z
UID:19218-1221004800-1221004800@hardloopevenementen.com
SUMMARY:11 van Bolsward Bolsward
DESCRIPTION:Doe mee met het hardloopevenement 11 van Bolsward te Bolsward op wo 10 sep 2008. De volgende afstanden staan op het programma: 1\,5 km – 11 km hardlopen. Wilt u inschrijven voor dit loopevenement?  Raadpleeg hiervoor dan de website van de organisatie\nDe uitslagen van deze hardloopwedstrijd zijn te raadplegen via dezelfde website of via de bekende websites zoals uitslagen.nl\, runtimer en mylaps. Doet u mee met dit evenement\, zorg dan dat u goed voorbereid aan de start staat! Met een goed trainingsschema komt u een heel eind. Train bijvoorbeeld met start to run van Evy Gruyaert. Download de start to run mp3 bestanden en zet ze op uw telefoon. Oortjes in\, hit the play button en en rennen maar! \n\n\n\n\nMeer informatie over 11 van Bolsward op Hardloopkalender.nl  \n1\,5 km 18:30 uur\, 11 km 19:00 uur \n  \n  \n 
URL:https://hardloopevenementen.com/loopagenda/11-van-bolsward-bolsward-2/
END:VEVENT
BEGIN:VEVENT
DTSTART;VALUE=DATE:20070912
DTEND;VALUE=DATE:20070913
DTSTAMP:20260422T033412
CREATED:20110514T161031Z
LAST-MODIFIED:20190423T093907Z
UID:311-1189555200-1189555200@hardloopevenementen.com
SUMMARY:11 van Bolsward Bolsward
DESCRIPTION:Doe mee met het hardloopevenement 11 van Bolsward te Bolsward op wo 12 sep 2007. De volgende afstanden staan op het programma: 1\,5 km – 11 km hardlopen. Wilt u inschrijven voor dit loopevenement?  Raadpleeg hiervoor dan de website van de organisatie\nDe uitslagen van deze hardloopwedstrijd zijn te raadplegen via dezelfde website of via de bekende websites zoals uitslagen.nl\, runtimer en mylaps. Doet u mee met dit evenement\, zorg dan dat u goed voorbereid aan de start staat! Met een goed trainingsschema komt u een heel eind. Train bijvoorbeeld met start to run van Evy Gruyaert. Download de start to run mp3 bestanden en zet ze op uw telefoon. Oortjes in\, hit the play button en en rennen maar! \n\n\n\n\nMeer informatie over 11 van Bolsward op Hardloopkalender.nl  \n  \n  \n 
URL:https://hardloopevenementen.com/loopagenda/11-van-bolsward-bolsward/
END:VEVENT
END:VCALENDAR