BEGIN:VCALENDAR
VERSION:2.0
PRODID:-//Hardloopevenementen - ECPv6.15.14//NONSGML v1.0//EN
CALSCALE:GREGORIAN
METHOD:PUBLISH
X-WR-CALNAME:Hardloopevenementen
X-ORIGINAL-URL:https://hardloopevenementen.com
X-WR-CALDESC:Evenementen voor Hardloopevenementen
REFRESH-INTERVAL;VALUE=DURATION:PT1H
X-Robots-Tag:noindex
X-PUBLISHED-TTL:PT1H
BEGIN:VTIMEZONE
TZID:UTC
BEGIN:STANDARD
TZOFFSETFROM:+0000
TZOFFSETTO:+0000
TZNAME:UTC
DTSTART:20110101T000000
END:STANDARD
END:VTIMEZONE
BEGIN:VEVENT
DTSTART;VALUE=DATE:20140126
DTEND;VALUE=DATE:20140127
DTSTAMP:20260425T145526
CREATED:20180308T174818Z
LAST-MODIFIED:20190423T105827Z
UID:34794-1390694400-1390694400@hardloopevenementen.com
SUMMARY:38ste Vlakwatercross Venray (LI)
DESCRIPTION:Doe mee met het hardloopevenement 38ste Vlakwatercross te Venray (LI) op zo 26 jan 2014. De volgende afstanden staan op het programma: 1\,1 km – 1\,6 km – 2\,1 km – 3\,2 km – 4\,1 km – 8\,1 km hardlopen. Wilt u inschrijven voor dit loopevenement?  Raadpleeg hiervoor dan de website van de organisatie\nDe uitslagen van deze hardloopwedstrijd zijn te raadplegen via dezelfde website of via de bekende websites zoals uitslagen.nl\, runtimer en mylaps. Doet u mee met dit evenement\, zorg dan dat u goed voorbereid aan de start staat! Met een goed trainingsschema komt u een heel eind. Train bijvoorbeeld met start to run van Evy Gruyaert. Download de start to run mp3 bestanden en zet ze op uw telefoon. Oortjes in\, hit the play button en en rennen maar! \n\n\n\n\nMeer informatie over 38ste Vlakwatercross op Hardloopkalender.nl  \nHet loopevenement 38ste Vlakwatercross te Venray vindt plaats op zondag 26 januari 2014. De loop wordt georganisseerd door ATV Venray. Klik hier voor het adres van de start (Google Maps).Bijzonderheden: Loop in bosgebied Vlakwater over mooie paden met spikes te belopen.. \n  \n  \n 
URL:https://hardloopevenementen.com/loopagenda/38ste-vlakwatercross-venray-li/
END:VEVENT
BEGIN:VEVENT
DTSTART;VALUE=DATE:20130127
DTEND;VALUE=DATE:20130128
DTSTAMP:20260425T145526
CREATED:20070902T150712Z
LAST-MODIFIED:20190423T104525Z
UID:32349-1359244800-1359244800@hardloopevenementen.com
SUMMARY:37ste Vlakwatercross Venray (LI)
DESCRIPTION:Doe mee met het hardloopevenement 37ste Vlakwatercross te Venray (LI) op zo 27 jan 2013. De volgende afstanden staan op het programma: 1\,1 km – 1\,6 km – 2\,1 km – 3\,2 km – 4\,1 km – 8\,1 km hardlopen. Wilt u inschrijven voor dit loopevenement?  Raadpleeg hiervoor dan de website van de organisatie\nDe uitslagen van deze hardloopwedstrijd zijn te raadplegen via dezelfde website of via de bekende websites zoals uitslagen.nl\, runtimer en mylaps. Doet u mee met dit evenement\, zorg dan dat u goed voorbereid aan de start staat! Met een goed trainingsschema komt u een heel eind. Train bijvoorbeeld met start to run van Evy Gruyaert. Download de start to run mp3 bestanden en zet ze op uw telefoon. Oortjes in\, hit the play button en en rennen maar! \n\n\n\n\nMeer informatie over 37ste Vlakwatercross op Hardloopkalender.nl  \nHet loopevenement 37ste Vlakwatercross te Venray vindt plaats op zondag 27 januari 2013. De loop wordt georganisseerd door ATV Venray. Inschrijven is mogelijk vanaf 24 oktober 2012. Klik hier voor het adres van de start (Google Maps).Er is verkleedaccomodatie met douchemogelijkheid aanwezig. Er is EHBO aanwezig. Voor meer informatie:Mieke Alkiminfo@atvvenray.nl0478631452http:  www.atvvenray.nl \n  \n  \n 
URL:https://hardloopevenementen.com/loopagenda/37ste-vlakwatercross-venray-li/
END:VEVENT
BEGIN:VEVENT
DTSTART;VALUE=DATE:20120129
DTEND;VALUE=DATE:20120130
DTSTAMP:20260425T145526
CREATED:20070925T062512Z
LAST-MODIFIED:20190423T103451Z
UID:28945-1327795200-1327795200@hardloopevenementen.com
SUMMARY:36ste Vlakwatercross Venray (LI)
DESCRIPTION:Doe mee met het hardloopevenement 36ste Vlakwatercross te Venray (LI) op zo 29 jan 2012. De volgende afstanden staan op het programma: 1\,1 km – 1\,6 km – 2\,1 km – 3\,2 km – 4\,1 km – 8\,1 km hardlopen. Wilt u inschrijven voor dit loopevenement?  Raadpleeg hiervoor dan de website van de organisatie\nDe uitslagen van deze hardloopwedstrijd zijn te raadplegen via dezelfde website of via de bekende websites zoals uitslagen.nl\, runtimer en mylaps. Doet u mee met dit evenement\, zorg dan dat u goed voorbereid aan de start staat! Met een goed trainingsschema komt u een heel eind. Train bijvoorbeeld met start to run van Evy Gruyaert. Download de start to run mp3 bestanden en zet ze op uw telefoon. Oortjes in\, hit the play button en en rennen maar! \n\n\n\n\nMeer informatie over 36ste Vlakwatercross op Hardloopkalender.nl  \nHet loopevenement 36ste Vlakwatercross te Venray vindt plaats op zondag 29 januari 2012. De loop wordt georganiseerd door ATV Venray. Inschrijven is mogelijk vanaf 24 oktober 2011. Klik hier voor het adres van de start (Google Maps).Er is EHBO aanwezig. Afstand SoortloopInschrijfgeldStarttijdInfo4.1 km5\,5010:308.1 km5\,5011:004.1 km4\,5012:103.2 km4\,5012:353.2 km4\,5012:552.1 km4\,5013:102.1 km4\,5013:251.6 km4\,5013:401.6 km3\,5014:051.1 km3\,5014:15 km1.13Voor meer informatie:Mieke Alkiminfo@atvvenray.nl0478631452http:  www.atvvenray.nl \n  \n  \n 
URL:https://hardloopevenementen.com/loopagenda/36ste-vlakwatercross-venray-li/
END:VEVENT
END:VCALENDAR