BEGIN:VCALENDAR
VERSION:2.0
PRODID:-//Hardloopevenementen - ECPv6.15.14//NONSGML v1.0//EN
CALSCALE:GREGORIAN
METHOD:PUBLISH
X-WR-CALNAME:Hardloopevenementen
X-ORIGINAL-URL:https://hardloopevenementen.com
X-WR-CALDESC:Evenementen voor Hardloopevenementen
REFRESH-INTERVAL;VALUE=DURATION:PT1H
X-Robots-Tag:noindex
X-PUBLISHED-TTL:PT1H
BEGIN:VTIMEZONE
TZID:UTC
BEGIN:STANDARD
TZOFFSETFROM:+0000
TZOFFSETTO:+0000
TZNAME:UTC
DTSTART:20060101T000000
END:STANDARD
END:VTIMEZONE
BEGIN:VEVENT
DTSTART;VALUE=DATE:20100110
DTEND;VALUE=DATE:20100111
DTSTAMP:20260421T045140
CREATED:20120414T010133Z
LAST-MODIFIED:20190423T101456Z
UID:24165-1263081600-1263081600@hardloopevenementen.com
SUMMARY:115e Road Runners Loop Leiden (ZH)
DESCRIPTION:Doe mee met het hardloopevenement 115e Road Runners Loop te Leiden (ZH) op zo 10 jan 2010. De volgende afstanden staan op het programma: 2\,8 km – 5\,6 km – 10 km – 16\,7 km – halve marathon hardlopen. Wilt u inschrijven voor dit loopevenement?  Raadpleeg hiervoor dan de website van de organisatie\nDe uitslagen van deze hardloopwedstrijd zijn te raadplegen via dezelfde website of via de bekende websites zoals uitslagen.nl\, runtimer en mylaps. Doet u mee met dit evenement\, zorg dan dat u goed voorbereid aan de start staat! Met een goed trainingsschema komt u een heel eind. Train bijvoorbeeld met start to run van Evy Gruyaert. Download de start to run mp3 bestanden en zet ze op uw telefoon. Oortjes in\, hit the play button en en rennen maar! \n\n\n\n\nMeer informatie over 115e Road Runners Loop op Hardloopkalender.nl  \nDit loopevenement wordt georganiseerd door Leiden Road Runners Club.De eerste afstand (of onderdeel) start om 10:30.Het adres van de start en de finish is Voorschotersweg8Categorie(ën): mannen\, vrouwen\, jeugdVooraf inschrijven is mogelijk vanaf 10 januari 2010 tot niet van toepassing.Inschrijven op de dag van de loop is mogelijk (vanaf 8.30) op dit adres: Kerkstraat 1 Pannerden.Meer informatie:Contactpersoon: Peter BlomTel.: 0715802361Email: secretariaat@lrrc.nlEr is een kleedaccomodatie aanwezig. Douchen is mogelijk.Het parcours is verhard.Overige bijzonderheden:  Aanvangstijden: 5 km: 09.30\, 2\,3 km: 09.31  10 km. : 10\,30 \n  \n  \n 
URL:https://hardloopevenementen.com/loopagenda/115e-road-runners-loop-leiden-zh/
END:VEVENT
BEGIN:VEVENT
DTSTART;VALUE=DATE:20070113
DTEND;VALUE=DATE:20070114
DTSTAMP:20260421T045140
CREATED:20131020T174647Z
LAST-MODIFIED:20190423T094100Z
UID:798-1168646400-1168646400@hardloopevenementen.com
SUMMARY:115e Zegerplasloop Alphen aan den Rijn
DESCRIPTION:Doe mee met het hardloopevenement 115e Zegerplasloop te Alphen aan den Rijn op za 13 jan 2007. De volgende afstanden staan op het programma: 0\,4 km – 1 km – 2 km – 5 km – 10 km – 15 km – 20 km hardlopen. Wilt u inschrijven voor dit loopevenement?  Raadpleeg hiervoor dan de website van de organisatie\nDe uitslagen van deze hardloopwedstrijd zijn te raadplegen via dezelfde website of via de bekende websites zoals uitslagen.nl\, runtimer en mylaps. Doet u mee met dit evenement\, zorg dan dat u goed voorbereid aan de start staat! Met een goed trainingsschema komt u een heel eind. Train bijvoorbeeld met start to run van Evy Gruyaert. Download de start to run mp3 bestanden en zet ze op uw telefoon. Oortjes in\, hit the play button en en rennen maar! \n\n\n\n\nMeer informatie over 115e Zegerplasloop op Hardloopkalender.nl  \n  \n  \n 
URL:https://hardloopevenementen.com/loopagenda/115e-zegerplasloop-alphen-aan-den-rijn/
END:VEVENT
END:VCALENDAR