BEGIN:VCALENDAR
VERSION:2.0
PRODID:-//Hardloopevenementen - ECPv6.15.14//NONSGML v1.0//EN
CALSCALE:GREGORIAN
METHOD:PUBLISH
X-WR-CALNAME:Hardloopevenementen
X-ORIGINAL-URL:https://hardloopevenementen.com
X-WR-CALDESC:Evenementen voor Hardloopevenementen
REFRESH-INTERVAL;VALUE=DURATION:PT1H
X-Robots-Tag:noindex
X-PUBLISHED-TTL:PT1H
BEGIN:VTIMEZONE
TZID:UTC
BEGIN:STANDARD
TZOFFSETFROM:+0000
TZOFFSETTO:+0000
TZNAME:UTC
DTSTART:20070101T000000
END:STANDARD
END:VTIMEZONE
BEGIN:VEVENT
DTSTART;VALUE=DATE:20080505
DTEND;VALUE=DATE:20080506
DTSTAMP:20260424T225253
CREATED:20120122T004003Z
LAST-MODIFIED:20190423T094733Z
UID:19751-1209945600-1209945600@hardloopevenementen.com
SUMMARY:Bevrijdingsloop Alblasserdam
DESCRIPTION:Doe mee met het hardloopevenement Bevrijdingsloop te Alblasserdam op ma 05 mei 2008. De volgende afstanden staan op het programma: 12 km hardlopen. Wilt u inschrijven voor dit loopevenement?  Raadpleeg hiervoor dan de website van de organisatie\nDe uitslagen van deze hardloopwedstrijd zijn te raadplegen via dezelfde website of via de bekende websites zoals uitslagen.nl\, runtimer en mylaps. Doet u mee met dit evenement\, zorg dan dat u goed voorbereid aan de start staat! Met een goed trainingsschema komt u een heel eind. Train bijvoorbeeld met start to run van Evy Gruyaert. Download de start to run mp3 bestanden en zet ze op uw telefoon. Oortjes in\, hit the play button en en rennen maar! \n\n\n\n\nMeer informatie over Bevrijdingsloop op Hardloopkalender.nl  \n12 km 19:00 uur  Programma:     11.00      880 meter           meisjes minis                     12.30     2300 meter          meisjes jun. C    11.05      880 meter           jongens minis                    13.00     3450 meter          jongens jun.C    11.10     1150 meter          meisjes pup.C                     13.00     3450 meter          meisjes jun. B    11.20     1150 meter          jongens pup.C                    13.30     4000 meter          meisjes jun. A    11.30     1500 meter          meisjes pup.B                     13.30     6000 meter          jongens jun. B    11.40     1500 meter          jongens pup.B                    13.30     8000 meter          jongens jun. A    11.50     1500 meter          meisjes pup.A                     13.30     6000 meter          Dames + Dames vet    12\,00     1500 meter          jongens pup.A                    14.30     12000 meter        Heren    12.10     1500 meter          meisjes jun. D                     14.30     10000 meter        Heren veteranen     12.30     2300 meter          jongens jun.D                     14.30     10000 meter        Prestatielopen         Inlichtingen Bevrijdingsloop 2008    Parcours    Het parcours gaat over goed geasfalteerde wegen langs karakteristieke landerijen  en de molens van Kinderdijk                 Inlichtingen    Voor meer informatie kunt u bellen naar:  de Heer C. Wohler      mailadres: Wohler2@kpnplanet.nl              Aansprakelijkheid      Iedere deelnemer loopt voor eigen risico.           Starttijden en Afstanden                                 19:30 uur Jeugd 2 km (1 ronde)                                                            19:30 uur Volwassenen 4 km (1 ronde) max 3 rondes                          19:30 uur Sportief wandelen 4 km max 12 km                                        Inschrijven     Tot 10 minuten voor start in de kantine van CKC  Sportpark Molenzicht       Groen van Prinsterstraat 120  Alblasserdam         Inschrijfgeld    Jeugdloop: 2 km en 4 km           1\,50                                                  Volwassenen                                 3\,00                                         Sportief wandelen                        3\,00                                           Prijzen Wisselbeker voor de snelste dame en heer                                           Herinnering   Voor iedereen een leuke herinnering.         Verzorging                                                  De organisatie heeft op de start en finish een drinkpost staan.     Op het parcours is EHBO aanwezig                 Kleedgelegenheid    Douche en kleedgelegenheid aanwezig op Sportpark Molenzicht \n  \n  \n 
URL:https://hardloopevenementen.com/loopagenda/bevrijdingsloop-alblasserdam/
END:VEVENT
BEGIN:VEVENT
DTSTART;VALUE=DATE:20080202
DTEND;VALUE=DATE:20080203
DTSTAMP:20260424T225253
CREATED:20100215T235142Z
LAST-MODIFIED:20190423T094927Z
UID:20246-1201910400-1201910400@hardloopevenementen.com
SUMMARY:Souburghcross Alblasserdam
DESCRIPTION:Doe mee met het hardloopevenement Souburghcross te Alblasserdam op za 02 feb 2008. De volgende afstanden staan op het programma: 1\,5 km – 2\,3 km – 3\,5 km – 4 km – 6 km – 8 km – 10 km – 12 km hardlopen. Wilt u inschrijven voor dit loopevenement?  Raadpleeg hiervoor dan de website van de organisatie\nDe uitslagen van deze hardloopwedstrijd zijn te raadplegen via dezelfde website of via de bekende websites zoals uitslagen.nl\, runtimer en mylaps. Doet u mee met dit evenement\, zorg dan dat u goed voorbereid aan de start staat! Met een goed trainingsschema komt u een heel eind. Train bijvoorbeeld met start to run van Evy Gruyaert. Download de start to run mp3 bestanden en zet ze op uw telefoon. Oortjes in\, hit the play button en en rennen maar! \n\n\n\n\nMeer informatie over Souburghcross op Hardloopkalender.nl  \nOp zaterdag 2 februari 2008 organiseert de A.A.A. de jaarlijkse Souburghcross voor KNAU leden en prestatielopers. Ook dit jaar maakt de Souburghcross weer onderdeel uit van de pupillen en junioren crosscompetitie van de regio Dordrecht.  Het Parcours is uitgezet in het Alblasserdamse bos en voert de atleten door weilanden\, onverharde- en verharde bospaden. Hierdoor wordt een cross verwezenlijkt die zich in Zuid-Holland onderscheidt door de variëteit in het parcours.  Programma:  11.00 880 meter meisjes minis 12.30 2300 meter meisjes jun. C  11.15 880 meter jongens minis 13.00 3450 meter jongens jun.C  11.10 1150 meter meisjes pup.C 13.00 3450 meter meisjes jun. B  11.20 1150 meter jongens pup.C 13.30 4000 meter meisjes jun. A  11.30 1500 meter meisjes pup.B 13.30 6000 meter jongens jun. B  11.40 1500 meter jongens pup.B 13.30 8000 meter jongens jun. A  11.50 1500 meter meisjes pup.A 13.30 6000 meter Dames + Dames vet  12\,00 1500 meter jongens pup.A 14.30 12000 meter Heren  12.10 1500 meter meisjes jun. D 14.30 10000 meter Heren veteranen  12.30 2300 meter jongens jun.D 14.30 10000 meter Prestatielopen  Inschrijfgeld: Pupillen  2\,50 informatie; mevr. Annie Wöhler 078 6916477  Junioren  3\,00  Senioren  4\,00 dhr Herman Hofstede 078 6918798  Prestatielopers  3.50  Prestatie- en wedstrijdlopers kunnen zich tot een half uur  voor aanvang inschrijven op het sportpark.  Prijzen: Iedere deelnemer ontvangt een herinnering  Deelname op eigen risico\,Wij wensen U een fijne wedstrijd toe. \n  \n  \n 
URL:https://hardloopevenementen.com/loopagenda/souburghcross-alblasserdam/
END:VEVENT
END:VCALENDAR