BEGIN:VCALENDAR
VERSION:2.0
PRODID:-//Hardloopevenementen - ECPv6.15.14//NONSGML v1.0//EN
CALSCALE:GREGORIAN
METHOD:PUBLISH
X-WR-CALNAME:Hardloopevenementen
X-ORIGINAL-URL:https://hardloopevenementen.com
X-WR-CALDESC:Evenementen voor Hardloopevenementen
REFRESH-INTERVAL;VALUE=DURATION:PT1H
X-Robots-Tag:noindex
X-PUBLISHED-TTL:PT1H
BEGIN:VTIMEZONE
TZID:UTC
BEGIN:STANDARD
TZOFFSETFROM:+0000
TZOFFSETTO:+0000
TZNAME:UTC
DTSTART:20140101T000000
END:STANDARD
END:VTIMEZONE
BEGIN:VEVENT
DTSTART;VALUE=DATE:20150419
DTEND;VALUE=DATE:20150420
DTSTAMP:20260424T150034
CREATED:20131231T131952Z
LAST-MODIFIED:20190423T111259Z
UID:10656-1429401600-1429401600@hardloopevenementen.com
SUMMARY:Ropa Trail - Mystery-Orientatieloop Leusden (UT)
DESCRIPTION:Doe mee met het hardloopevenement Ropa Trail – Mystery-Orientatieloop te Leusden (UT) op zo 19 apr 2015. De volgende afstanden staan op het programma: 7 km – 12 km hardlopen. Wilt u inschrijven voor dit loopevenement?  Raadpleeg hiervoor dan de website van de organisatie\nDe uitslagen van deze hardloopwedstrijd zijn te raadplegen via dezelfde website of via de bekende websites zoals uitslagen.nl\, runtimer en mylaps. Doet u mee met dit evenement\, zorg dan dat u goed voorbereid aan de start staat! Met een goed trainingsschema komt u een heel eind. Train bijvoorbeeld met start to run van Evy Gruyaert. Download de start to run mp3 bestanden en zet ze op uw telefoon. Oortjes in\, hit the play button en en rennen maar! \n\n\n\n\nMeer informatie over Ropa Trail – Mystery-Orientatieloop op Hardloopkalender.nl  \nZondag 19 april organiseren we een oriëntatietrail van ongeveer 7km. Ongeveer\, omdat het van je eigen navigatiekunsten*) afhangt hoe lang het wordt! We starten om 14:00 vanaf Parkeerplaats Treekerpunt aan de Treekerweg in Leusden. We vertrekken in 2 groepen (een snelle\, ca. 10\,5k u) en een langzamere (ca. 9k u).     Bij het laatste punt van de oriëntatietrail genieten we met zn allen van een inmiddels traditioneel trailbanket.     Voor de liefhebber is er na de oriëntatietrail nog met een rondje van ca. 5km waarbij we nog even wat extra (hoogte)meters pakken en de pyramide van Austerlitz aandoen; en je op totaal 12 km uit kan komen.    *) je krijgt van ons een kaart met 3 tussenpunten en de finish aangegeven \n  \n  \n 
URL:https://hardloopevenementen.com/loopagenda/ropa-trail-mystery-orientatieloop-leusden-ut/
END:VEVENT
END:VCALENDAR