BEGIN:VCALENDAR
VERSION:2.0
PRODID:-//Hardloopevenementen - ECPv6.15.14//NONSGML v1.0//EN
CALSCALE:GREGORIAN
METHOD:PUBLISH
X-WR-CALNAME:Hardloopevenementen
X-ORIGINAL-URL:https://hardloopevenementen.com
X-WR-CALDESC:Evenementen voor Hardloopevenementen
REFRESH-INTERVAL;VALUE=DURATION:PT1H
X-Robots-Tag:noindex
X-PUBLISHED-TTL:PT1H
BEGIN:VTIMEZONE
TZID:UTC
BEGIN:STANDARD
TZOFFSETFROM:+0000
TZOFFSETTO:+0000
TZNAME:UTC
DTSTART:20070101T000000
END:STANDARD
END:VTIMEZONE
BEGIN:VEVENT
DTSTART;VALUE=DATE:20081219
DTEND;VALUE=DATE:20081220
DTSTAMP:20260426T013432
CREATED:20140423T024838Z
LAST-MODIFIED:20190423T094313Z
UID:901-1229644800-1229644800@hardloopevenementen.com
SUMMARY:Coopertest en 5 km baanloop Alkmaar
DESCRIPTION:Doe mee met het hardloopevenement Coopertest en 5 km baanloop te Alkmaar op vr 19 dec 2008. De volgende afstanden staan op het programma: 12 min – 5 km hardlopen. Wilt u inschrijven voor dit loopevenement?  Raadpleeg hiervoor dan de website van de organisatie\nDe uitslagen van deze hardloopwedstrijd zijn te raadplegen via dezelfde website of via de bekende websites zoals uitslagen.nl\, runtimer en mylaps. Doet u mee met dit evenement\, zorg dan dat u goed voorbereid aan de start staat! Met een goed trainingsschema komt u een heel eind. Train bijvoorbeeld met start to run van Evy Gruyaert. Download de start to run mp3 bestanden en zet ze op uw telefoon. Oortjes in\, hit the play button en en rennen maar! \n\n\n\n\nMeer informatie over Coopertest en 5 km baanloop op Hardloopkalender.nl  \nstart  coopertest 19:30 uur en 5 km 20:00 uur \n  \n  \n 
URL:https://hardloopevenementen.com/loopagenda/coopertest-en-5-km-baanloop-alkmaar/
END:VEVENT
BEGIN:VEVENT
DTSTART;VALUE=DATE:20081121
DTEND;VALUE=DATE:20081122
DTSTAMP:20260426T013432
CREATED:20071106T213157Z
LAST-MODIFIED:20190423T094407Z
UID:1045-1227225600-1227225600@hardloopevenementen.com
SUMMARY:Coopertest en 5 km baanloop Alkmaar
DESCRIPTION:Doe mee met het hardloopevenement Coopertest en 5 km baanloop te Alkmaar op vr 21 nov 2008. De volgende afstanden staan op het programma: 12 min – 5 km hardlopen. Wilt u inschrijven voor dit loopevenement?  Raadpleeg hiervoor dan de website van de organisatie\nDe uitslagen van deze hardloopwedstrijd zijn te raadplegen via dezelfde website of via de bekende websites zoals uitslagen.nl\, runtimer en mylaps. Doet u mee met dit evenement\, zorg dan dat u goed voorbereid aan de start staat! Met een goed trainingsschema komt u een heel eind. Train bijvoorbeeld met start to run van Evy Gruyaert. Download de start to run mp3 bestanden en zet ze op uw telefoon. Oortjes in\, hit the play button en en rennen maar! \n\n\n\n\nMeer informatie over Coopertest en 5 km baanloop op Hardloopkalender.nl  \nstart  coopertest 19:30 uur en 5 km 20:00 uur \n  \n  \n 
URL:https://hardloopevenementen.com/loopagenda/coopertest-en-5-km-baanloop-alkmaar-2/
END:VEVENT
BEGIN:VEVENT
DTSTART;VALUE=DATE:20081017
DTEND;VALUE=DATE:20081018
DTSTAMP:20260426T013432
CREATED:20101207T020316Z
LAST-MODIFIED:20190423T094447Z
UID:19021-1224201600-1224201600@hardloopevenementen.com
SUMMARY:Coopertest en 5 km baanloop Alkmaar
DESCRIPTION:Doe mee met het hardloopevenement Coopertest en 5 km baanloop te Alkmaar op vr 17 okt 2008. De volgende afstanden staan op het programma: 12 min – 5 km hardlopen. Wilt u inschrijven voor dit loopevenement?  Raadpleeg hiervoor dan de website van de organisatie\nDe uitslagen van deze hardloopwedstrijd zijn te raadplegen via dezelfde website of via de bekende websites zoals uitslagen.nl\, runtimer en mylaps. Doet u mee met dit evenement\, zorg dan dat u goed voorbereid aan de start staat! Met een goed trainingsschema komt u een heel eind. Train bijvoorbeeld met start to run van Evy Gruyaert. Download de start to run mp3 bestanden en zet ze op uw telefoon. Oortjes in\, hit the play button en en rennen maar! \n\n\n\n\nMeer informatie over Coopertest en 5 km baanloop op Hardloopkalender.nl  \nstart  coopertest 19:30 uur en 5 km 20:00 uur \n  \n  \n 
URL:https://hardloopevenementen.com/loopagenda/coopertest-en-5-km-baanloop-alkmaar-3/
END:VEVENT
BEGIN:VEVENT
DTSTART;VALUE=DATE:20080321
DTEND;VALUE=DATE:20080322
DTSTAMP:20260426T013432
CREATED:20141201T004802Z
LAST-MODIFIED:20190423T094832Z
UID:20000-1206057600-1206057600@hardloopevenementen.com
SUMMARY:Coopertest 5 km baanloop Alkmaar
DESCRIPTION:Doe mee met het hardloopevenement Coopertest 5 km baanloop te Alkmaar op vr 21 mrt 2008. De volgende afstanden staan op het programma: 12 min – 5 km hardlopen. Wilt u inschrijven voor dit loopevenement?  Raadpleeg hiervoor dan de website van de organisatie\nDe uitslagen van deze hardloopwedstrijd zijn te raadplegen via dezelfde website of via de bekende websites zoals uitslagen.nl\, runtimer en mylaps. Doet u mee met dit evenement\, zorg dan dat u goed voorbereid aan de start staat! Met een goed trainingsschema komt u een heel eind. Train bijvoorbeeld met start to run van Evy Gruyaert. Download de start to run mp3 bestanden en zet ze op uw telefoon. Oortjes in\, hit the play button en en rennen maar! \n\n\n\n\nMeer informatie over Coopertest 5 km baanloop op Hardloopkalender.nl  \ncoopertest 19:30 uur\, 5 km 20:00 uur \n  \n  \n 
URL:https://hardloopevenementen.com/loopagenda/coopertest-5-km-baanloop-alkmaar/
END:VEVENT
BEGIN:VEVENT
DTSTART;VALUE=DATE:20080118
DTEND;VALUE=DATE:20080119
DTSTAMP:20260426T013432
CREATED:20100810T142455Z
LAST-MODIFIED:20190423T094943Z
UID:20315-1200614400-1200614400@hardloopevenementen.com
SUMMARY:Coopertest  5 km baanloop Alkmaar
DESCRIPTION:Doe mee met het hardloopevenement Coopertest  5 km baanloop te Alkmaar op vr 18 jan 2008. De volgende afstanden staan op het programma: 12 min – 5 km hardlopen. Wilt u inschrijven voor dit loopevenement?  Raadpleeg hiervoor dan de website van de organisatie\nDe uitslagen van deze hardloopwedstrijd zijn te raadplegen via dezelfde website of via de bekende websites zoals uitslagen.nl\, runtimer en mylaps. Doet u mee met dit evenement\, zorg dan dat u goed voorbereid aan de start staat! Met een goed trainingsschema komt u een heel eind. Train bijvoorbeeld met start to run van Evy Gruyaert. Download de start to run mp3 bestanden en zet ze op uw telefoon. Oortjes in\, hit the play button en en rennen maar! \n\n\n\n\nMeer informatie over Coopertest  5 km baanloop op Hardloopkalender.nl  \ncoopertest 19:30 uur\, 5 km 20:00 uur \n  \n  \n 
URL:https://hardloopevenementen.com/loopagenda/coopertest-5-km-baanloop-alkmaar-2/
END:VEVENT
END:VCALENDAR