BEGIN:VCALENDAR
VERSION:2.0
PRODID:-//Hardloopevenementen - ECPv6.15.14//NONSGML v1.0//EN
CALSCALE:GREGORIAN
METHOD:PUBLISH
X-ORIGINAL-URL:https://hardloopevenementen.com
X-WR-CALDESC:Evenementen voor Hardloopevenementen
REFRESH-INTERVAL;VALUE=DURATION:PT1H
X-Robots-Tag:noindex
X-PUBLISHED-TTL:PT1H
BEGIN:VTIMEZONE
TZID:UTC
BEGIN:STANDARD
TZOFFSETFROM:+0000
TZOFFSETTO:+0000
TZNAME:UTC
DTSTART:20080101T000000
END:STANDARD
END:VTIMEZONE
BEGIN:VEVENT
DTSTART;VALUE=DATE:20120122
DTEND;VALUE=DATE:20120123
DTSTAMP:20260420T204245
CREATED:20081103T141828Z
LAST-MODIFIED:20190423T103506Z
UID:28999-1327190400-1327190400@hardloopevenementen.com
SUMMARY:124e Road Runners Loop Leiden (ZH)
DESCRIPTION:Doe mee met het hardloopevenement 124e Road Runners Loop te Leiden (ZH) op zo 22 jan 2012. De volgende afstanden staan op het programma: 3 km – 5 km – 10 km – 10 Engelse mijl – halve marathon hardlopen. Wilt u inschrijven voor dit loopevenement?  Raadpleeg hiervoor dan de website van de organisatie\nDe uitslagen van deze hardloopwedstrijd zijn te raadplegen via dezelfde website of via de bekende websites zoals uitslagen.nl\, runtimer en mylaps. Doet u mee met dit evenement\, zorg dan dat u goed voorbereid aan de start staat! Met een goed trainingsschema komt u een heel eind. Train bijvoorbeeld met start to run van Evy Gruyaert. Download de start to run mp3 bestanden en zet ze op uw telefoon. Oortjes in\, hit the play button en en rennen maar! \n\n\n\n\nMeer informatie over 124e Road Runners Loop op Hardloopkalender.nl  \nHet loopevenement 124e Road Runners Loop te Leiden vindt plaats op zondag 22 januari 2012. De loop wordt georganiseerd door Leiden Road Runners Club. Inschrijven is mogelijk vanaf 22 januari 2012. Klik hier voor het adres van de start (Google Maps).Er is EHBO aanwezig. Afstand SoortloopInschrijfgeldStarttijdInfo3 km1\,5010.30uur5 km1\,5010.30uur10 km3\,0010.30uur16 km3\,0010\,30uur21 km3\,0010\,30uurVoor meer informatie:Peter Blomsecretariaat@lrrc.nl0715802361http:  LRRC.NL \n  \n  \n 
URL:https://hardloopevenementen.com/loopagenda/124e-road-runners-loop-leiden-zh/
END:VEVENT
BEGIN:VEVENT
DTSTART;VALUE=DATE:20090214
DTEND;VALUE=DATE:20090215
DTSTAMP:20260420T204245
CREATED:20090411T034306Z
LAST-MODIFIED:20190423T100324Z
UID:2792-1234569600-1234569600@hardloopevenementen.com
SUMMARY:124e Zegerplasloop Alphen aan den Rijn (ZH)
DESCRIPTION:Doe mee met het hardloopevenement 124e Zegerplasloop te Alphen aan den Rijn (ZH) op za 14 feb 2009. De volgende afstanden staan op het programma: 0\,4 km – 1 km – 2 km – 5 km – 10 km – 15 km – 20 km – 30 km hardlopen. Wilt u inschrijven voor dit loopevenement?  Raadpleeg hiervoor dan de website van de organisatie\nDe uitslagen van deze hardloopwedstrijd zijn te raadplegen via dezelfde website of via de bekende websites zoals uitslagen.nl\, runtimer en mylaps. Doet u mee met dit evenement\, zorg dan dat u goed voorbereid aan de start staat! Met een goed trainingsschema komt u een heel eind. Train bijvoorbeeld met start to run van Evy Gruyaert. Download de start to run mp3 bestanden en zet ze op uw telefoon. Oortjes in\, hit the play button en en rennen maar! \n\n\n\n\nMeer informatie over 124e Zegerplasloop op Hardloopkalender.nl  \n0\,4 km 13:00 uur\, 1 km 13:10 uur\, 2 km 13:20 uur\, 5 km 13:50 uur\, 10-15-20-30 km 13:55 uur \n  \n  \n 
URL:https://hardloopevenementen.com/loopagenda/124e-zegerplasloop-alphen-aan-den-rijn-zh/
END:VEVENT
END:VCALENDAR