BEGIN:VCALENDAR
VERSION:2.0
PRODID:-//Hardloopevenementen - ECPv6.15.14//NONSGML v1.0//EN
CALSCALE:GREGORIAN
METHOD:PUBLISH
X-WR-CALNAME:Hardloopevenementen
X-ORIGINAL-URL:https://hardloopevenementen.com
X-WR-CALDESC:Evenementen voor Hardloopevenementen
REFRESH-INTERVAL;VALUE=DURATION:PT1H
X-Robots-Tag:noindex
X-PUBLISHED-TTL:PT1H
BEGIN:VTIMEZONE
TZID:UTC
BEGIN:STANDARD
TZOFFSETFROM:+0000
TZOFFSETTO:+0000
TZNAME:UTC
DTSTART:20080101T000000
END:STANDARD
END:VTIMEZONE
BEGIN:VEVENT
DTSTART;VALUE=DATE:20180602
DTEND;VALUE=DATE:20180603
DTSTAMP:20260420T234335
CREATED:20171005T024733Z
LAST-MODIFIED:20190423T120436Z
UID:16483-1527897600-1527897600@hardloopevenementen.com
SUMMARY:Twentse Smokkel Trail Losser (OV)
DESCRIPTION:Doe mee met het hardloopevenement Twentse Smokkel Trail te Losser (OV) op za 02 jun 2018. De volgende afstanden staan op het programma: 1\,5 km – 5 km – 12\,5 km – 24 km hardlopen. Wilt u inschrijven voor dit loopevenement?  Raadpleeg hiervoor dan de website van de organisatie\nDe uitslagen van deze hardloopwedstrijd zijn te raadplegen via dezelfde website of via de bekende websites zoals uitslagen.nl\, runtimer en mylaps. Doet u mee met dit evenement\, zorg dan dat u goed voorbereid aan de start staat! Met een goed trainingsschema komt u een heel eind. Train bijvoorbeeld met start to run van Evy Gruyaert. Download de start to run mp3 bestanden en zet ze op uw telefoon. Oortjes in\, hit the play button en en rennen maar! \n\n\n\n\nMeer informatie over Twentse Smokkel Trail op Hardloopkalender.nl  \n  \n  \n 
URL:https://hardloopevenementen.com/loopagenda/twentse-smokkel-trail-losser-ov-2/
END:VEVENT
BEGIN:VEVENT
DTSTART;VALUE=DATE:20111218
DTEND;VALUE=DATE:20111219
DTSTAMP:20260420T234335
CREATED:20130228T160156Z
LAST-MODIFIED:20190423T101624Z
UID:5763-1324166400-1324166400@hardloopevenementen.com
SUMMARY:Dinkelloop 2 Losser (OV)
DESCRIPTION:Doe mee met het hardloopevenement Dinkelloop 2 te Losser (OV) op zo 18 dec 2011. De volgende afstanden staan op het programma: 1 km – 2\,5 km – 5 km – 7\,5 km – 10 km – 12\,5 km hardlopen. Wilt u inschrijven voor dit loopevenement?  Raadpleeg hiervoor dan de website van de organisatie\nDe uitslagen van deze hardloopwedstrijd zijn te raadplegen via dezelfde website of via de bekende websites zoals uitslagen.nl\, runtimer en mylaps. Doet u mee met dit evenement\, zorg dan dat u goed voorbereid aan de start staat! Met een goed trainingsschema komt u een heel eind. Train bijvoorbeeld met start to run van Evy Gruyaert. Download de start to run mp3 bestanden en zet ze op uw telefoon. Oortjes in\, hit the play button en en rennen maar! \n\n\n\n\nMeer informatie over Dinkelloop 2 op Hardloopkalender.nl  \nHet loopevenement Dinkelloop 2 te Losser vindt plaats op zondag 18 december 2011. De loop wordt georganiseerd door AV Iphitos. Inschrijven is mogelijk vanaf 15 oktober 2011. Klik hier voor het adres van de start (Google Maps).Er is verkleedaccomodatie met douchemogelijkheid aanwezig. Er is EHBO aanwezig. Afstand(km)Inschrijfgeld(€)Starttijd12\,5km€4\,0010.00uur10km€4\,0010.03uur7\,5km€4\,0010.06uur5km€4\,0011.15uur2\,5km€3\,0011.18uur1\,2km€2\,0011.45uurVoor meer informatie:Ilona Lensenilonaenriekus@kpnplanet.nl0535387887http:  www.av-iphitos.nl \n  \n  \n 
URL:https://hardloopevenementen.com/loopagenda/dinkelloop-2-losser-ov-2/
END:VEVENT
BEGIN:VEVENT
DTSTART;VALUE=DATE:20111113
DTEND;VALUE=DATE:20111114
DTSTAMP:20260420T234335
CREATED:20091025T121128Z
LAST-MODIFIED:20190423T101720Z
UID:5969-1321142400-1321142400@hardloopevenementen.com
SUMMARY:Dinkelloop 1 Losser (OV)
DESCRIPTION:Doe mee met het hardloopevenement Dinkelloop 1 te Losser (OV) op zo 13 nov 2011. De volgende afstanden staan op het programma: 1\,2 km – 2\,5 km – 5 km – 7\,5 km – 10 km – 12\,5 km hardlopen. Wilt u inschrijven voor dit loopevenement?  Raadpleeg hiervoor dan de website van de organisatie\nDe uitslagen van deze hardloopwedstrijd zijn te raadplegen via dezelfde website of via de bekende websites zoals uitslagen.nl\, runtimer en mylaps. Doet u mee met dit evenement\, zorg dan dat u goed voorbereid aan de start staat! Met een goed trainingsschema komt u een heel eind. Train bijvoorbeeld met start to run van Evy Gruyaert. Download de start to run mp3 bestanden en zet ze op uw telefoon. Oortjes in\, hit the play button en en rennen maar! \n\n\n\n\nMeer informatie over Dinkelloop 1 op Hardloopkalender.nl  \nHet loopevenement Dinkelloop 1 te Losser vindt plaats op zondag 13 november 2011. De loop wordt georganiseerd door AV Iphitos. Inschrijven is mogelijk vanaf 25 september 2011. Klik hier voor het adres van de start (Google Maps).Er is verkleedaccomodatie met douchemogelijkheid aanwezig. Er is EHBO aanwezig. Afstand(km)Inschrijfgeld(€)Starttijd12\,5km€4\,0010.00uur10km€4\,0010.03uur7\,5km€4\,0010.06uur5km€4\,0011.15uur2\,5km€3\,0011.18uur1\,2km€2\,0011.45uurVoor meer informatie:Ilona Lensenilonaenriekus@kpnplanet.nl0535387887http:  www.av-iphitos.nl \n  \n  \n 
URL:https://hardloopevenementen.com/loopagenda/dinkelloop-1-losser-ov-2/
END:VEVENT
BEGIN:VEVENT
DTSTART;VALUE=DATE:20110213
DTEND;VALUE=DATE:20110214
DTSTAMP:20260420T234335
CREATED:20160604T224535Z
LAST-MODIFIED:20190423T102358Z
UID:26880-1297555200-1297555200@hardloopevenementen.com
SUMMARY:Dinkelloop 3 Losser (OV)
DESCRIPTION:Doe mee met het hardloopevenement Dinkelloop 3 te Losser (OV) op zo 13 feb 2011. De volgende afstanden staan op het programma: 1\,2 km – 2\,5 km – 5 km – 7\,5 km – 10 km – 12\,5 km hardlopen. Wilt u inschrijven voor dit loopevenement?  Raadpleeg hiervoor dan de website van de organisatie\nDe uitslagen van deze hardloopwedstrijd zijn te raadplegen via dezelfde website of via de bekende websites zoals uitslagen.nl\, runtimer en mylaps. Doet u mee met dit evenement\, zorg dan dat u goed voorbereid aan de start staat! Met een goed trainingsschema komt u een heel eind. Train bijvoorbeeld met start to run van Evy Gruyaert. Download de start to run mp3 bestanden en zet ze op uw telefoon. Oortjes in\, hit the play button en en rennen maar! \n\n\n\n\nMeer informatie over Dinkelloop 3 op Hardloopkalender.nl  \nHet loopevenement Dinkelloop 3 te Losser vindt plaats op zondag 13 februari 2011. De loop wordt georganiseerd door AV Iphitos. Inschrijven is mogelijk vanaf 01 januari 2010. Klik hier voor het adres van de start (Google Maps).Er is verkleedaccomodatie met douchemogelijkheid aanwezig. Er is EHBO aanwezig. Afstand(km)Inschrijfgeld(€)Starttijd12\,5km€0\,0010.00uur10km€0\,0010.03uur7\,5km€0\,0010.06uur5km€0\,0011.15uur2\,5km€0\,0011.18uur1\,2km€0\,0011.45uurVoor meer informatie:Ilona Lensenilonaenriekus@kpnplanet.nl0535387887http:  www.av-iphitos.nl \n  \n  \n 
URL:https://hardloopevenementen.com/loopagenda/dinkelloop-3-losser-ov-2/
END:VEVENT
BEGIN:VEVENT
DTSTART;VALUE=DATE:20101219
DTEND;VALUE=DATE:20101220
DTSTAMP:20260420T234335
CREATED:20100616T083757Z
LAST-MODIFIED:20190423T100541Z
UID:3058-1292716800-1292716800@hardloopevenementen.com
SUMMARY:Dinkelloop 2 Losser (OV)
DESCRIPTION:Doe mee met het hardloopevenement Dinkelloop 2 te Losser (OV) op zo 19 dec 2010. De volgende afstanden staan op het programma: 1 km – 2\,5 km – 5 km – 7\,5 km – 10 km – 12\,5 km hardlopen. Wilt u inschrijven voor dit loopevenement?  Raadpleeg hiervoor dan de website van de organisatie\nDe uitslagen van deze hardloopwedstrijd zijn te raadplegen via dezelfde website of via de bekende websites zoals uitslagen.nl\, runtimer en mylaps. Doet u mee met dit evenement\, zorg dan dat u goed voorbereid aan de start staat! Met een goed trainingsschema komt u een heel eind. Train bijvoorbeeld met start to run van Evy Gruyaert. Download de start to run mp3 bestanden en zet ze op uw telefoon. Oortjes in\, hit the play button en en rennen maar! \n\n\n\n\nMeer informatie over Dinkelloop 2 op Hardloopkalender.nl  \nDit loopevenement wordt georganiseerd door AV Iphitos.De eerste afstand (of onderdeel) start om 10:00.Het adres van de start is Grensweg6 Het adres van de finish is Grensweg 6Categorie(ën): mannen\, vrouwen\, jeugdVooraf inschrijven is mogelijk vanaf 25 oktober 2010 tot 17 december 2010.Inschrijven op de dag van de loop is mogelijk (vanaf vanaf 09.30 uur tot half uur voor de start) op dit adres: kantine Hercules\, sporthal Reeweg\, Halmaheiraplein 35\, 3312 GH Dordrecht.Meer informatie:Contactpersoon: Ilona LensenTel.: 0535387887Email: ilonaenriekus@kpnplanet.nlEr is een kleedaccomodatie aanwezig. Douchen is mogelijk.Het parcours is onverhard.Overige bijzonderheden:  parkoers voert langs het riviertje \”Het Wantij\”. \n  \n  \n 
URL:https://hardloopevenementen.com/loopagenda/dinkelloop-2-losser-ov/
END:VEVENT
BEGIN:VEVENT
DTSTART;VALUE=DATE:20101114
DTEND;VALUE=DATE:20101115
DTSTAMP:20260420T234335
CREATED:20120419T161039Z
LAST-MODIFIED:20190423T100633Z
UID:3250-1289692800-1289692800@hardloopevenementen.com
SUMMARY:Dinkelloop 1 Losser (OV)
DESCRIPTION:Doe mee met het hardloopevenement Dinkelloop 1 te Losser (OV) op zo 14 nov 2010. De volgende afstanden staan op het programma: 1\,2 km – 2\,5 km – 5 km – 7\,5 km – 10 km – 12\,5 km hardlopen. Wilt u inschrijven voor dit loopevenement?  Raadpleeg hiervoor dan de website van de organisatie\nDe uitslagen van deze hardloopwedstrijd zijn te raadplegen via dezelfde website of via de bekende websites zoals uitslagen.nl\, runtimer en mylaps. Doet u mee met dit evenement\, zorg dan dat u goed voorbereid aan de start staat! Met een goed trainingsschema komt u een heel eind. Train bijvoorbeeld met start to run van Evy Gruyaert. Download de start to run mp3 bestanden en zet ze op uw telefoon. Oortjes in\, hit the play button en en rennen maar! \n\n\n\n\nMeer informatie over Dinkelloop 1 op Hardloopkalender.nl  \nDit loopevenement wordt georganiseerd door AV Iphitos.De eerste afstand (of onderdeel) start om 10:00.Het adres van de start is Grensweg6 Het adres van de finish is Grensweg 6Categorie(ën): mannen\, vrouwen\, jeugdVooraf inschrijven is mogelijk vanaf 25 september 2010 tot 12 november 2010.Inschrijven op de dag van de loop is mogelijk (vanaf 9.00 uur) op dit adres: Grensweg 6.Meer informatie:Contactpersoon: Ilona LensenTel.: 0535387887Email: ilonaenriekus@kpnplanet.nlEr is een kleedaccomodatie aanwezig. Douchen is mogelijk.Het parcours is onverhard.Overige bijzonderheden:  gezellige loop aan de rand van de stad Utrecht \n  \n  \n 
URL:https://hardloopevenementen.com/loopagenda/dinkelloop-1-losser-ov/
END:VEVENT
BEGIN:VEVENT
DTSTART;VALUE=DATE:20100214
DTEND;VALUE=DATE:20100215
DTSTAMP:20260420T234335
CREATED:20171026T061035Z
LAST-MODIFIED:20190423T101406Z
UID:23987-1266105600-1266105600@hardloopevenementen.com
SUMMARY:Dinkelloop 3 Losser (OV)
DESCRIPTION:Doe mee met het hardloopevenement Dinkelloop 3 te Losser (OV) op zo 14 feb 2010. De volgende afstanden staan op het programma: 1\,2 km – 2\,5 km – 5 km – 7\,5 km – 12\,5 km hardlopen. Wilt u inschrijven voor dit loopevenement?  Raadpleeg hiervoor dan de website van de organisatie\nDe uitslagen van deze hardloopwedstrijd zijn te raadplegen via dezelfde website of via de bekende websites zoals uitslagen.nl\, runtimer en mylaps. Doet u mee met dit evenement\, zorg dan dat u goed voorbereid aan de start staat! Met een goed trainingsschema komt u een heel eind. Train bijvoorbeeld met start to run van Evy Gruyaert. Download de start to run mp3 bestanden en zet ze op uw telefoon. Oortjes in\, hit the play button en en rennen maar! \n\n\n\n\nMeer informatie over Dinkelloop 3 op Hardloopkalender.nl  \nDit loopevenement wordt georganiseerd door AV Iphitos.De eerste afstand (of onderdeel) start om 10:00.Het adres van de start en de finish is Grensweg 6Categorie(ën): mannen\, vrouwen\, jeugdVooraf inschrijven is mogelijk vanaf 01 januari 2010 tot 12 februari 2010.Inschrijven op de dag van de loop is mogelijk (vanaf 9.00 uur) op dit adres: Grensweg.Meer informatie:Contactpersoon: Ilona LensenTel.: 0535387887Email: ilonaenriekus@kpnplanet.nlEr is een kleedaccomodatie aanwezig. Douchen is mogelijk.Het parcours is onverhard.Overige bijzonderheden:  2kmmeisjes jongens 12.30 uur  12.454km  13.30 uur lange8km \n  \n  \n 
URL:https://hardloopevenementen.com/loopagenda/dinkelloop-3-losser-ov/
END:VEVENT
BEGIN:VEVENT
DTSTART;VALUE=DATE:20090215
DTEND;VALUE=DATE:20090216
DTSTAMP:20260420T234335
CREATED:20070126T192904Z
LAST-MODIFIED:20190423T100319Z
UID:2777-1234656000-1234656000@hardloopevenementen.com
SUMMARY:3e Dinkelloop Losser (OV)
DESCRIPTION:Doe mee met het hardloopevenement 3e Dinkelloop te Losser (OV) op zo 15 feb 2009. De volgende afstanden staan op het programma: 1\,2 km – 2 km – 5 km – 7\,5 km – 12\,5 km hardlopen. Wilt u inschrijven voor dit loopevenement?  Raadpleeg hiervoor dan de website van de organisatie\nDe uitslagen van deze hardloopwedstrijd zijn te raadplegen via dezelfde website of via de bekende websites zoals uitslagen.nl\, runtimer en mylaps. Doet u mee met dit evenement\, zorg dan dat u goed voorbereid aan de start staat! Met een goed trainingsschema komt u een heel eind. Train bijvoorbeeld met start to run van Evy Gruyaert. Download de start to run mp3 bestanden en zet ze op uw telefoon. Oortjes in\, hit the play button en en rennen maar! \n\n\n\n\nMeer informatie over 3e Dinkelloop op Hardloopkalender.nl  \n7\,5-12\,5 km 10:00 uur\, 2-5 km 11:30 uur\, 1\,2 km 12:15 uur \n  \n  \n 
URL:https://hardloopevenementen.com/loopagenda/3e-dinkelloop-losser-ov/
END:VEVENT
END:VCALENDAR