BEGIN:VCALENDAR
VERSION:2.0
PRODID:-//Hardloopevenementen - ECPv6.15.14//NONSGML v1.0//EN
CALSCALE:GREGORIAN
METHOD:PUBLISH
X-WR-CALNAME:Hardloopevenementen
X-ORIGINAL-URL:https://hardloopevenementen.com
X-WR-CALDESC:Evenementen voor Hardloopevenementen
REFRESH-INTERVAL;VALUE=DURATION:PT1H
X-Robots-Tag:noindex
X-PUBLISHED-TTL:PT1H
BEGIN:VTIMEZONE
TZID:UTC
BEGIN:STANDARD
TZOFFSETFROM:+0000
TZOFFSETTO:+0000
TZNAME:UTC
DTSTART:20080101T000000
END:STANDARD
END:VTIMEZONE
BEGIN:VEVENT
DTSTART;VALUE=DATE:20120429
DTEND;VALUE=DATE:20120430
DTSTAMP:20260420T165857
CREATED:20151228T020654Z
LAST-MODIFIED:20190423T103251Z
UID:28482-1335657600-1335657600@hardloopevenementen.com
SUMMARY:125e Road Runners Loop +Henk Hakker memorial Leiden (ZH)
DESCRIPTION:Doe mee met het hardloopevenement 125e Road Runners Loop +Henk Hakker memorial te Leiden (ZH) op zo 29 apr 2012. De volgende afstanden staan op het programma: 3 km – 5 km – 10 km – 10 Engelse mijl – halve marathon – 30 km hardlopen. Wilt u inschrijven voor dit loopevenement?  Raadpleeg hiervoor dan de website van de organisatie\nDe uitslagen van deze hardloopwedstrijd zijn te raadplegen via dezelfde website of via de bekende websites zoals uitslagen.nl\, runtimer en mylaps. Doet u mee met dit evenement\, zorg dan dat u goed voorbereid aan de start staat! Met een goed trainingsschema komt u een heel eind. Train bijvoorbeeld met start to run van Evy Gruyaert. Download de start to run mp3 bestanden en zet ze op uw telefoon. Oortjes in\, hit the play button en en rennen maar! \n\n\n\n\nMeer informatie over 125e Road Runners Loop +Henk Hakker memorial op Hardloopkalender.nl  \nHet loopevenement 125e Road Runners Loop +Henk Hakker memorial te Leiden vindt plaats op zondag 29 april 2012. De loop wordt georganiseerd door Leiden Road Runners Club. Inschrijven is mogelijk vanaf 29 april 2012. Klik hier voor het adres van de start (Google Maps).Er is EHBO aanwezig. Afstand SoortloopInschrijfgeldStarttijdInfo3 km1\,5010.30uur5 km1\,5010.30uur10 km3\,0010.30uur16 km3\,0010.30uur21 km3\,0010.30uur30 km4\,0010.30uurVoor meer informatie:Peter Blomsecretariaat@lrrc.nl0715802361http:  LRRC.NL \n  \n  \n 
URL:https://hardloopevenementen.com/loopagenda/125e-road-runners-loop-henk-hakker-memorial-leiden-zh/
END:VEVENT
BEGIN:VEVENT
DTSTART;VALUE=DATE:20091003
DTEND;VALUE=DATE:20091004
DTSTAMP:20260420T165857
CREATED:20161007T054347Z
LAST-MODIFIED:20190423T095827Z
UID:1708-1254528000-1254528000@hardloopevenementen.com
SUMMARY:125e Zegerplasloop Alphen aan den Rijn (ZH)
DESCRIPTION:Doe mee met het hardloopevenement 125e Zegerplasloop te Alphen aan den Rijn (ZH) op za 03 okt 2009. De volgende afstanden staan op het programma: 0\,4 km – 1 km – 2 km – 5 km – 10 km – 15 km – 20 km hardlopen. Wilt u inschrijven voor dit loopevenement?  Raadpleeg hiervoor dan de website van de organisatie\nDe uitslagen van deze hardloopwedstrijd zijn te raadplegen via dezelfde website of via de bekende websites zoals uitslagen.nl\, runtimer en mylaps. Doet u mee met dit evenement\, zorg dan dat u goed voorbereid aan de start staat! Met een goed trainingsschema komt u een heel eind. Train bijvoorbeeld met start to run van Evy Gruyaert. Download de start to run mp3 bestanden en zet ze op uw telefoon. Oortjes in\, hit the play button en en rennen maar! \n\n\n\n\nMeer informatie over 125e Zegerplasloop op Hardloopkalender.nl  \n0\,4 km 13:00 uur\, 1 km 13:10 uur\, 2 km 13:20 uur\, 5 km 13:50 uur\, 10-15-20 km 13:55 uur \n  \n  \n 
URL:https://hardloopevenementen.com/loopagenda/125e-zegerplasloop-alphen-aan-den-rijn-zh/
END:VEVENT
END:VCALENDAR