BEGIN:VCALENDAR
VERSION:2.0
PRODID:-//Hardloopevenementen - ECPv6.15.14//NONSGML v1.0//EN
CALSCALE:GREGORIAN
METHOD:PUBLISH
X-WR-CALNAME:Hardloopevenementen
X-ORIGINAL-URL:https://hardloopevenementen.com
X-WR-CALDESC:Evenementen voor Hardloopevenementen
REFRESH-INTERVAL;VALUE=DURATION:PT1H
X-Robots-Tag:noindex
X-PUBLISHED-TTL:PT1H
BEGIN:VTIMEZONE
TZID:UTC
BEGIN:STANDARD
TZOFFSETFROM:+0000
TZOFFSETTO:+0000
TZNAME:UTC
DTSTART:20080101T000000
END:STANDARD
END:VTIMEZONE
BEGIN:VEVENT
DTSTART;VALUE=DATE:20120324
DTEND;VALUE=DATE:20120325
DTSTAMP:20260425T145530
CREATED:20070309T211526Z
LAST-MODIFIED:20190423T103337Z
UID:28655-1332547200-1332547200@hardloopevenementen.com
SUMMARY:Unive Leekster Lenteloop Leek (GR)
DESCRIPTION:Doe mee met het hardloopevenement Unive Leekster Lenteloop te Leek (GR) op za 24 mrt 2012. De volgende afstanden staan op het programma: 0\,5 km – 5 km – 12\,8 km – halve marathon hardlopen. Wilt u inschrijven voor dit loopevenement?  Raadpleeg hiervoor dan de website van de organisatie\nDe uitslagen van deze hardloopwedstrijd zijn te raadplegen via dezelfde website of via de bekende websites zoals uitslagen.nl\, runtimer en mylaps. Doet u mee met dit evenement\, zorg dan dat u goed voorbereid aan de start staat! Met een goed trainingsschema komt u een heel eind. Train bijvoorbeeld met start to run van Evy Gruyaert. Download de start to run mp3 bestanden en zet ze op uw telefoon. Oortjes in\, hit the play button en en rennen maar! \n\n\n\n\nMeer informatie over Unive Leekster Lenteloop op Hardloopkalender.nl  \nHet loopevenement Univé Leekster Lenteloop te Leek vindt plaats op zaterdag 24 maart 2012. De loop wordt georganiseerd door Loopgroep Nienoord. Inschrijven is mogelijk vanaf 15 januari 2012. Klik hier voor het adres van de start (Google Maps).Er is EHBO aanwezig. Afstand SoortloopInschrijfgeldStarttijdInfo0.5 km3\,00vanaf11.00u5 km5\,0014.305 km7\,0014.3012.8 km7\,5014.3021.1 km8\,5014.30Voor meer informatie:Fenny Kanningfakanning@home.nl0640712601http:  www.loopgroepnienoord.nl \n  \n  \n 
URL:https://hardloopevenementen.com/loopagenda/unive-leekster-lenteloop-leek-gr-6/
END:VEVENT
BEGIN:VEVENT
DTSTART;VALUE=DATE:20110326
DTEND;VALUE=DATE:20110327
DTSTAMP:20260425T145530
CREATED:20131130T184942Z
LAST-MODIFIED:20190423T102252Z
UID:26652-1301097600-1301097600@hardloopevenementen.com
SUMMARY:Unive Leekster Lenteloop Leek (GR)
DESCRIPTION:Doe mee met het hardloopevenement Unive Leekster Lenteloop te Leek (GR) op za 26 mrt 2011. De volgende afstanden staan op het programma: 12\,8 km – halve marathon hardlopen. Wilt u inschrijven voor dit loopevenement?  Raadpleeg hiervoor dan de website van de organisatie\nDe uitslagen van deze hardloopwedstrijd zijn te raadplegen via dezelfde website of via de bekende websites zoals uitslagen.nl\, runtimer en mylaps. Doet u mee met dit evenement\, zorg dan dat u goed voorbereid aan de start staat! Met een goed trainingsschema komt u een heel eind. Train bijvoorbeeld met start to run van Evy Gruyaert. Download de start to run mp3 bestanden en zet ze op uw telefoon. Oortjes in\, hit the play button en en rennen maar! \n\n\n\n\nMeer informatie over Unive Leekster Lenteloop op Hardloopkalender.nl  \nHet loopevenement Univé Leekster Lenteloop te Leek vindt plaats op zaterdag 26 maart 2011. De loop wordt georganiseerd door Loopgroep Nienoord. Inschrijven is mogelijk vanaf 15 januari 2010. Klik hier voor het adres van de start (Google Maps).Er is verkleedaccomodatie met douchemogelijkheid aanwezig. Er is EHBO aanwezig. Afstand(km)Inschrijfgeld(€)Starttijdjeugdlopen€3\,00vanaf11.00ujeugd5km€5\,0014.305km€7\,0014.3012.8km€7\,5014.3021.1km€8\,5014.30Voor meer informatie:Fenny Kanningfakanning@home.nl0640712601http:  www.loopgroepnienoord.nl \n  \n  \n 
URL:https://hardloopevenementen.com/loopagenda/unive-leekster-lenteloop-leek-gr-5/
END:VEVENT
BEGIN:VEVENT
DTSTART;VALUE=DATE:20100327
DTEND;VALUE=DATE:20100328
DTSTAMP:20260425T145530
CREATED:20160201T134645Z
LAST-MODIFIED:20190423T101309Z
UID:23762-1269648000-1269648000@hardloopevenementen.com
SUMMARY:Unive Leekster Lenteloop Leek (GR)
DESCRIPTION:Doe mee met het hardloopevenement Unive Leekster Lenteloop te Leek (GR) op za 27 mrt 2010. De volgende afstanden staan op het programma: 12\,8 km – halve marathon hardlopen. Wilt u inschrijven voor dit loopevenement?  Raadpleeg hiervoor dan de website van de organisatie\nDe uitslagen van deze hardloopwedstrijd zijn te raadplegen via dezelfde website of via de bekende websites zoals uitslagen.nl\, runtimer en mylaps. Doet u mee met dit evenement\, zorg dan dat u goed voorbereid aan de start staat! Met een goed trainingsschema komt u een heel eind. Train bijvoorbeeld met start to run van Evy Gruyaert. Download de start to run mp3 bestanden en zet ze op uw telefoon. Oortjes in\, hit the play button en en rennen maar! \n\n\n\n\nMeer informatie over Unive Leekster Lenteloop op Hardloopkalender.nl  \nDit loopevenement wordt georganiseerd door Loopgroep Nienoord.De eerste afstand (of onderdeel) start om 14:30.Het adres van de start en de finish is Schilhoek 4Categorie(ën): mannen\, vrouwen\, jeugdVooraf inschrijven is mogelijk vanaf 15 januari 2010 tot 21 maart 2010.Inschrijven op de dag van de loop is mogelijk (vanaf 10.00u) op dit adres: Koetshuys Noord  Kasteel Nienoord  Nienoord 2  9351 AC Leek.Meer informatie:Contactpersoon: Fenny KanningTel.: 0640712601Email: fakanning@home.nlEr is een kleedaccomodatie aanwezig. Douchen is niet mogelijk.Het parcours is verhard.Vorig jaar deden er 1100 lopers mee aan dit evenement.Overige bijzonderheden:  samen met Sticht Sport Promotie Diever \n  \n  \n 
URL:https://hardloopevenementen.com/loopagenda/unive-leekster-lenteloop-leek-gr-4/
END:VEVENT
BEGIN:VEVENT
DTSTART;VALUE=DATE:20090321
DTEND;VALUE=DATE:20090322
DTSTAMP:20260425T145530
CREATED:20090601T124917Z
LAST-MODIFIED:20190423T100238Z
UID:2616-1237593600-1237593600@hardloopevenementen.com
SUMMARY:Unive Leekster Lenteloop Leek (GR)
DESCRIPTION:Doe mee met het hardloopevenement Unive Leekster Lenteloop te Leek (GR) op za 21 mrt 2009. De volgende afstanden staan op het programma: 0\,4 km – 0\,7 km – 1\,3 km – 2 km – 2\,6 km – 5 km – 12\,8 km – halve marathon hardlopen. Wilt u inschrijven voor dit loopevenement?  Raadpleeg hiervoor dan de website van de organisatie\nDe uitslagen van deze hardloopwedstrijd zijn te raadplegen via dezelfde website of via de bekende websites zoals uitslagen.nl\, runtimer en mylaps. Doet u mee met dit evenement\, zorg dan dat u goed voorbereid aan de start staat! Met een goed trainingsschema komt u een heel eind. Train bijvoorbeeld met start to run van Evy Gruyaert. Download de start to run mp3 bestanden en zet ze op uw telefoon. Oortjes in\, hit the play button en en rennen maar! \n\n\n\n\nMeer informatie over Unive Leekster Lenteloop op Hardloopkalender.nl  \n0\,4 km 12:15 uur\, 0\,7 km 12:35 uur\, 1\,3 km 13:05 uur\, 2 km 13:35 uur\, 2\,6 km 14:10 uur\, 5 km 14:30 uur\, 12\,8-21\,1 km 14:32 uur  Ter informatie: er staan foto’s van de Leekster Lenteloop 2009 op de website www.tegekkefoto.nl in de sectie ‘sport’. \n  \n  \n 
URL:https://hardloopevenementen.com/loopagenda/unive-leekster-lenteloop-leek-gr/
END:VEVENT
END:VCALENDAR