BEGIN:VCALENDAR
VERSION:2.0
PRODID:-//Hardloopevenementen - ECPv6.15.14//NONSGML v1.0//EN
CALSCALE:GREGORIAN
METHOD:PUBLISH
X-WR-CALNAME:Hardloopevenementen
X-ORIGINAL-URL:https://hardloopevenementen.com
X-WR-CALDESC:Evenementen voor Hardloopevenementen
REFRESH-INTERVAL;VALUE=DURATION:PT1H
X-Robots-Tag:noindex
X-PUBLISHED-TTL:PT1H
BEGIN:VTIMEZONE
TZID:UTC
BEGIN:STANDARD
TZOFFSETFROM:+0000
TZOFFSETTO:+0000
TZNAME:UTC
DTSTART:20130101T000000
END:STANDARD
END:VTIMEZONE
BEGIN:VEVENT
DTSTART;VALUE=DATE:20150830
DTEND;VALUE=DATE:20150831
DTSTAMP:20260424T222125
CREATED:20090924T072612Z
LAST-MODIFIED:20190423T110942Z
UID:9893-1440892800-1440892800@hardloopevenementen.com
SUMMARY:Marktstadrun Purmerend (NH)
DESCRIPTION:Doe mee met het hardloopevenement Marktstadrun te Purmerend (NH) op zo 30 aug 2015. De volgende afstanden staan op het programma: 1\,6 km – 6\,4 km – 12\,9 km hardlopen. Wilt u inschrijven voor dit loopevenement?  Raadpleeg hiervoor dan de website van de organisatie\nDe uitslagen van deze hardloopwedstrijd zijn te raadplegen via dezelfde website of via de bekende websites zoals uitslagen.nl\, runtimer en mylaps. Doet u mee met dit evenement\, zorg dan dat u goed voorbereid aan de start staat! Met een goed trainingsschema komt u een heel eind. Train bijvoorbeeld met start to run van Evy Gruyaert. Download de start to run mp3 bestanden en zet ze op uw telefoon. Oortjes in\, hit the play button en en rennen maar! \n\n\n\n\nMeer informatie over Marktstadrun op Hardloopkalender.nl  \nHet loopevenement Marktstadrun te Purmerend vindt plaats op zondag 30 augustus 2015. \n  \n  \n 
URL:https://hardloopevenementen.com/loopagenda/marktstadrun-purmerend-nh-3/
END:VEVENT
BEGIN:VEVENT
DTSTART;VALUE=DATE:20140907
DTEND;VALUE=DATE:20140908
DTSTAMP:20260424T222125
CREATED:20160921T014350Z
LAST-MODIFIED:20190423T105151Z
UID:33323-1410048000-1410048000@hardloopevenementen.com
SUMMARY:Marktstadrun Purmerend (NH)
DESCRIPTION:Doe mee met het hardloopevenement Marktstadrun te Purmerend (NH) op zo 07 sep 2014. De volgende afstanden staan op het programma: 1\,6 km – 6\,4 km – 12\,9 km hardlopen. Wilt u inschrijven voor dit loopevenement?  Raadpleeg hiervoor dan de website van de organisatie\nDe uitslagen van deze hardloopwedstrijd zijn te raadplegen via dezelfde website of via de bekende websites zoals uitslagen.nl\, runtimer en mylaps. Doet u mee met dit evenement\, zorg dan dat u goed voorbereid aan de start staat! Met een goed trainingsschema komt u een heel eind. Train bijvoorbeeld met start to run van Evy Gruyaert. Download de start to run mp3 bestanden en zet ze op uw telefoon. Oortjes in\, hit the play button en en rennen maar! \n\n\n\n\nMeer informatie over Marktstadrun op Hardloopkalender.nl  \nHet loopevenement Marktstadrun te Purmerend vindt plaats op zondag 07 september 2014. De loop wordt georganisseerd door Stichting Marktstad Run Purmerend. Klik hier voor het adres van de start (Google Maps). \n  \n  \n 
URL:https://hardloopevenementen.com/loopagenda/marktstadrun-purmerend-nh-6/
END:VEVENT
END:VCALENDAR