BEGIN:VCALENDAR
VERSION:2.0
PRODID:-//Hardloopevenementen - ECPv6.15.14//NONSGML v1.0//EN
CALSCALE:GREGORIAN
METHOD:PUBLISH
X-WR-CALNAME:Hardloopevenementen
X-ORIGINAL-URL:https://hardloopevenementen.com
X-WR-CALDESC:Evenementen voor Hardloopevenementen
REFRESH-INTERVAL;VALUE=DURATION:PT1H
X-Robots-Tag:noindex
X-PUBLISHED-TTL:PT1H
BEGIN:VTIMEZONE
TZID:UTC
BEGIN:STANDARD
TZOFFSETFROM:+0000
TZOFFSETTO:+0000
TZNAME:UTC
DTSTART:20150101T000000
END:STANDARD
END:VTIMEZONE
BEGIN:VEVENT
DTSTART;VALUE=DATE:20161211
DTEND;VALUE=DATE:20161212
DTSTAMP:20260421T005712
CREATED:20171128T160952Z
LAST-MODIFIED:20190423T112015Z
UID:11416-1481414400-1481414400@hardloopevenementen.com
SUMMARY:1 vd 4 cross Sparta Duinrellcross 's-Gravenhage\, gemeente Den Haag (ZH)
DESCRIPTION:Doe mee met het hardloopevenement 1 vd 4 cross Sparta Duinrellcross te ‘s-Gravenhage\, gemeente Den Haag (ZH) op zo 11 dec 2016. De volgende afstanden staan op het programma: 1\,3 km – 5 km – 8\,5 km – 10 km hardlopen. Wilt u inschrijven voor dit loopevenement?  Raadpleeg hiervoor dan de website van de organisatie\nDe uitslagen van deze hardloopwedstrijd zijn te raadplegen via dezelfde website of via de bekende websites zoals uitslagen.nl\, runtimer en mylaps. Doet u mee met dit evenement\, zorg dan dat u goed voorbereid aan de start staat! Met een goed trainingsschema komt u een heel eind. Train bijvoorbeeld met start to run van Evy Gruyaert. Download de start to run mp3 bestanden en zet ze op uw telefoon. Oortjes in\, hit the play button en en rennen maar! \n\n\n\n\nMeer informatie over 1 vd 4 cross Sparta Duinrellcross op Hardloopkalender.nl  \nZondag 11 december a.s. organiseert AV Sparta haar traditionele Duinrellcross. Voor liefhebbers van een echte cross een uitdaging. Het mooie duingebied achter het pretpark is deze dag ons domein.    Duinrellcross  Voorinschrijven is gratis voor de leden van Haag Atletiek\, The Hague Road Runners\, De Koplopers en Sparta via de eigen vereniging.    Na-inschrijving en startnummers ophalen vanaf 10.30 uur bij het Natuurkampeerterrein van Duinrell.  3\,-    Kleedgelegenheid en douches zijn aanwezig  Parkeren\, Neem de entree bij P1 van Duinrell en volg de aanwijzingen van het Duinrell-personeel. Parkeren kost  7\,50 per auto. Het is verstandig als deelnemers en supporters zoveel mogelijk met elkaar meerijden    Start en finish bij het Natuurkampeerterrein van Duinrell Duinrell 1\, Wassenaar  Starttijden en afstanden  11.30 uur	Jeugdcross 1250 meter  12.15 uur	5 km (2 rondes)  12.15 uur	8\,5 km (4 rondes)  voor het klassement van het circuit  Tevens KPN Kampioenschap Cross over 10 km  Inschrijven voor de KPN’ers gratis via PVKPN.    Info: 06-5161 9901 (Peter van Soest) \n  \n  \n 
URL:https://hardloopevenementen.com/loopagenda/1-vd-4-cross-sparta-duinrellcross-s-gravenhage-gemeente-den-haag-zh/
END:VEVENT
END:VCALENDAR