BEGIN:VCALENDAR
VERSION:2.0
PRODID:-//Hardloopevenementen - ECPv6.15.14//NONSGML v1.0//EN
CALSCALE:GREGORIAN
METHOD:PUBLISH
X-WR-CALNAME:Hardloopevenementen
X-ORIGINAL-URL:https://hardloopevenementen.com
X-WR-CALDESC:Evenementen voor Hardloopevenementen
REFRESH-INTERVAL;VALUE=DURATION:PT1H
X-Robots-Tag:noindex
X-PUBLISHED-TTL:PT1H
BEGIN:VTIMEZONE
TZID:UTC
BEGIN:STANDARD
TZOFFSETFROM:+0000
TZOFFSETTO:+0000
TZNAME:UTC
DTSTART:20100101T000000
END:STANDARD
END:VTIMEZONE
BEGIN:VEVENT
DTSTART;VALUE=DATE:20140112
DTEND;VALUE=DATE:20140113
DTSTAMP:20260421T030305
CREATED:20140521T113057Z
LAST-MODIFIED:20190423T105853Z
UID:34884-1389484800-1389484800@hardloopevenementen.com
SUMMARY:134e Runnersworld Run Classic  trim Loop Leiden (ZH)
DESCRIPTION:Doe mee met het hardloopevenement 134e Runnersworld Run Classic  trim Loop te Leiden (ZH) op zo 12 jan 2014. De volgende afstanden staan op het programma: 3 km – 5 km – 10 km – 10 Engelse mijl – halve marathon hardlopen. Wilt u inschrijven voor dit loopevenement?  Raadpleeg hiervoor dan de website van de organisatie\nDe uitslagen van deze hardloopwedstrijd zijn te raadplegen via dezelfde website of via de bekende websites zoals uitslagen.nl\, runtimer en mylaps. Doet u mee met dit evenement\, zorg dan dat u goed voorbereid aan de start staat! Met een goed trainingsschema komt u een heel eind. Train bijvoorbeeld met start to run van Evy Gruyaert. Download de start to run mp3 bestanden en zet ze op uw telefoon. Oortjes in\, hit the play button en en rennen maar! \n\n\n\n\nMeer informatie over 134e Runnersworld Run Classic  trim Loop op Hardloopkalender.nl  \nHet loopevenement 134e Runnersworld Run Classic (trim)Loop te Leiden vindt plaats op zondag 12 januari 2014. De loop wordt georganisseerd door Leiden Road Runners Club. Klik hier voor het adres van de start (Google Maps). \n  \n  \n 
URL:https://hardloopevenementen.com/loopagenda/134e-runnersworld-run-classic-trim-loop-leiden-zh/
END:VEVENT
BEGIN:VEVENT
DTSTART;VALUE=DATE:20111112
DTEND;VALUE=DATE:20111113
DTSTAMP:20260421T030305
CREATED:20121103T065139Z
LAST-MODIFIED:20190423T101725Z
UID:5992-1321056000-1321056000@hardloopevenementen.com
SUMMARY:134e Zegerplasloop Alphen aan den Rijn (ZH)
DESCRIPTION:Doe mee met het hardloopevenement 134e Zegerplasloop te Alphen aan den Rijn (ZH) op za 12 nov 2011. De volgende afstanden staan op het programma: 0\,4 km – 1 km – 2 km – 5 km – 10 km – 15 km – 20 km hardlopen. Wilt u inschrijven voor dit loopevenement?  Raadpleeg hiervoor dan de website van de organisatie\nDe uitslagen van deze hardloopwedstrijd zijn te raadplegen via dezelfde website of via de bekende websites zoals uitslagen.nl\, runtimer en mylaps. Doet u mee met dit evenement\, zorg dan dat u goed voorbereid aan de start staat! Met een goed trainingsschema komt u een heel eind. Train bijvoorbeeld met start to run van Evy Gruyaert. Download de start to run mp3 bestanden en zet ze op uw telefoon. Oortjes in\, hit the play button en en rennen maar! \n\n\n\n\nMeer informatie over 134e Zegerplasloop op Hardloopkalender.nl  \nHet loopevenement 134e Zegerplasloop te Alphen Aan Den Rijn vindt plaats op zaterdag 12 november 2011. De loop wordt georganiseerd door AAV `36. Inschrijven is mogelijk vanaf 08 januari 2011. Klik hier voor het adres van de start (Google Maps).Er is verkleedaccomodatie met douchemogelijkheid aanwezig. Er is EHBO aanwezig. Bijzonderheden: De 0\,4\, 1\,0 en 2\,0 km zijn op de atletiekbaan. Overige afstanden daarbuiten..Afstand(km)Inschrijfgeld(€)Starttijd0\,4€1\,5013.001\,0€1\,5013.102\,0€1\,5013.205\,0€3\,5013.5010\,0€3\,5013.5515\,0€3\,5013.5520\,0€3\,5013.55Voor meer informatie:Wim Vijfhuizezegerplasloop@aav36.nl0653153998http:  zegerplasloop.aav36.nl \n  \n  \n 
URL:https://hardloopevenementen.com/loopagenda/134e-zegerplasloop-alphen-aan-den-rijn-zh/
END:VEVENT
END:VCALENDAR