BEGIN:VCALENDAR
VERSION:2.0
PRODID:-//Hardloopevenementen - ECPv6.15.14//NONSGML v1.0//EN
CALSCALE:GREGORIAN
METHOD:PUBLISH
X-WR-CALNAME:Hardloopevenementen
X-ORIGINAL-URL:https://hardloopevenementen.com
X-WR-CALDESC:Evenementen voor Hardloopevenementen
REFRESH-INTERVAL;VALUE=DURATION:PT1H
X-Robots-Tag:noindex
X-PUBLISHED-TTL:PT1H
BEGIN:VTIMEZONE
TZID:UTC
BEGIN:STANDARD
TZOFFSETFROM:+0000
TZOFFSETTO:+0000
TZNAME:UTC
DTSTART:20110101T000000
END:STANDARD
END:VTIMEZONE
BEGIN:VEVENT
DTSTART;VALUE=DATE:20140907
DTEND;VALUE=DATE:20140908
DTSTAMP:20260424T101232
CREATED:20160727T211824Z
LAST-MODIFIED:20190423T105151Z
UID:33322-1410048000-1410048000@hardloopevenementen.com
SUMMARY:137e Runnersworld Run Classic  trim Loop Leiden (ZH)
DESCRIPTION:Doe mee met het hardloopevenement 137e Runnersworld Run Classic  trim Loop te Leiden (ZH) op zo 07 sep 2014. De volgende afstanden staan op het programma: 3 km – 5 km – 10 km – 10 Engelse mijl – halve marathon hardlopen. Wilt u inschrijven voor dit loopevenement?  Raadpleeg hiervoor dan de website van de organisatie\nDe uitslagen van deze hardloopwedstrijd zijn te raadplegen via dezelfde website of via de bekende websites zoals uitslagen.nl\, runtimer en mylaps. Doet u mee met dit evenement\, zorg dan dat u goed voorbereid aan de start staat! Met een goed trainingsschema komt u een heel eind. Train bijvoorbeeld met start to run van Evy Gruyaert. Download de start to run mp3 bestanden en zet ze op uw telefoon. Oortjes in\, hit the play button en en rennen maar! \n\n\n\n\nMeer informatie over 137e Runnersworld Run Classic  trim Loop op Hardloopkalender.nl  \nHet loopevenement 137e Runnersworld Run Classic (trim)Loop te Leiden vindt plaats op zondag 07 september 2014. De loop wordt georganisseerd door Leiden Road Runners Club. Klik hier voor het adres van de start (Google Maps). \n  \n  \n 
URL:https://hardloopevenementen.com/loopagenda/137e-runnersworld-run-classic-trim-loop-leiden-zh/
END:VEVENT
BEGIN:VEVENT
DTSTART;VALUE=DATE:20121006
DTEND;VALUE=DATE:20121007
DTSTAMP:20260424T101232
CREATED:20120202T122025Z
LAST-MODIFIED:20190423T102904Z
UID:7625-1349481600-1349481600@hardloopevenementen.com
SUMMARY:137e Zegerplasloop Alphen aan den Rijn (ZH)
DESCRIPTION:Doe mee met het hardloopevenement 137e Zegerplasloop te Alphen aan den Rijn (ZH) op za 06 okt 2012. De volgende afstanden staan op het programma: 1 km – 2 km – 5 km – 10 km – 15 km – 20 km hardlopen. Wilt u inschrijven voor dit loopevenement?  Raadpleeg hiervoor dan de website van de organisatie\nDe uitslagen van deze hardloopwedstrijd zijn te raadplegen via dezelfde website of via de bekende websites zoals uitslagen.nl\, runtimer en mylaps. Doet u mee met dit evenement\, zorg dan dat u goed voorbereid aan de start staat! Met een goed trainingsschema komt u een heel eind. Train bijvoorbeeld met start to run van Evy Gruyaert. Download de start to run mp3 bestanden en zet ze op uw telefoon. Oortjes in\, hit the play button en en rennen maar! \n\n\n\n\nMeer informatie over 137e Zegerplasloop op Hardloopkalender.nl  \nHet loopevenement 137e Zegerplasloop te Alphen Aan Den Rijn vindt plaats op zaterdag 06 oktober 2012. De loop wordt georganiseerd door AAV `36. Inschrijven is mogelijk vanaf 06 oktober 2012. Klik hier voor het adres van de start (Google Maps).Er is EHBO aanwezig. Bijzonderheden: De 0\,4\, 1\,0 en 2\,0 km zijn op de atletiekbaan. Overige afstanden daarbuiten..Afstand SoortloopInschrijfgeldStarttijdInfo0 km1\,5013.001 km1\,5013.102 km1\,5013.205 km3\,5013.5010 km3\,5013.5515 km3\,5013.5520 km3\,5013.55Voor meer informatie:Wim Vijfhuizezegerplasloop@aav36.nl0653153998http:  zegerplasloop.aav36.nl \n  \n  \n 
URL:https://hardloopevenementen.com/loopagenda/137e-zegerplasloop-alphen-aan-den-rijn-zh/
END:VEVENT
END:VCALENDAR