BEGIN:VCALENDAR
VERSION:2.0
PRODID:-//Hardloopevenementen - ECPv6.15.14//NONSGML v1.0//EN
CALSCALE:GREGORIAN
METHOD:PUBLISH
X-ORIGINAL-URL:https://hardloopevenementen.com
X-WR-CALDESC:Evenementen voor Hardloopevenementen
REFRESH-INTERVAL;VALUE=DURATION:PT1H
X-Robots-Tag:noindex
X-PUBLISHED-TTL:PT1H
BEGIN:VTIMEZONE
TZID:UTC
BEGIN:STANDARD
TZOFFSETFROM:+0000
TZOFFSETTO:+0000
TZNAME:UTC
DTSTART:20160101T000000
END:STANDARD
END:VTIMEZONE
BEGIN:VEVENT
DTSTART;VALUE=DATE:20180413
DTEND;VALUE=DATE:20180414
DTSTAMP:20260421T095712
CREATED:20130121T194735Z
LAST-MODIFIED:20190423T120542Z
UID:16781-1523577600-1523577600@hardloopevenementen.com
SUMMARY:Friday the 13th Marathon Leek (GR)
DESCRIPTION:Doe mee met het hardloopevenement Friday the 13th Marathon te Leek (GR) op vr 13 apr 2018. De volgende afstanden staan op het programma: marathon hardlopen. Wilt u inschrijven voor dit loopevenement?  Raadpleeg hiervoor dan de website van de organisatie\nDe uitslagen van deze hardloopwedstrijd zijn te raadplegen via dezelfde website of via de bekende websites zoals uitslagen.nl\, runtimer en mylaps. Doet u mee met dit evenement\, zorg dan dat u goed voorbereid aan de start staat! Met een goed trainingsschema komt u een heel eind. Train bijvoorbeeld met start to run van Evy Gruyaert. Download de start to run mp3 bestanden en zet ze op uw telefoon. Oortjes in\, hit the play button en en rennen maar! \n\n\n\n\nMeer informatie over Friday the 13th Marathon op Hardloopkalender.nl  \n  \n  \n 
URL:https://hardloopevenementen.com/loopagenda/friday-the-13th-marathon-leek-gr-3/
END:VEVENT
BEGIN:VEVENT
DTSTART;VALUE=DATE:20171013
DTEND;VALUE=DATE:20171014
DTSTAMP:20260421T095712
CREATED:20140415T093045Z
LAST-MODIFIED:20190423T114321Z
UID:13920-1507852800-1507852800@hardloopevenementen.com
SUMMARY:Friday the 13th Marathon Leek (GR)
DESCRIPTION:Doe mee met het hardloopevenement Friday the 13th Marathon te Leek (GR) op vr 13 okt 2017. De volgende afstanden staan op het programma: marathon hardlopen. Wilt u inschrijven voor dit loopevenement?  Raadpleeg hiervoor dan de website van de organisatie\nDe uitslagen van deze hardloopwedstrijd zijn te raadplegen via dezelfde website of via de bekende websites zoals uitslagen.nl\, runtimer en mylaps. Doet u mee met dit evenement\, zorg dan dat u goed voorbereid aan de start staat! Met een goed trainingsschema komt u een heel eind. Train bijvoorbeeld met start to run van Evy Gruyaert. Download de start to run mp3 bestanden en zet ze op uw telefoon. Oortjes in\, hit the play button en en rennen maar! \n\n\n\n\nMeer informatie over Friday the 13th Marathon op Hardloopkalender.nl  \n  \n  \n 
URL:https://hardloopevenementen.com/loopagenda/friday-the-13th-marathon-leek-gr/
END:VEVENT
BEGIN:VEVENT
DTSTART;VALUE=DATE:20170113
DTEND;VALUE=DATE:20170114
DTSTAMP:20260421T095712
CREATED:20130819T222752Z
LAST-MODIFIED:20190423T114901Z
UID:15441-1484265600-1484265600@hardloopevenementen.com
SUMMARY:Friday the 13th Marathon Leek (GR)
DESCRIPTION:Doe mee met het hardloopevenement Friday the 13th Marathon te Leek (GR) op vr 13 jan 2017. De volgende afstanden staan op het programma: marathon hardlopen. Wilt u inschrijven voor dit loopevenement?  Raadpleeg hiervoor dan de website van de organisatie\nDe uitslagen van deze hardloopwedstrijd zijn te raadplegen via dezelfde website of via de bekende websites zoals uitslagen.nl\, runtimer en mylaps. Doet u mee met dit evenement\, zorg dan dat u goed voorbereid aan de start staat! Met een goed trainingsschema komt u een heel eind. Train bijvoorbeeld met start to run van Evy Gruyaert. Download de start to run mp3 bestanden en zet ze op uw telefoon. Oortjes in\, hit the play button en en rennen maar! \n\n\n\n\nMeer informatie over Friday the 13th Marathon op Hardloopkalender.nl  \n  \n  \n 
URL:https://hardloopevenementen.com/loopagenda/friday-the-13th-marathon-leek-gr-2/
END:VEVENT
END:VCALENDAR