BEGIN:VCALENDAR
VERSION:2.0
PRODID:-//Hardloopevenementen - ECPv6.15.14//NONSGML v1.0//EN
CALSCALE:GREGORIAN
METHOD:PUBLISH
X-ORIGINAL-URL:https://hardloopevenementen.com
X-WR-CALDESC:Evenementen voor Hardloopevenementen
REFRESH-INTERVAL;VALUE=DURATION:PT1H
X-Robots-Tag:noindex
X-PUBLISHED-TTL:PT1H
BEGIN:VTIMEZONE
TZID:UTC
BEGIN:STANDARD
TZOFFSETFROM:+0000
TZOFFSETTO:+0000
TZNAME:UTC
DTSTART:20080101T000000
END:STANDARD
END:VTIMEZONE
BEGIN:VEVENT
DTSTART;VALUE=DATE:20201129
DTEND;VALUE=DATE:20201130
DTSTAMP:20260420T151340
CREATED:20180222T005424Z
LAST-MODIFIED:20200206T111208Z
UID:144526-1606608000-1606608000@hardloopevenementen.com
SUMMARY:Mispelhoefloop Eindhoven (NB)
DESCRIPTION:Doe mee met het hardloopevenement Mispelhoefloop te Eindhoven (NB) op zo 29 nov 2020. De volgende afstanden staan op het programma: 1\,4 km – 5 km – 5\,1 km – 10 km – 15 km hardlopen. Wilt u inschrijven voor dit loopevenement?  Raadpleeg hiervoor dan de website van de organisatie\nDe uitslagen van deze hardloopwedstrijd zijn te raadplegen via dezelfde website of via de bekende websites zoals uitslagen.nl\, runtimer en mylaps. Doet u mee met dit evenement\, zorg dan dat u goed voorbereid aan de start staat! Met een goed trainingsschema komt u een heel eind. Train bijvoorbeeld met start to run van Evy Gruyaert. Download de start to run mp3 bestanden en zet ze op uw telefoon. Oortjes in\, hit the play button en en rennen maar! \n\n\n\n\nMeer informatie over Mispelhoefloop op Hardloopkalender.nl  \n  \n  \n 
URL:https://hardloopevenementen.com/loopagenda/mispelhoefloop-eindhoven-nb/
END:VEVENT
BEGIN:VEVENT
DTSTART;VALUE=DATE:20190106
DTEND;VALUE=DATE:20190107
DTSTAMP:20260420T151340
CREATED:20130429T235425Z
LAST-MODIFIED:20191114T112831Z
UID:17410-1546732800-1546732800@hardloopevenementen.com
SUMMARY:Genneperparkenloop Eindhoven (NB)
DESCRIPTION:Doe mee met het hardloopevenement Genneperparkenloop te Eindhoven (NB) op zo 06 jan 2019. De volgende afstanden staan op het programma: 2 km – 4 km – 8 km – 14 km hardlopen. Wilt u inschrijven voor dit loopevenement?  Raadpleeg hiervoor dan de website van de organisatie\nDe uitslagen van deze hardloopwedstrijd zijn te raadplegen via dezelfde website of via de bekende websites zoals uitslagen.nl\, runtimer en mylaps. Doet u mee met dit evenement\, zorg dan dat u goed voorbereid aan de start staat! Met een goed trainingsschema komt u een heel eind. Train bijvoorbeeld met start to run van Evy Gruyaert. Download de start to run mp3 bestanden en zet ze op uw telefoon. Oortjes in\, hit the play button en en rennen maar! \n\n\n\n\nMeer informatie over Genneperparkenloop op Hardloopkalender.nl  \n  \n  \n 
URL:https://hardloopevenementen.com/loopagenda/genneperparkenloop-eindhoven-nb/
END:VEVENT
BEGIN:VEVENT
DTSTART;VALUE=DATE:20140105
DTEND;VALUE=DATE:20140106
DTSTAMP:20260420T151340
CREATED:20120425T155258Z
LAST-MODIFIED:20190423T105901Z
UID:34912-1388880000-1388880000@hardloopevenementen.com
SUMMARY:Genneper Parken Nieuwjaarsloop Eindhoven (NB)
DESCRIPTION:Doe mee met het hardloopevenement Genneper Parken Nieuwjaarsloop te Eindhoven (NB) op zo 05 jan 2014. De volgende afstanden staan op het programma: 2 km – 5\,5 km – 8 km – 14 km hardlopen. Wilt u inschrijven voor dit loopevenement?  Raadpleeg hiervoor dan de website van de organisatie\nDe uitslagen van deze hardloopwedstrijd zijn te raadplegen via dezelfde website of via de bekende websites zoals uitslagen.nl\, runtimer en mylaps. Doet u mee met dit evenement\, zorg dan dat u goed voorbereid aan de start staat! Met een goed trainingsschema komt u een heel eind. Train bijvoorbeeld met start to run van Evy Gruyaert. Download de start to run mp3 bestanden en zet ze op uw telefoon. Oortjes in\, hit the play button en en rennen maar! \n\n\n\n\nMeer informatie over Genneper Parken Nieuwjaarsloop op Hardloopkalender.nl  \n  \n  \n 
URL:https://hardloopevenementen.com/loopagenda/genneper-parken-nieuwjaarsloop-eindhoven-nb-6/
END:VEVENT
BEGIN:VEVENT
DTSTART;VALUE=DATE:20120920
DTEND;VALUE=DATE:20120921
DTSTAMP:20260420T151340
CREATED:20150215T201558Z
LAST-MODIFIED:20190423T102921Z
UID:7693-1348099200-1348099200@hardloopevenementen.com
SUMMARY:Lichtjesroute Run 2012 Eindhoven (NB)
DESCRIPTION:Doe mee met het hardloopevenement Lichtjesroute Run 2012 te Eindhoven (NB) op do 20 sep 2012. De volgende afstanden staan op het programma: 8 km – 12 km – 14 km – 22 km hardlopen. Wilt u inschrijven voor dit loopevenement?  Raadpleeg hiervoor dan de website van de organisatie\nDe uitslagen van deze hardloopwedstrijd zijn te raadplegen via dezelfde website of via de bekende websites zoals uitslagen.nl\, runtimer en mylaps. Doet u mee met dit evenement\, zorg dan dat u goed voorbereid aan de start staat! Met een goed trainingsschema komt u een heel eind. Train bijvoorbeeld met start to run van Evy Gruyaert. Download de start to run mp3 bestanden en zet ze op uw telefoon. Oortjes in\, hit the play button en en rennen maar! \n\n\n\n\nMeer informatie over Lichtjesroute Run 2012 op Hardloopkalender.nl  \n  \n  \n 
URL:https://hardloopevenementen.com/loopagenda/lichtjesroute-run-2012-eindhoven-nb/
END:VEVENT
BEGIN:VEVENT
DTSTART;VALUE=DATE:20111231
DTEND;VALUE=DATE:20120101
DTSTAMP:20260420T151340
CREATED:20100704T155941Z
LAST-MODIFIED:20190423T101613Z
UID:5719-1325289600-1325289600@hardloopevenementen.com
SUMMARY:Nieuwjaarsloop Eindhoven (NB)
DESCRIPTION:Doe mee met het hardloopevenement Nieuwjaarsloop te Eindhoven (NB) op za 31 dec 2011. De volgende afstanden staan op het programma: 2 km – 5\,5 km – 8 km – 14 km hardlopen. Wilt u inschrijven voor dit loopevenement?  Raadpleeg hiervoor dan de website van de organisatie\nDe uitslagen van deze hardloopwedstrijd zijn te raadplegen via dezelfde website of via de bekende websites zoals uitslagen.nl\, runtimer en mylaps. Doet u mee met dit evenement\, zorg dan dat u goed voorbereid aan de start staat! Met een goed trainingsschema komt u een heel eind. Train bijvoorbeeld met start to run van Evy Gruyaert. Download de start to run mp3 bestanden en zet ze op uw telefoon. Oortjes in\, hit the play button en en rennen maar! \n\n\n\n\nMeer informatie over Nieuwjaarsloop op Hardloopkalender.nl  \nOp zaterdag 31  december 2011 is het weer zover\, de Genneper Parken Nieuwjaarsloop. Is de marathon net een brug te ver en wil je het nieuwe jaar sportief beginnen\, dan is dit iets voor jou! Je kunt namelijk kiezen uit 2\, 5.5\, 8 en 14 kilometer. Deze loop is speciaal voor beginners en getrainde lopers \n  \n  \n 
URL:https://hardloopevenementen.com/loopagenda/nieuwjaarsloop-eindhoven-nb/
END:VEVENT
BEGIN:VEVENT
DTSTART;VALUE=DATE:20110910
DTEND;VALUE=DATE:20110911
DTSTAMP:20260420T151340
CREATED:20160415T114257Z
LAST-MODIFIED:20190423T101901Z
UID:6384-1315612800-1315612800@hardloopevenementen.com
SUMMARY:Fit to Finish Eindhoven (NB)
DESCRIPTION:Doe mee met het hardloopevenement Fit to Finish te Eindhoven (NB) op za 10 sep 2011. De volgende afstanden staan op het programma: 8 km – 14 km hardlopen. Wilt u inschrijven voor dit loopevenement?  Raadpleeg hiervoor dan de website van de organisatie\nDe uitslagen van deze hardloopwedstrijd zijn te raadplegen via dezelfde website of via de bekende websites zoals uitslagen.nl\, runtimer en mylaps. Doet u mee met dit evenement\, zorg dan dat u goed voorbereid aan de start staat! Met een goed trainingsschema komt u een heel eind. Train bijvoorbeeld met start to run van Evy Gruyaert. Download de start to run mp3 bestanden en zet ze op uw telefoon. Oortjes in\, hit the play button en en rennen maar! \n\n\n\n\nMeer informatie over Fit to Finish op Hardloopkalender.nl  \nFit to Finish is het sportieve sponsorevenement van De Tegenaanval\, het nieuwe initiatief van het Nationaal Epilepsie Fonds.     Fit to Finish vindt dit jaar voor het eerst plaats op zaterdag 10 september 2011 in het bosrijke gebied van Genneper Parken (nabij Eindhoven). Je zorgt in de maanden voor het evenement dat je voldoende sponsorgeld bijeenbrengt voor het Nationaal Epilepsie Fonds. Fit to Finish eindigt met een feestelijke afsluiting.      Doe mee aan Fit to Finish Hardlopen en kies uit twee afstanden\, 8 kilometer of 14 kilometer. Het parcours gaat door een prachtig natuurgebied over verharde paden. Meedoen kan individueel maar je kan je natuurlijk ook inschrijven als team. Per persoon haal je minstens 250 euro aan sponsorgeld op voor het Nationaal Epilepsie Fonds. De inschrijving is gratis.    Geinteresseerd: bezoek onze website: www.detegenaanval.nl of stuur ons een email naar: info@detegenaanval.nl \n  \n  \n 
URL:https://hardloopevenementen.com/loopagenda/fit-to-finish-eindhoven-nb/
END:VEVENT
BEGIN:VEVENT
DTSTART;VALUE=DATE:20110102
DTEND;VALUE=DATE:20110103
DTSTAMP:20260420T151340
CREATED:20160517T233151Z
LAST-MODIFIED:20190423T102442Z
UID:27052-1293926400-1293926400@hardloopevenementen.com
SUMMARY:Genneper Parken Nieuwjaarsloop Eindhoven (NB)
DESCRIPTION:Doe mee met het hardloopevenement Genneper Parken Nieuwjaarsloop te Eindhoven (NB) op zo 02 jan 2011. De volgende afstanden staan op het programma: 2 km – 5\,5 km – 8 km – 14 km hardlopen. Wilt u inschrijven voor dit loopevenement?  Raadpleeg hiervoor dan de website van de organisatie\nDe uitslagen van deze hardloopwedstrijd zijn te raadplegen via dezelfde website of via de bekende websites zoals uitslagen.nl\, runtimer en mylaps. Doet u mee met dit evenement\, zorg dan dat u goed voorbereid aan de start staat! Met een goed trainingsschema komt u een heel eind. Train bijvoorbeeld met start to run van Evy Gruyaert. Download de start to run mp3 bestanden en zet ze op uw telefoon. Oortjes in\, hit the play button en en rennen maar! \n\n\n\n\nMeer informatie over Genneper Parken Nieuwjaarsloop op Hardloopkalender.nl  \n  \n  \n 
URL:https://hardloopevenementen.com/loopagenda/genneper-parken-nieuwjaarsloop-eindhoven-nb-4/
END:VEVENT
BEGIN:VEVENT
DTSTART;VALUE=DATE:20100103
DTEND;VALUE=DATE:20100104
DTSTAMP:20260420T151340
CREATED:20140322T210847Z
LAST-MODIFIED:20190423T101508Z
UID:24208-1262476800-1262476800@hardloopevenementen.com
SUMMARY:Genneper Parken Nieuwjaarsloop Eindhoven (NB)
DESCRIPTION:Doe mee met het hardloopevenement Genneper Parken Nieuwjaarsloop te Eindhoven (NB) op zo 03 jan 2010. De volgende afstanden staan op het programma: 2 km – 5\,5 km – 8 km – 14 km hardlopen. Wilt u inschrijven voor dit loopevenement?  Raadpleeg hiervoor dan de website van de organisatie\nDe uitslagen van deze hardloopwedstrijd zijn te raadplegen via dezelfde website of via de bekende websites zoals uitslagen.nl\, runtimer en mylaps. Doet u mee met dit evenement\, zorg dan dat u goed voorbereid aan de start staat! Met een goed trainingsschema komt u een heel eind. Train bijvoorbeeld met start to run van Evy Gruyaert. Download de start to run mp3 bestanden en zet ze op uw telefoon. Oortjes in\, hit the play button en en rennen maar! \n\n\n\n\nMeer informatie over Genneper Parken Nieuwjaarsloop op Hardloopkalender.nl  \nDit loopevenement wordt georganiseerd door Eindhoven Atletiek.De eerste afstand (of onderdeel) start om 11:00.Het adres van de start en de finish is Charles Roelslaan 13Categorie(ën): mannen\, vrouwen\, jeugdVooraf inschrijven is mogelijk vanaf 01 oktober 2009 tot 31 december 2009.Inschrijven op de dag van de loop is mogelijk (vanaf 10.00 uur) op dit adres: Charles Roelslaan 13.Meer informatie:Contactpersoon: Job van LierTel.: 0402381155Email: j.van.lier@eindhoven.nlEr is een kleedaccomodatie aanwezig. Douchen is niet mogelijk.Het parcours is verhard.Overige bijzonderheden:  De opbrengst is bestemd voor een goed doel. Zie hiervoor de website. \n  \n  \n 
URL:https://hardloopevenementen.com/loopagenda/genneper-parken-nieuwjaarsloop-eindhoven-nb-3/
END:VEVENT
BEGIN:VEVENT
DTSTART;VALUE=DATE:20091129
DTEND;VALUE=DATE:20091130
DTSTAMP:20260420T151340
CREATED:20170809T103346Z
LAST-MODIFIED:20190423T095655Z
UID:1391-1259452800-1259452800@hardloopevenementen.com
SUMMARY:HCM Karpencross Eindhoven (NB)
DESCRIPTION:Doe mee met het hardloopevenement HCM Karpencross te Eindhoven (NB) op zo 29 nov 2009. De volgende afstanden staan op het programma: 0\,8 km – 1\,4 km – 1\,6 km – 2\,2 km – 2\,3 km – 2\,8 km – 3\,5 km – 4\,4 km – 5\,5 km – 6\,5 km – 8\,6 km hardlopen. Wilt u inschrijven voor dit loopevenement?  Raadpleeg hiervoor dan de website van de organisatie\nDe uitslagen van deze hardloopwedstrijd zijn te raadplegen via dezelfde website of via de bekende websites zoals uitslagen.nl\, runtimer en mylaps. Doet u mee met dit evenement\, zorg dan dat u goed voorbereid aan de start staat! Met een goed trainingsschema komt u een heel eind. Train bijvoorbeeld met start to run van Evy Gruyaert. Download de start to run mp3 bestanden en zet ze op uw telefoon. Oortjes in\, hit the play button en en rennen maar! \n\n\n\n\nMeer informatie over HCM Karpencross op Hardloopkalender.nl  \n2\,3-4\,4-6\,5-8\,6 km 10:30 uur\, 6\,5-8\,6 km 11:30 uur\, 5\,5 km 12:15 uur\, 3\,5 km 12:45 uur\, 2\,8 km 13:05 uur\, 2\,2 km 13:20 uur\, 1\,6 km 13:35 uur\, 0\,8 km 13:50 uur\, 0\,8 km 13:55 uur\, 1\,4 km 14:00 uur\, 1\,4 km 14:05 uur \n  \n  \n 
URL:https://hardloopevenementen.com/loopagenda/hcm-karpencross-eindhoven-nb/
END:VEVENT
BEGIN:VEVENT
DTSTART;VALUE=DATE:20090104
DTEND;VALUE=DATE:20090105
DTSTAMP:20260420T151340
CREATED:20170426T091812Z
LAST-MODIFIED:20190423T100416Z
UID:2983-1231027200-1231027200@hardloopevenementen.com
SUMMARY:Genneper Parken trimloop Eindhoven (NB)
DESCRIPTION:Doe mee met het hardloopevenement Genneper Parken trimloop te Eindhoven (NB) op zo 04 jan 2009. De volgende afstanden staan op het programma: 2 km – 5\,5 km – 8 km – 14 km hardlopen. Wilt u inschrijven voor dit loopevenement?  Raadpleeg hiervoor dan de website van de organisatie\nDe uitslagen van deze hardloopwedstrijd zijn te raadplegen via dezelfde website of via de bekende websites zoals uitslagen.nl\, runtimer en mylaps. Doet u mee met dit evenement\, zorg dan dat u goed voorbereid aan de start staat! Met een goed trainingsschema komt u een heel eind. Train bijvoorbeeld met start to run van Evy Gruyaert. Download de start to run mp3 bestanden en zet ze op uw telefoon. Oortjes in\, hit the play button en en rennen maar! \n\n\n\n\nMeer informatie over Genneper Parken trimloop op Hardloopkalender.nl  \n2 km 11:00 uur\, 5\,5 km 11:15 uur\, 8-14 km 11:25 uur \n  \n  \n 
URL:https://hardloopevenementen.com/loopagenda/genneper-parken-trimloop-eindhoven-nb/
END:VEVENT
END:VCALENDAR