BEGIN:VCALENDAR
VERSION:2.0
PRODID:-//Hardloopevenementen - ECPv6.15.14//NONSGML v1.0//EN
CALSCALE:GREGORIAN
METHOD:PUBLISH
X-WR-CALNAME:Hardloopevenementen
X-ORIGINAL-URL:https://hardloopevenementen.com
X-WR-CALDESC:Evenementen voor Hardloopevenementen
REFRESH-INTERVAL;VALUE=DURATION:PT1H
X-Robots-Tag:noindex
X-PUBLISHED-TTL:PT1H
BEGIN:VTIMEZONE
TZID:UTC
BEGIN:STANDARD
TZOFFSETFROM:+0000
TZOFFSETTO:+0000
TZNAME:UTC
DTSTART:20130101T000000
END:STANDARD
END:VTIMEZONE
BEGIN:VEVENT
DTSTART;VALUE=DATE:20140622
DTEND;VALUE=DATE:20140623
DTSTAMP:20260425T002746
CREATED:20180206T203152Z
LAST-MODIFIED:20190423T105353Z
UID:33762-1403395200-1403395200@hardloopevenementen.com
SUMMARY:Zomerklassieker van Brabant Roosendaal (NB)
DESCRIPTION:Doe mee met het hardloopevenement Zomerklassieker van Brabant te Roosendaal (NB) op zo 22 jun 2014. De volgende afstanden staan op het programma: 0\,7 km – 1\,4 km – 6\,4 km – 10 km – halve marathon hardlopen. Wilt u inschrijven voor dit loopevenement?  Raadpleeg hiervoor dan de website van de organisatie\nDe uitslagen van deze hardloopwedstrijd zijn te raadplegen via dezelfde website of via de bekende websites zoals uitslagen.nl\, runtimer en mylaps. Doet u mee met dit evenement\, zorg dan dat u goed voorbereid aan de start staat! Met een goed trainingsschema komt u een heel eind. Train bijvoorbeeld met start to run van Evy Gruyaert. Download de start to run mp3 bestanden en zet ze op uw telefoon. Oortjes in\, hit the play button en en rennen maar! \n\n\n\n\nMeer informatie over Zomerklassieker van Brabant op Hardloopkalender.nl  \nGezellig loopevenement met een dag vullend programma.  Met start en finish in het centrum van Roosendaal.  Halve marathon is door de AU gecertificeerd.  Tevens een wandelloop voor wandelaars en nordic walkers.    Het loopevenement Zomerklassieker van Brabant te Roosendaal vindt plaats op zondag 22 juni 2014. De loop wordt georganisseerd door THOR. Klik hier voor het adres van de start (Google Maps).Bijzonderheden: geldprijs voor snelste man en vrouw\, bonus bij een parcoursrecord. \n  \n  \n 
URL:https://hardloopevenementen.com/loopagenda/zomerklassieker-van-brabant-roosendaal-nb/
END:VEVENT
END:VCALENDAR