BEGIN:VCALENDAR
VERSION:2.0
PRODID:-//Hardloopevenementen - ECPv6.15.14//NONSGML v1.0//EN
CALSCALE:GREGORIAN
METHOD:PUBLISH
X-WR-CALNAME:Hardloopevenementen
X-ORIGINAL-URL:https://hardloopevenementen.com
X-WR-CALDESC:Evenementen voor Hardloopevenementen
REFRESH-INTERVAL;VALUE=DURATION:PT1H
X-Robots-Tag:noindex
X-PUBLISHED-TTL:PT1H
BEGIN:VTIMEZONE
TZID:UTC
BEGIN:STANDARD
TZOFFSETFROM:+0000
TZOFFSETTO:+0000
TZNAME:UTC
DTSTART:20140101T000000
END:STANDARD
END:VTIMEZONE
BEGIN:VEVENT
DTSTART;VALUE=DATE:20160911
DTEND;VALUE=DATE:20160912
DTSTAMP:20260425T155420
CREATED:20170213T122521Z
LAST-MODIFIED:20190423T112225Z
UID:12010-1473552000-1473552000@hardloopevenementen.com
SUMMARY:147e Runnersworld Run Classic Leiden (ZH)
DESCRIPTION:Doe mee met het hardloopevenement 147e Runnersworld Run Classic te Leiden (ZH) op zo 11 sep 2016. De volgende afstanden staan op het programma: 3 km – 6 km – 10 km – 10 Engelse mijl – halve marathon hardlopen. Wilt u inschrijven voor dit loopevenement?  Raadpleeg hiervoor dan de website van de organisatie\nDe uitslagen van deze hardloopwedstrijd zijn te raadplegen via dezelfde website of via de bekende websites zoals uitslagen.nl\, runtimer en mylaps. Doet u mee met dit evenement\, zorg dan dat u goed voorbereid aan de start staat! Met een goed trainingsschema komt u een heel eind. Train bijvoorbeeld met start to run van Evy Gruyaert. Download de start to run mp3 bestanden en zet ze op uw telefoon. Oortjes in\, hit the play button en en rennen maar! \n\n\n\n\nMeer informatie over 147e Runnersworld Run Classic op Hardloopkalender.nl  \n  \n  \n 
URL:https://hardloopevenementen.com/loopagenda/147e-runnersworld-run-classic-leiden-zh/
END:VEVENT
BEGIN:VEVENT
DTSTART;VALUE=DATE:20150110
DTEND;VALUE=DATE:20150111
DTSTAMP:20260425T155420
CREATED:20140107T092550Z
LAST-MODIFIED:20190423T111511Z
UID:11247-1420848000-1420848000@hardloopevenementen.com
SUMMARY:147e Zegerplasloop Alphen aan den Rijn (ZH)
DESCRIPTION:Doe mee met het hardloopevenement 147e Zegerplasloop te Alphen aan den Rijn (ZH) op za 10 jan 2015. De volgende afstanden staan op het programma: 0\,4 km – 1 km – 2 km – 5 km – 10 km – 15 km – 20 km hardlopen. Wilt u inschrijven voor dit loopevenement?  Raadpleeg hiervoor dan de website van de organisatie\nDe uitslagen van deze hardloopwedstrijd zijn te raadplegen via dezelfde website of via de bekende websites zoals uitslagen.nl\, runtimer en mylaps. Doet u mee met dit evenement\, zorg dan dat u goed voorbereid aan de start staat! Met een goed trainingsschema komt u een heel eind. Train bijvoorbeeld met start to run van Evy Gruyaert. Download de start to run mp3 bestanden en zet ze op uw telefoon. Oortjes in\, hit the play button en en rennen maar! \n\n\n\n\nMeer informatie over 147e Zegerplasloop op Hardloopkalender.nl  \nHet loopevenement 147e Zegerplasloop te Alphen Aan Den Rijn vindt plaats op zaterdag 10 januari 2015. \n  \n  \n 
URL:https://hardloopevenementen.com/loopagenda/147e-zegerplasloop-alphen-aan-den-rijn-zh/
END:VEVENT
END:VCALENDAR