BEGIN:VCALENDAR
VERSION:2.0
PRODID:-//Hardloopevenementen - ECPv6.15.14//NONSGML v1.0//EN
CALSCALE:GREGORIAN
METHOD:PUBLISH
X-WR-CALNAME:Hardloopevenementen
X-ORIGINAL-URL:https://hardloopevenementen.com
X-WR-CALDESC:Evenementen voor Hardloopevenementen
REFRESH-INTERVAL;VALUE=DURATION:PT1H
X-Robots-Tag:noindex
X-PUBLISHED-TTL:PT1H
BEGIN:VTIMEZONE
TZID:UTC
BEGIN:STANDARD
TZOFFSETFROM:+0000
TZOFFSETTO:+0000
TZNAME:UTC
DTSTART:20080101T000000
END:STANDARD
END:VTIMEZONE
BEGIN:VEVENT
DTSTART;VALUE=DATE:20091226
DTEND;VALUE=DATE:20091227
DTSTAMP:20260425T232608
CREATED:20130611T141554Z
LAST-MODIFIED:20190423T095613Z
UID:1257-1261785600-1261785600@hardloopevenementen.com
SUMMARY:Kerstloop STG Bergen Bergen (LI)
DESCRIPTION:Doe mee met het hardloopevenement Kerstloop STG Bergen te Bergen (LI) op za 26 dec 2009. De volgende afstanden staan op het programma: 5 km – 10 km – 15 km hardlopen. Wilt u inschrijven voor dit loopevenement?  Raadpleeg hiervoor dan de website van de organisatie\nDe uitslagen van deze hardloopwedstrijd zijn te raadplegen via dezelfde website of via de bekende websites zoals uitslagen.nl\, runtimer en mylaps. Doet u mee met dit evenement\, zorg dan dat u goed voorbereid aan de start staat! Met een goed trainingsschema komt u een heel eind. Train bijvoorbeeld met start to run van Evy Gruyaert. Download de start to run mp3 bestanden en zet ze op uw telefoon. Oortjes in\, hit the play button en en rennen maar! \n\n\n\n\nMeer informatie over Kerstloop STG Bergen op Hardloopkalender.nl  \n15 km 10:29 uur\, 5 km 10:30 uur\, 10 km 10:35 uur \n  \n  \n 
URL:https://hardloopevenementen.com/loopagenda/kerstloop-stg-bergen-bergen-li/
END:VEVENT
BEGIN:VEVENT
DTSTART;VALUE=DATE:20091101
DTEND;VALUE=DATE:20091102
DTSTAMP:20260425T232608
CREATED:20070517T094939Z
LAST-MODIFIED:20190423T095742Z
UID:1531-1257033600-1257033600@hardloopevenementen.com
SUMMARY:Trimloop Bergerbos Bergen (LI)
DESCRIPTION:Doe mee met het hardloopevenement Trimloop Bergerbos te Bergen (LI) op zo 01 nov 2009. De volgende afstanden staan op het programma: 5 km – 10 km – 15 km hardlopen. Wilt u inschrijven voor dit loopevenement?  Raadpleeg hiervoor dan de website van de organisatie\nDe uitslagen van deze hardloopwedstrijd zijn te raadplegen via dezelfde website of via de bekende websites zoals uitslagen.nl\, runtimer en mylaps. Doet u mee met dit evenement\, zorg dan dat u goed voorbereid aan de start staat! Met een goed trainingsschema komt u een heel eind. Train bijvoorbeeld met start to run van Evy Gruyaert. Download de start to run mp3 bestanden en zet ze op uw telefoon. Oortjes in\, hit the play button en en rennen maar! \n\n\n\n\nMeer informatie over Trimloop Bergerbos op Hardloopkalender.nl  \n5-15 km 10:30 uur\, 10 km 10:35 uur \n  \n  \n 
URL:https://hardloopevenementen.com/loopagenda/trimloop-bergerbos-bergen-li/
END:VEVENT
BEGIN:VEVENT
DTSTART;VALUE=DATE:20090927
DTEND;VALUE=DATE:20090928
DTSTAMP:20260425T232608
CREATED:20090124T153739Z
LAST-MODIFIED:20190423T095828Z
UID:1713-1254009600-1254009600@hardloopevenementen.com
SUMMARY:Trimloop Bergerbos Bergen (LI)
DESCRIPTION:Doe mee met het hardloopevenement Trimloop Bergerbos te Bergen (LI) op zo 27 sep 2009. De volgende afstanden staan op het programma: 5 km – 10 km – 15 km hardlopen. Wilt u inschrijven voor dit loopevenement?  Raadpleeg hiervoor dan de website van de organisatie\nDe uitslagen van deze hardloopwedstrijd zijn te raadplegen via dezelfde website of via de bekende websites zoals uitslagen.nl\, runtimer en mylaps. Doet u mee met dit evenement\, zorg dan dat u goed voorbereid aan de start staat! Met een goed trainingsschema komt u een heel eind. Train bijvoorbeeld met start to run van Evy Gruyaert. Download de start to run mp3 bestanden en zet ze op uw telefoon. Oortjes in\, hit the play button en en rennen maar! \n\n\n\n\nMeer informatie over Trimloop Bergerbos op Hardloopkalender.nl  \n5-15 km 10:30 uur\, 10 km 10:35 uur \n  \n  \n 
URL:https://hardloopevenementen.com/loopagenda/trimloop-bergerbos-bergen-li-2/
END:VEVENT
END:VCALENDAR