BEGIN:VCALENDAR
VERSION:2.0
PRODID:-//Hardloopevenementen - ECPv6.15.14//NONSGML v1.0//EN
CALSCALE:GREGORIAN
METHOD:PUBLISH
X-ORIGINAL-URL:https://hardloopevenementen.com
X-WR-CALDESC:Evenementen voor Hardloopevenementen
REFRESH-INTERVAL;VALUE=DURATION:PT1H
X-Robots-Tag:noindex
X-PUBLISHED-TTL:PT1H
BEGIN:VTIMEZONE
TZID:UTC
BEGIN:STANDARD
TZOFFSETFROM:+0000
TZOFFSETTO:+0000
TZNAME:UTC
DTSTART:20060101T000000
END:STANDARD
END:VTIMEZONE
BEGIN:VEVENT
DTSTART;VALUE=DATE:20080530
DTEND;VALUE=DATE:20080531
DTSTAMP:20260426T011644
CREATED:20100709T203716Z
LAST-MODIFIED:20190423T094710Z
UID:19640-1212105600-1212105600@hardloopevenementen.com
SUMMARY:Veluwezoomloop Dieren
DESCRIPTION:Doe mee met het hardloopevenement Veluwezoomloop te Dieren op vr 30 mei 2008. De volgende afstanden staan op het programma: 0\,4 km – 0\,8 km – 1\,5 km – 3 km – 10 km – 15 km hardlopen. Wilt u inschrijven voor dit loopevenement?  Raadpleeg hiervoor dan de website van de organisatie\nDe uitslagen van deze hardloopwedstrijd zijn te raadplegen via dezelfde website of via de bekende websites zoals uitslagen.nl\, runtimer en mylaps. Doet u mee met dit evenement\, zorg dan dat u goed voorbereid aan de start staat! Met een goed trainingsschema komt u een heel eind. Train bijvoorbeeld met start to run van Evy Gruyaert. Download de start to run mp3 bestanden en zet ze op uw telefoon. Oortjes in\, hit the play button en en rennen maar! \n\n\n\n\nMeer informatie over Veluwezoomloop op Hardloopkalender.nl  \n11e Veluwezoomloop 30 mei 2008     Vanaf 2007 heet de Nieuwlandloop Veluwezoomloop.  Een naam die meer recht doet aan de inhoud van de loop\, door de schitterende bossen van Nationaal Park de Veluwezoom. De start blijft uiteraard vanaf de atletiekbaan op sportpark Nieuwland.     Op een mooie vrijdagavond eind mei organiseren we de Veluwezoomloop voor jong en oud.     Jeugd  De jeugd leeft zich uit op onze atletiekbaan op sportpark Nieuwland aan de Kolonieweg in Dieren in afstanden die variëren van 400 tot 1500 meter.      Inschrijven kan vanaf 18.00 uur en kost voor de afstanden t m 1200 meter: 1\,50 euro. Ben je niet ouder dan 7 jaar dan kun je de 400 meter lopen. We starten om 18.30.T m 9 jaar loop je 2 rondes\, dus 800 meter en die start om 18.40. Jeugd t m 12 jaar loopt bijna 4 rondjes\, de 1500 meter en start om 18.50          Je kunt ook nog meedoen aan de 3.000 meter\, die gaat door het bos en dan start je tegelijk met de senioren om 19.40. Voor de beste drie op iedere afstand voor zowel de jongens als de meisjes ligt een mooie medaille klaar.     Senioren  Senioren kunnen kiezen uit 3\, 10 en 15 kilometer.   Inschrijfkosten bedragen euro 3\,50.    De start is om 19.30 op de weg\, naast de atletiekbaan\, om direct hierna de schitterende bossen van Nationaal Park De Veluwezoom in te duiken. Over geasfalteerde fietspaden gaat het door geaccidenteerd terrein. De belangrijkste herinnering is en schitterende loop door mooie natuur. Het parcours is exact gemeten en voorzien van kilometeraanduiding.     Uiteraard zijn er onderweg drinkposten en is er EHBO aanwezig. Na afloop is er gelegenheid om te douchen. Onder de deelnemers worden leuke prijzen verloot. \n  \n  \n 
URL:https://hardloopevenementen.com/loopagenda/veluwezoomloop-dieren-2/
END:VEVENT
BEGIN:VEVENT
DTSTART;VALUE=DATE:20080209
DTEND;VALUE=DATE:20080210
DTSTAMP:20260426T011644
CREATED:20121215T132355Z
LAST-MODIFIED:20190423T094920Z
UID:20213-1202515200-1202515200@hardloopevenementen.com
SUMMARY:Jutbergloop Dieren
DESCRIPTION:Doe mee met het hardloopevenement Jutbergloop te Dieren op za 09 feb 2008. De volgende afstanden staan op het programma: 0\,7 km – 1\,5 km – 3 km – 6 km – 9 km – 12 km hardlopen. Wilt u inschrijven voor dit loopevenement?  Raadpleeg hiervoor dan de website van de organisatie\nDe uitslagen van deze hardloopwedstrijd zijn te raadplegen via dezelfde website of via de bekende websites zoals uitslagen.nl\, runtimer en mylaps. Doet u mee met dit evenement\, zorg dan dat u goed voorbereid aan de start staat! Met een goed trainingsschema komt u een heel eind. Train bijvoorbeeld met start to run van Evy Gruyaert. Download de start to run mp3 bestanden en zet ze op uw telefoon. Oortjes in\, hit the play button en en rennen maar! \n\n\n\n\nMeer informatie over Jutbergloop op Hardloopkalender.nl  \n32e Jutbergloop: zaterdag 9 februari 2008     De Jutbergloop is een prestatieloop\, over onverharde bospaden achter Vakantiedorp De Jutberg tussen Dieren en Laag Soeren.     Jeugd  We beginnen met twee afstanden voor de jeugd\, 750 en 1500 meter en daarna de senioren die 3 \,6\, 9 of 12 kilometer lopen.     De jeugdlopen hebben hun eigen parcours en starten om 9.30. De eerste drie op iedere afstand\, zowel jongens als meisjes winnen medaille. Kosten jeugdloop: 2\,00 p.p.     Na aflloop een lekkere kop warme chocolademelk       Senioren  De senioren lopen: 3\, 6\, 9 en 12 kilometer\, de route bestaat uit rondes van 3 kilometer. Al deze afstanden starten om 10.00 uur. Kosten  3\,00 p.p.     Inschrijven kan tot 15 minuten voor de start. Uiteraard is uw startnummmer weer een lotnummer.     Voor iedere deelnemer staat na afloop een dampende kop snert klaar\, of een warme kop chocolademelk. \n  \n  \n 
URL:https://hardloopevenementen.com/loopagenda/jutbergloop-dieren/
END:VEVENT
BEGIN:VEVENT
DTSTART;VALUE=DATE:20070601
DTEND;VALUE=DATE:20070602
DTSTAMP:20260426T011644
CREATED:20131223T091759Z
LAST-MODIFIED:20190423T093952Z
UID:509-1180656000-1180656000@hardloopevenementen.com
SUMMARY:Veluwezoomloop Dieren
DESCRIPTION:Doe mee met het hardloopevenement Veluwezoomloop te Dieren op vr 01 jun 2007. De volgende afstanden staan op het programma: 0\,4 km – 0\,8 km – 1\,5 km – 3 km – 8\,7 km – 15 km hardlopen. Wilt u inschrijven voor dit loopevenement?  Raadpleeg hiervoor dan de website van de organisatie\nDe uitslagen van deze hardloopwedstrijd zijn te raadplegen via dezelfde website of via de bekende websites zoals uitslagen.nl\, runtimer en mylaps. Doet u mee met dit evenement\, zorg dan dat u goed voorbereid aan de start staat! Met een goed trainingsschema komt u een heel eind. Train bijvoorbeeld met start to run van Evy Gruyaert. Download de start to run mp3 bestanden en zet ze op uw telefoon. Oortjes in\, hit the play button en en rennen maar! \n\n\n\n\nMeer informatie over Veluwezoomloop op Hardloopkalender.nl  \n  \n  \n 
URL:https://hardloopevenementen.com/loopagenda/veluwezoomloop-dieren/
END:VEVENT
END:VCALENDAR