BEGIN:VCALENDAR
VERSION:2.0
PRODID:-//Hardloopevenementen - ECPv6.15.14//NONSGML v1.0//EN
CALSCALE:GREGORIAN
METHOD:PUBLISH
X-ORIGINAL-URL:https://hardloopevenementen.com
X-WR-CALDESC:Evenementen voor Hardloopevenementen
REFRESH-INTERVAL;VALUE=DURATION:PT1H
X-Robots-Tag:noindex
X-PUBLISHED-TTL:PT1H
BEGIN:VTIMEZONE
TZID:UTC
BEGIN:STANDARD
TZOFFSETFROM:+0000
TZOFFSETTO:+0000
TZNAME:UTC
DTSTART:20080101T000000
END:STANDARD
END:VTIMEZONE
BEGIN:VEVENT
DTSTART;VALUE=DATE:20181117
DTEND;VALUE=DATE:20181118
DTSTAMP:20260420T161629
CREATED:20071218T083723Z
LAST-MODIFIED:20190423T120130Z
UID:15648-1542412800-1542412800@hardloopevenementen.com
SUMMARY:RUNFORESTRUN Holtingerveld Havelte\, gemeente Westerveld (DR)
DESCRIPTION:Doe mee met het hardloopevenement RUNFORESTRUN Holtingerveld te Havelte\, gemeente Westerveld (DR) op za 17 nov 2018. De volgende afstanden staan op het programma: 15 km – 30 km hardlopen. Wilt u inschrijven voor dit loopevenement?  Raadpleeg hiervoor dan de website van de organisatie\nDe uitslagen van deze hardloopwedstrijd zijn te raadplegen via dezelfde website of via de bekende websites zoals uitslagen.nl\, runtimer en mylaps. Doet u mee met dit evenement\, zorg dan dat u goed voorbereid aan de start staat! Met een goed trainingsschema komt u een heel eind. Train bijvoorbeeld met start to run van Evy Gruyaert. Download de start to run mp3 bestanden en zet ze op uw telefoon. Oortjes in\, hit the play button en en rennen maar! \n\n\n\n\nMeer informatie over RUNFORESTRUN Holtingerveld op Hardloopkalender.nl  \nTrailrun \n  \n  \n 
URL:https://hardloopevenementen.com/loopagenda/runforestrun-holtingerveld-havelte-gemeente-westerveld-dr-4/
END:VEVENT
BEGIN:VEVENT
DTSTART;VALUE=DATE:20171118
DTEND;VALUE=DATE:20171119
DTSTAMP:20260420T161629
CREATED:20180106T165404Z
LAST-MODIFIED:20190423T114238Z
UID:13736-1510963200-1510963200@hardloopevenementen.com
SUMMARY:RUNFORESTRUN Holtingerveld Havelte\, gemeente Westerveld (DR)
DESCRIPTION:Doe mee met het hardloopevenement RUNFORESTRUN Holtingerveld te Havelte\, gemeente Westerveld (DR) op za 18 nov 2017. De volgende afstanden staan op het programma: 15 km – 30 km hardlopen. Wilt u inschrijven voor dit loopevenement?  Raadpleeg hiervoor dan de website van de organisatie\nDe uitslagen van deze hardloopwedstrijd zijn te raadplegen via dezelfde website of via de bekende websites zoals uitslagen.nl\, runtimer en mylaps. Doet u mee met dit evenement\, zorg dan dat u goed voorbereid aan de start staat! Met een goed trainingsschema komt u een heel eind. Train bijvoorbeeld met start to run van Evy Gruyaert. Download de start to run mp3 bestanden en zet ze op uw telefoon. Oortjes in\, hit the play button en en rennen maar! \n\n\n\n\nMeer informatie over RUNFORESTRUN Holtingerveld op Hardloopkalender.nl  \nTrailrun \n  \n  \n 
URL:https://hardloopevenementen.com/loopagenda/runforestrun-holtingerveld-havelte-gemeente-westerveld-dr-3/
END:VEVENT
BEGIN:VEVENT
DTSTART;VALUE=DATE:20161119
DTEND;VALUE=DATE:20161120
DTSTAMP:20260420T161629
CREATED:20150309T114056Z
LAST-MODIFIED:20190423T112045Z
UID:11551-1479513600-1479513600@hardloopevenementen.com
SUMMARY:RUNFORESTRUN Holtingerveld Havelte\, gemeente Westerveld (DR)
DESCRIPTION:Doe mee met het hardloopevenement RUNFORESTRUN Holtingerveld te Havelte\, gemeente Westerveld (DR) op za 19 nov 2016. De volgende afstanden staan op het programma: 15 km – 30 km hardlopen. Wilt u inschrijven voor dit loopevenement?  Raadpleeg hiervoor dan de website van de organisatie\nDe uitslagen van deze hardloopwedstrijd zijn te raadplegen via dezelfde website of via de bekende websites zoals uitslagen.nl\, runtimer en mylaps. Doet u mee met dit evenement\, zorg dan dat u goed voorbereid aan de start staat! Met een goed trainingsschema komt u een heel eind. Train bijvoorbeeld met start to run van Evy Gruyaert. Download de start to run mp3 bestanden en zet ze op uw telefoon. Oortjes in\, hit the play button en en rennen maar! \n\n\n\n\nMeer informatie over RUNFORESTRUN Holtingerveld op Hardloopkalender.nl  \nTrailrun (volledig onverhard) \n  \n  \n 
URL:https://hardloopevenementen.com/loopagenda/runforestrun-holtingerveld-havelte-gemeente-westerveld-dr-2/
END:VEVENT
BEGIN:VEVENT
DTSTART;VALUE=DATE:20151120
DTEND;VALUE=DATE:20151121
DTSTAMP:20260420T161629
CREATED:20131121T164913Z
LAST-MODIFIED:20190423T110721Z
UID:9371-1447977600-1447977600@hardloopevenementen.com
SUMMARY:RUNFORESTRUN Holtingerveld Havelte\, gemeente Westerveld (DR)
DESCRIPTION:Doe mee met het hardloopevenement RUNFORESTRUN Holtingerveld te Havelte\, gemeente Westerveld (DR) op vr 20 nov 2015. De volgende afstanden staan op het programma: 15 km – 30 km hardlopen. Wilt u inschrijven voor dit loopevenement?  Raadpleeg hiervoor dan de website van de organisatie\nDe uitslagen van deze hardloopwedstrijd zijn te raadplegen via dezelfde website of via de bekende websites zoals uitslagen.nl\, runtimer en mylaps. Doet u mee met dit evenement\, zorg dan dat u goed voorbereid aan de start staat! Met een goed trainingsschema komt u een heel eind. Train bijvoorbeeld met start to run van Evy Gruyaert. Download de start to run mp3 bestanden en zet ze op uw telefoon. Oortjes in\, hit the play button en en rennen maar! \n\n\n\n\nMeer informatie over RUNFORESTRUN Holtingerveld op Hardloopkalender.nl  \nTrailrun \n  \n  \n 
URL:https://hardloopevenementen.com/loopagenda/runforestrun-holtingerveld-havelte-gemeente-westerveld-dr/
END:VEVENT
BEGIN:VEVENT
DTSTART;VALUE=DATE:20120128
DTEND;VALUE=DATE:20120129
DTSTAMP:20260420T161629
CREATED:20151028T071317Z
LAST-MODIFIED:20190423T103458Z
UID:28973-1327708800-1327708800@hardloopevenementen.com
SUMMARY:Nimberg Hunebedloop Havelte\, gemeente Westerveld (DR)
DESCRIPTION:Doe mee met het hardloopevenement Nimberg Hunebedloop te Havelte\, gemeente Westerveld (DR) op za 28 jan 2012. De volgende afstanden staan op het programma: 8 km – 15 km hardlopen. Wilt u inschrijven voor dit loopevenement?  Raadpleeg hiervoor dan de website van de organisatie\nDe uitslagen van deze hardloopwedstrijd zijn te raadplegen via dezelfde website of via de bekende websites zoals uitslagen.nl\, runtimer en mylaps. Doet u mee met dit evenement\, zorg dan dat u goed voorbereid aan de start staat! Met een goed trainingsschema komt u een heel eind. Train bijvoorbeeld met start to run van Evy Gruyaert. Download de start to run mp3 bestanden en zet ze op uw telefoon. Oortjes in\, hit the play button en en rennen maar! \n\n\n\n\nMeer informatie over Nimberg Hunebedloop op Hardloopkalender.nl  \nHet loopevenement Nimberg Hunebedloop te Havelte vindt plaats op zaterdag 28 januari 2012. De loop wordt georganiseerd door McDonald's AV de Sprinter. Inschrijven is mogelijk vanaf 19 oktober 2011. Klik hier voor het adres van de start (Google Maps).Er is EHBO aanwezig. Afstand SoortloopInschrijfgeldStarttijdInfo15 km5\,0012:00uur8 km5\,0012:00uur.Voor meer informatie:B. Hartsuikerorganisatie.avdesprinter@gmail.com0522251241http:  www.avdesprinter.nl \n  \n  \n 
URL:https://hardloopevenementen.com/loopagenda/nimberg-hunebedloop-havelte-gemeente-westerveld-dr-2/
END:VEVENT
BEGIN:VEVENT
DTSTART;VALUE=DATE:20090131
DTEND;VALUE=DATE:20090201
DTSTAMP:20260420T161629
CREATED:20110507T095157Z
LAST-MODIFIED:20190423T100337Z
UID:2844-1233360000-1233360000@hardloopevenementen.com
SUMMARY:Hunebedloop Havelte\, gemeente Westerveld (DR)
DESCRIPTION:Doe mee met het hardloopevenement Hunebedloop te Havelte\, gemeente Westerveld (DR) op za 31 jan 2009. De volgende afstanden staan op het programma: 15 km hardlopen. Wilt u inschrijven voor dit loopevenement?  Raadpleeg hiervoor dan de website van de organisatie\nDe uitslagen van deze hardloopwedstrijd zijn te raadplegen via dezelfde website of via de bekende websites zoals uitslagen.nl\, runtimer en mylaps. Doet u mee met dit evenement\, zorg dan dat u goed voorbereid aan de start staat! Met een goed trainingsschema komt u een heel eind. Train bijvoorbeeld met start to run van Evy Gruyaert. Download de start to run mp3 bestanden en zet ze op uw telefoon. Oortjes in\, hit the play button en en rennen maar! \n\n\n\n\nMeer informatie over Hunebedloop op Hardloopkalender.nl  \n15 km 12:00 uur \n  \n  \n 
URL:https://hardloopevenementen.com/loopagenda/hunebedloop-havelte-gemeente-westerveld-dr/
END:VEVENT
END:VCALENDAR